{"text_format":"1","workbook":"xlsx","n_sheets":4,"sheets":["маршрут 12,10"," розрахунок12,10","додаток12,10","variablesList"],"not_rendered":{"charts":0,"images":0,"macros":1,"external_links":0,"defined_names":4,"comments":0,"pivot_tables":0},"unopened":[],"bounds":{"document_bytes":16777216,"sheet_cells":100000,"rows_first":2000,"rows_last":500,"rows_between":2000,"halvings":0,"cell_chars":16384,"cell_head_chars":4096},"cells_cut":0,"cells_raw":0,"read":"whole","date_system":"1900"}

{"sheet":"маршрут 12,10","index":0,"n_rows":51,"n_cols":31,"rows_kept":51,"cut":false,"hidden":false,"merged":[[0,6,0,24],[1,6,1,24],[0,25,0,27],[4,23,4,24],[8,12,9,12],[4,21,4,22],[8,14,8,16],[8,17,8,19],[8,20,8,22],[7,14,7,22],[2,6,2,24],[4,26,4,27],[8,7,9,7],[6,1,7,12],[7,13,9,13],[6,13,6,22],[47,1,47,26],[43,20,43,27],[42,20,42,27],[41,20,41,27],[6,27,9,27],[8,8,9,8],[6,26,9,26],[6,24,9,24],[6,23,9,23],[8,1,9,1],[8,2,9,2],[8,5,9,5],[8,6,9,6],[8,4,9,4],[6,0,9,0],[49,1,49,26],[8,11,9,11],[41,18,42,18],[41,19,42,19],[41,14,42,14],[42,7,42,13],[41,15,42,15],[41,16,42,16],[41,17,42,17],[8,9,9,9],[8,10,9,10],[6,25,9,25],[45,1,45,26],[41,0,41,13],[8,3,9,3]]}
["ПАТ \"УКРТРАНСГАЗ\"",null,null,null,null,null,"ПАСПОРТ ФІЗИКО-ХІМІЧНИХ ПОКАЗНИКІВ ПРИРОДНОГО ГАЗУ  № 12"]
["Філія \"УМГ \"Київтрансгаз\"",null,null,null,null,null,"переданого Красилівським ЛВУМГ та прийнятого  ПАТ \"Хмельницькгаз\""]
["Красилівське ЛВУМГ",null,null,null,null,null,"Маршрут № 12"]
["Вимірювальна хіміко-аналітична лабораторія"]
["Свідоцтво № 27\"Ч\"-17 чинно до 10.02.2020 р.",null,null,null,null,null,null,null,null,null,"по газопроводу КЗУ 2",null,null,null,null,null,null,null,null,null,null,"за період з",null,"2017-10-01",null," по","2017-10-31"]
[]
["Число місяця","Компонентний склад, % мол. ",null,null,null,null,null,null,null,null,null,null,null,"Фізико-хімічні показники газу обчислені на основі компонентного складу, 101,325 кПа",null,null,null,null,null,null,null,null,null,"Температура точки роси за вологою (Р = 3.92 МПа), °С","Температура точки роси за вуглеводнями, °С","Вміст сірководню, г/м3","Вміст меркаптанової сірки, г/м3","Вміст механічних домішок, г/м3"]
[null,null,null,null,null,null,null,null,null,null,null,null,null,"Густина абсолютна, кг/м3,при 20 °С, ","Температура вимірювання/згоряння при  20/25°С"]
[null,"метан, С1","етан, С2","пропан, С3","ізо-бутан, і-С4","н-бутан, н-С4","нео-пентан, нео-С5","ізо-пентан, і-С5","н-пентан, н-С5","гексани та вищі, С6+","кисень, О2","азот, N2","діоксид вуглецю, CО2",null,"Теплота згоряння нижча",null,null,"Теплота згоряння вища",null,null,"Число Воббе вище"]
[null,null,null,null,null,null,null,null,null,null,null,null,null,null," ккал/м³"," МДж/м³","кВт⋅год/м³"," ккал/м³"," МДж/м³","кВт⋅год/м³"," ккал/м³"," МДж/м³","кВт⋅год/м³",null,null,null,null,null,null,null,"  "]
[1,null,null,null,null,null,null,null,null,null,null,null,null,null,{"$f":"P11*238.8459","v":8250},34.54,{"$f":"P11/3.6","v":9.59},{"$f":"S11*238.8459","v":9138},38.26,{"$f":"S11/3.6","v":10.63},null,null,{"$f":"V11/3.6","v":0},null,null,null,null,null,{"$f":"SUM(B11:M11)+$K$42+$N$42","v":0}]
[2,89.773200000000003,4.9485999999999999,1.0996999999999999,0.1192,0.19159999999999999,4.3E-3,5.9400000000000001E-2,4.4299999999999999E-2,7.85E-2,6.1000000000000004E-3,1.7129000000000001,1.9722,0.75180000000000002,8243,34.51,{"$f":"P12/3.6","v":9.59},9129,38.22,{"$f":"S12/3.6","v":10.62},11555,48.38,{"$f":"V12/3.6","v":13.44},-6,-8,null,null,null,100.01]
[3,null,null,null,null,null,null,null,null,null,null,null,null,null,8243,34.51,{"$f":"P13/3.6","v":9.59},9129,38.22,{"$f":"S13/3.6","v":10.62},null,null,{"$f":"V13/3.6","v":0},null,null,null,null,null,0,{"$f":"IF(AC13=100,\"ОК\",\" \")","v":" "}]
[4,null,null,null,null,null,null,null,null,null,null,null,null,null,8243,34.51,9.59,9129,38.22,10.62,null,null,{"$f":"V14/3.6","v":0},null,null,null,null,null,0,{"$f":"IF(AC14=100,\"ОК\",\" \")","v":" "}]
[5,null,null,null,null,null,null,null,null,null,null,null,null,null,8243,34.51,9.59,9129,38.22,10.62,null,null,0,null,null,null,null,null,0," "]
[6,null,null,null,null,null,null,null,null,null,null,null,null,null,8243,34.51,9.59,9129,38.22,10.62,null,null,{"$f":"V16/3.6","v":0},null,null,null,null,null,0," "]
[7,null,null,null,null,null,null,null,null,null,null,null,null,null,8243,34.51,9.59,9129,38.22,10.62,null,null,{"$f":"V17/3.6","v":0},null,null,null,null,null,0," "]
[8,null,null,null,null,null,null,null,null,null,null,null,null,null,8243,34.51,9.59,9129,38.22,10.62,null,null,{"$f":"V18/3.6","v":0},null,null,null,null,null,0," "]
[9,89.588200000000001,4.9592999999999998,1.2219,0.13500000000000001,0.2213,4.4000000000000003E-3,5.4600000000000003E-2,4.9399999999999999E-2,7.9799999999999996E-2,6.4000000000000003E-3,1.7737000000000001,1.9057999999999999,0.75390000000000001,8271,34.630000000000003,9.6199999999999992,9160,38.35,10.65,11576,48.47,{"$f":"V19/3.6","v":13.46},-8.6,-7.7,null,null,null,100,"ОК"]
[10,null,null,null,null,null,null,null,null,null,null,null,null,null,8271,34.630000000000003,9.6199999999999992,9160,38.35,10.65,null,null,{"$f":"V20/3.6","v":0},null,null,null,null,null,0," "]
[11,null,null,null,null,null,null,null,null,null,null,null,null,null,8271,34.630000000000003,9.6199999999999992,9160,38.35,10.65,null,null,{"$f":"V21/3.6","v":0},null,null,null,null,8.0000000000000004E-4,0," "]
[12,null,null,null,null,null,null,null,null,null,null,null,null,null,8271,34.630000000000003,9.6199999999999992,9160,38.35,10.65,null,null,0,null,null,2.0000000000000001E-4,5.9999999999999995E-4,null,0," "]
[13,null,null,null,null,null,null,null,null,null,null,null,null,null,8271,34.630000000000003,9.6199999999999992,9160,38.35,10.65,null,null,{"$f":"V23/3.6","v":0},null,null,null,null,null,0," "]
[14,null,null,null,null,null,null,null,null,null,null,null,null,null,8271,34.630000000000003,9.6199999999999992,9160,38.35,10.65,null,null,{"$f":"V24/3.6","v":0},null,null,null,null,null,0," "]
[15,null,null,null,null,null,null,null,null,null,null,null,null,null,8271,34.630000000000003,9.6199999999999992,9160,38.35,10.65,null,null,0,null,null,null,null,null,0," "]
[16,null,null,null,null,null,null,null,null,null,null,null,null,null,8271,34.630000000000003,9.6199999999999992,9160,38.35,10.65,null,null,{"$f":"V26/3.6","v":0},null,null,null,null,null,0," "]
[17,89.646299999999997,5.03,1.1577,0.12659999999999999,0.20610000000000001,4.3E-3,5.04E-2,4.53E-2,7.46E-2,6.0000000000000001E-3,1.7605999999999999,1.8920999999999999,0.75260000000000005,8262,34.590000000000003,9.61,9148,38.299999999999997,10.64,11574,48.46,{"$f":"V27/3.6","v":13.46},-9,-8,null,null,null,100,"ОК"]
[18,null,null,null,null,null,null,null,null,null,null,null,null,null,8262,34.590000000000003,9.61,9148,38.299999999999997,10.64,null,null,0,null,null,null,null,null,0," "]
[19,null,null,null,null,null,null,null,null,null,null,null,null,null,8262,34.590000000000003,9.61,9148,38.299999999999997,10.64,null,null,0,null,null,null,null,8.0000000000000004E-4,0," "]
[20,null,null,null,null,null,null,null,null,null,null,null,null,null,8262,34.590000000000003,9.61,9148,38.299999999999997,10.64,null,null,{"$f":"V30/3.6","v":0},null,null,null,null,null,0,{"$f":"IF(AC30=100,\"ОК\",\" \")","v":" "}]
[21,null,null,null,null,null,null,null,null,null,null,null,null,null,8262,34.590000000000003,9.61,9148,38.299999999999997,10.64,null,null,{"$f":"V31/3.6","v":0},null,null,null,null,null,0," "]
[22,null,null,null,null,null,null,null,null,null,null,null,null,null,8262,34.590000000000003,9.61,9148,38.299999999999997,10.64,null,null,0,null,null,null,null,null,0," "]
[23,89.819699999999997,4.9775999999999998,1.1153,0.122,0.19950000000000001,4.3E-3,4.9299999999999997E-2,4.3499999999999997E-2,7.0999999999999994E-2,5.8999999999999999E-3,1.7426999999999999,1.8492,0.75080000000000002,8252,34.549999999999997,9.6,9141,38.270000000000003,10.63,11577,48.47,13.46,-10,-9.6,null,null,null,100,{"$f":"IF(AC33=100,\"ОК\",\" \")","v":"ОК"}]
[24,null,null,null,null,null,null,null,null,null,null,null,null,null,8252,34.549999999999997,9.6,9141,38.270000000000003,10.63,null,null,0,null,null,null,null,null,0," "]
[25,null,null,null,null,null,null,null,null,null,null,null,null,null,8252,34.549999999999997,9.6,9141,38.270000000000003,10.63,null,null,0,null,null,null,null,null,0," "]
[26,null,null,null,null,null,null,null,null,null,null,null,null,null,8252,34.549999999999997,9.6,9141,38.270000000000003,{"$f":"S36/3.6","v":10.63},null,null,0,null,null,2.0000000000000001E-4,5.9999999999999995E-4,null,0," "]
[27,null,null,null,null,null,null,null,null,null,null,null,null,null,8252,34.549999999999997,9.6,9141,38.270000000000003,10.63,null,null,{"$f":"V37/3.6","v":0},null,null,null,null,null,0," "]
[28,null,null,null,null,null,null,null,null,null,null,null,null,null,8252,34.549999999999997,9.6,9141,38.270000000000003,10.63,null,null,{"$f":"V38/3.6","v":0},null,null,null,null,null,0," "]
[29,null,null,null,null,null,null,null,null,null,null,null,null,null,8252,34.549999999999997,{"$f":"P39/3.6","v":9.6},9141,38.270000000000003,{"$f":"S39/3.6","v":10.63},null,null,0,null,null,null,null,null,0," "]
[30,89.849599999999995,4.8977000000000004,1.0430999999999999,0.1192,0.1923,4.4000000000000003E-3,4.87E-2,4.2200000000000001E-2,7.0999999999999994E-2,4.7999999999999996E-3,1.6099000000000001,2.117,0.75180000000000002,8226,34.44,{"$f":"P40/3.6","v":9.57},9112,38.15,{"$f":"S40/3.6","v":10.6},11533,48.29,13.41,-10.199999999999999,-9.9,null,null,null,100]
[31,null,null,null,null,null,null,null,null,null,null,null,null,null,8226,34.44,{"$f":"P41/3.6","v":9.57},9112,38.15,{"$f":"S41/3.6","v":10.6},null,null,0,null,null,null,null,null,0," "]
["Вміст одоранта при одоризації становить 16 г на 1 000 м³ газу",null,null,null,null,null,null,null,null,null,null,null,null,null,{"$f":"SUMPRODUCT(O11:O41,' розрахунок12,10'!D7:D37)/' розрахунок12,10'!D38","v":8255},{"$f":"SUMPRODUCT(P11:P41,' розрахунок12,10'!D7:D37)/' розрахунок12,10'!D38","v":34.56},{"$f":"SUMPRODUCT(Q11:Q41,' розрахунок12,10'!D7:D37)/' розрахунок12,10'!D38","v":9.6},{"$f":"SUMPRODUCT(R11:R41,' розрахунок12,10'!D7:D37)/' розрахунок12,10'!D38","v":9143},{"$f":"SUMPRODUCT(S11:S41,' розрахунок12,10'!D7:D37)/' розрахунок12,10'!D38","v":38.28},{"$f":"SUMPRODUCT(T11:T41,' розрахунок12,10'!D7:D37)/' розрахунок12,10'!D38","v":10.63}]
[null,null,null,null,null,null,null,"Середньозважене значення теплоти згоряння:"]
[]
[]
[null,"В.о.начальника управління Красилівського ЛВУМГ                                                                                               Семенюк П.В.                                                                                       "]
[null,null,"Підрозділу підприємства, якому підпорядкована лабораторія",null,null,null,null,null,null,null,null,null,null,null,"прізвище",null,null,"підпис",null,null,null,"дата"]
[null,"Завідувач лабораторією                                                                                                                                             Пілецька С.А.                                                                                                       "]
[null,null,"Лабораторія, де здійснювалось вимірювання газу",null,null,null,null,null,null,null,null,null,null,null,"прізвище",null,null,"підпис",null,null,null,"дата"]
[null,"Начальник служби метрології                                                                                                                                   Мягкий С.В.                                                                                                    "]
[null,null,"Підрозділу, відповідального за облік газу за маршрутом",null,null,null,null,null,null,null,null,null,null,null,"прізвище",null,null,"підпис",null,null,null,"дата"]

{"sheet":" розрахунок12,10","index":1,"n_rows":42,"n_cols":4,"rows_kept":42,"cut":false,"hidden":false,"merged":[[3,3,5,3],[1,0,1,2],[0,0,0,1],[3,0,5,0],[3,1,5,1]]}
[]
["Додаток до Паспорту фізико-хімічних показників природного газу по маршруту № 12"]
[]
["Число місяця","Теплота згоряння вища, МДж/м3","Хмельницька область","Загальний обсяг газу, м3"]
[null,null,"Обсяг газу переданого за добу,  м3 "]
[null,null,"ГРС Цимбалівка"]
[1,38.26,3434,{"$f":"SUM(C7:C7)","v":3434}]
[2,38.22,3083,3083]
[3,38.22,3184,3184]
[4,38.22,3172,3172]
[5,38.22,6154,6154]
[6,38.22,5191,5191]
[7,38.22,6650,6650]
[8,38.22,12895,12895]
[9,38.35,8527,8527]
[10,38.35,15292,15292]
[11,38.35,16328,16328]
[12,38.35,4758,4758]
[13,38.35,5531,5531]
[14,38.35,5113,5113]
[15,38.35,4251,4251]
[16,38.35,8062,8062]
[17,38.299999999999997,12097,12097]
[18,38.299999999999997,18796,18796]
[19,38.299999999999997,26603,26603]
[20,38.299999999999997,20274,20274]
[21,38.299999999999997,16341,16341]
[22,38.299999999999997,25545,25545]
[23,38.270000000000003,40877,40877]
[24,38.270000000000003,24022,24022]
[25,38.270000000000003,28463,28463]
[26,38.270000000000003,17271,17271]
[27,38.270000000000003,25344,25344]
[28,38.270000000000003,26477,26477]
[29,38.270000000000003,28032,28032]
[30,38.15,15743,15743]
[31,38.15,16961,16961]
["Загальний обсяг газу, м3",null,{"$f":"SUM(C7:C37)","v":454471},{"$f":"SUM(D7:D37)","v":454471}]
["Енергія, МДж",null,{"$f":"SUMPRODUCT(B7:B37,C7:C37)","v":17395648.539999999},{"$f":"SUMPRODUCT(B7:B37,D7:D37)","v":17395648.539999999}]
["Теплота згоряння (середньозважене значення за місяць), МДж/м³",null,{"$f":"C39/C38","v":38.28},{"$f":"D39/D38","v":38.28}]
["Теплота згоряння (середньозважене значення за місяць), ккал/м³",null,{"$f":"C40*238.8459","v":9143},{"$f":"D40*238.8459","v":9143}]
["Теплота згоряння (середньозважене значення за місяць), кВт*год./м³",null,{"$f":"C40/3.6","v":10.63},{"$f":"D40/3.6","v":10.63}]

{"sheet":"додаток12,10","index":2,"n_rows":16,"n_cols":6,"rows_kept":16,"cut":false,"hidden":false,"merged":[[0,0,0,1],[6,0,6,1],[3,2,3,4],[3,1,4,1],[3,0,4,0]]}
[]
["Додаток до Паспорту фізико-хімічних показників природного газу №12"]
[]
["Область","ГРС, прямий споживач","Cередньозважене значення вищої теплоти згоряння"]
[null,null," МДж/м³","ккал/м³","кВт*год./м³"]
["Хмельницька область","ГРС Цимбалівка",38.28,9143,10.63]
["Середньозважене значення вищої теплоти згоряння по маршруту № 12",null,38.28,9143,10.63]
[]
[]
[]
["В.о.начальника управління Красилівського ЛВУМГ                        Семенюк П.В.                                                                                       "]
["Підрозділу підприємства, якому підпорядкована лабораторія",null,null,"прізвище","підпис","дата"]
["Завідувач лабораторією                                                                  Пілецька С.А.                                                                                                       "]
["Лабораторія, де здійснювалось вимірювання газу",null,null,"прізвище","підпис","дата"]
["Начальник служби метрології                                                       Мягкий С.В."]
["Підрозділу, відповідального за облік газу за маршрутом",null,null,"прізвище","підпис","дата"]

{"sheet":"variablesList","index":3,"n_rows":3,"n_cols":4,"rows_kept":3,"cut":false,"hidden":true,"merged":[]}
[3,"x:\\gaysin","10, 11, 24, 25, 127, 128, 132, 180, 207, 215","x:\\"]
[null,"x:\\Illinci"]
[null,"x:\\Talne"]