{"text_format":"1","workbook":"xlsx","n_sheets":4,"sheets":["паспорт13,9"," розрахунок13,9","додаток13,9","variablesList"],"not_rendered":{"charts":0,"images":0,"macros":1,"external_links":0,"defined_names":4,"comments":0,"pivot_tables":0},"unopened":[],"bounds":{"document_bytes":16777216,"sheet_cells":100000,"rows_first":2000,"rows_last":500,"rows_between":2000,"halvings":0,"cell_chars":16384,"cell_head_chars":4096},"cells_cut":0,"cells_raw":0,"read":"whole","date_system":"1900"}

{"sheet":"паспорт13,9","index":0,"n_rows":51,"n_cols":31,"rows_kept":51,"cut":false,"hidden":false,"merged":[[0,0,0,2],[1,0,1,3],[2,0,2,3],[3,0,3,4],[4,0,4,5],[49,2,49,27],[4,27,4,28],[4,22,4,23],[4,20,4,21],[4,25,4,26],[41,18,42,18],[41,19,42,19],[41,14,42,14],[42,7,42,13],[41,15,42,15],[41,16,42,16],[41,17,42,17],[41,0,41,13],[43,20,43,27],[42,20,42,27],[41,20,41,27],[0,7,0,25],[0,26,0,28],[1,7,1,25],[2,7,2,25],[6,0,9,0],[8,11,9,11],[8,9,9,9],[8,10,9,10],[6,25,9,25],[8,3,9,3],[6,27,9,27],[8,8,9,8],[6,26,9,26],[6,24,9,24],[6,23,9,23],[8,1,9,1],[47,2,47,27],[8,12,9,12],[8,14,8,16],[8,17,8,19],[8,20,8,22],[8,2,9,2],[8,5,9,5],[8,6,9,6],[8,4,9,4],[45,2,45,27],[7,14,7,22],[8,7,9,7],[6,1,7,12],[7,13,9,13],[6,13,6,22]]}
["ПАТ \"УКРТРАНСГАЗ\"",null,null,null,null,null,null,"ПАСПОРТ ФІЗИКО-ХІМІЧНИХ ПОКАЗНИКІВ ПРИРОДНОГО ГАЗУ  № 13"]
["Філія \"УМГ \"Київтрансгаз\"",null,null,null,null,null,null,"переданого Красилівським ЛВУМГ та прийнятого  ПАТ \"Хмельницькгаз\"  ПАТ \" Шепетівкагаз\" та прямими споживачами: АГНКС Шепетівка"]
["Красилівське ЛВУМГ",null,null,null,null,null,null,"Маршрут № 13"]
["Вимірювальна хіміко-аналітична лабораторія"]
["Свідоцтво № 27-\"Ч\"-17 чинно до 10.02.2020 р.",null,null,null,null,null,null,null,null,null,null,"по газопроводу ДК",null,null,null,null,null,null,null,null,"за період з",null,"2017-09-01",null," по","2017-09-30"]
[]
["Число місяця","Компонентний склад, % мол. ",null,null,null,null,null,null,null,null,null,null,null,"Фізико-хімічні показники газу обчислені на основі компонентного складу, 101,325 кПа",null,null,null,null,null,null,null,null,null,"Температура точки роси за вологою (Р = 3.92 МПа), °С","Температура точки роси за вуглеводнями, °С","Вміст сірководню, г/м3","Вміст меркаптанової сірки, г/м3","Вміст механічних домішок, г/м3"]
[null,null,null,null,null,null,null,null,null,null,null,null,null,"Густина абсолютна, кг/м3,при 20 °С, ","Температура вимірювання/згоряння при  20/25°С"]
[null,"метан, С1","етан, С2","пропан, С3","ізо-бутан, і-С4","н-бутан, н-С4","нео-пентан, нео-С5","ізо-пентан, і-С5","н-пентан, н-С5","гексани та вищі, С6+","кисень, О2","азот, N2","діоксид вуглецю, CО2",null,"Теплота згоряння нижча",null,null,"Теплота згоряння вища",null,null,"Число Воббе вище"]
[null,null,null,null,null,null,null,null,null,null,null,null,null,null," ккал/м³"," МДж/м³","кВт⋅год/м³"," ккал/м³"," МДж/м³","кВт⋅год/м³"," ккал/м³"," МДж/м³","кВт⋅год/м³",null,null,null,null,null,null,null,"  "]
[1,null,null,null,null,null,null,null,null,null,null,null,null,null,{"$f":"P11*238.8459","v":8261.6796810000014},34.590000000000003,{"$f":"P11/3.6","v":9.6083333333333343},{"$f":"S11*238.8459","v":9147.7979699999996},38.299999999999997,{"$f":"S11/3.6","v":10.638888888888888},null,null,{"$f":"V11/3.6","v":0},null,null,null,null,null,{"$f":"SUM(B11:M11)+$K$42+$N$42","v":0}]
[2,null,null,null,null,null,null,null,null,null,null,null,null,null,8261.6796810000014,34.590000000000003,{"$f":"P12/3.6","v":9.6083333333333343},9147.7979699999996,38.299999999999997,{"$f":"S12/3.6","v":10.638888888888888},null,null,{"$f":"V12/3.6","v":0},null,null,null,null,null,0]
[3,null,null,null,null,null,null,null,null,null,null,null,null,null,8261.6796810000014,34.590000000000003,{"$f":"P13/3.6","v":9.6083333333333343},9147.7979699999996,38.299999999999997,{"$f":"S13/3.6","v":10.638888888888888},null,null,{"$f":"V13/3.6","v":0},null,null,null,null,null,0,{"$f":"IF(AC13=100,\"ОК\",\" \")","v":" "}]
[4,89.607699999999994,5.0044000000000004,1.1664000000000001,0.1237,0.1988,4.4999999999999997E-3,5.0599999999999999E-2,4.41E-2,8.3199999999999996E-2,7.7999999999999996E-3,1.7281,1.9805999999999999,0.75349999999999995,8256.902763,34.57,9.6027777777777779,9143.0210520000001,38.28,10.633333333333333,11560,48.4,{"$f":"V14/3.6","v":13.444444444444443},-4.5,-4.9000000000000004,null,null,null,99.999899999999997,{"$f":"IF(AC14=100,\"ОК\",\" \")","v":" "}]
[5,null,null,null,null,null,null,null,null,null,null,null,null,null,8256.902763,34.57,9.6027777777777779,9143.0210520000001,38.28,10.633333333333333,null,null,0,null,null,null,null,null,0," "]
[6,null,null,null,null,null,null,null,null,null,null,null,null,null,8256.902763,34.57,9.6027777777777779,9143.0210520000001,38.28,10.633333333333333,null,null,{"$f":"V16/3.6","v":0},null,null,2.0000000000000001E-4,5.9999999999999995E-4,null,0," "]
[7,null,null,null,null,null,null,null,null,null,null,null,null,null,8256.902763,34.57,9.6027777777777779,9143.0210520000001,38.28,10.633333333333333,null,null,{"$f":"V17/3.6","v":0},null,null,null,null,8.0000000000000004E-4,0," "]
[8,null,null,null,null,null,null,null,null,null,null,null,null,null,8256.902763,34.57,9.6027777777777779,9143.0210520000001,38.28,10.633333333333333,null,null,{"$f":"V18/3.6","v":0},null,null,null,null,null,0," "]
[9,null,null,null,null,null,null,null,null,null,null,null,null,null,8256.902763,34.57,9.6027777777777779,9143.0210520000001,38.28,10.633333333333333,null,null,{"$f":"V19/3.6","v":0},null,null,null,null,null,0," "]
[10,null,null,null,null,null,null,null,null,null,null,null,null,null,8256.902763,34.57,9.6027777777777779,9143.0210520000001,38.28,10.633333333333333,null,null,{"$f":"V20/3.6","v":0},null,null,null,null,null,0," "]
[11,89.702600000000004,4.9378000000000002,1.1709000000000001,0.12670000000000001,0.2094,4.4000000000000003E-3,5.5300000000000002E-2,5.0500000000000003E-2,9.2200000000000004E-2,6.7999999999999996E-3,1.6675,1.976,0.75360000000000005,8266.4565989999992,34.61,9.6138888888888889,9154.963346999999,38.33,10.647222222222222,11573,48.46,{"$f":"V21/3.6","v":13.46111111111111},-4.7,-5.2,null,null,null,100.00010000000002," "]
[12,null,null,null,null,null,null,null,null,null,null,null,null,null,8266.4565989999992,34.61,9.6138888888888889,9154.963346999999,38.33,10.647222222222222,null,null,0,null,null,null,null,null,0," "]
[13,null,null,null,null,null,null,null,null,null,null,null,null,null,8266.4565989999992,34.61,9.6138888888888889,9154.963346999999,38.33,10.647222222222222,null,null,{"$f":"V23/3.6","v":0},null,null,null,null,null,0," "]
[14,null,null,null,null,null,null,null,null,null,null,null,null,null,8266.4565989999992,34.61,9.6138888888888889,9154.963346999999,38.33,10.647222222222222,null,null,{"$f":"V24/3.6","v":0},null,null,null,null,null,0," "]
[15,null,null,null,null,null,null,null,null,null,null,null,null,null,8266.4565989999992,34.61,9.6138888888888889,9154.963346999999,38.33,10.647222222222222,null,null,0,null,null,null,null,null,0," "]
[16,null,null,null,null,null,null,null,null,null,null,null,null,null,8266.4565989999992,34.61,9.6138888888888889,9154.963346999999,38.33,10.647222222222222,null,null,{"$f":"V26/3.6","v":0},null,null,null,null,null,0," "]
[17,null,null,null,null,null,null,null,null,null,null,null,null,null,8266.4565989999992,34.61,9.6138888888888889,9154.963346999999,38.33,10.647222222222222,null,null,{"$f":"V27/3.6","v":0},null,null,null,null,null,0," "]
[18,89.693200000000004,4.9405999999999999,1.1633,0.12570000000000001,0.20680000000000001,4.4000000000000003E-3,5.3400000000000003E-2,4.8300000000000003E-2,8.9700000000000002E-2,5.7000000000000002E-3,1.6979,1.9709000000000001,0.75329999999999997,8261.6796810000014,34.590000000000003,9.6083333333333343,9147.7979699999996,38.299999999999997,10.638888888888888,11568,48.43,13.452777777777778,-5.8,-6.8,null,null,null,99.999900000000011," "]
[19,null,null,null,null,null,null,null,null,null,null,null,null,null,8261.6796810000014,34.590000000000003,9.6083333333333343,9147.7979699999996,38.299999999999997,10.638888888888888,null,null,0,null,null,null,null,null,0," "]
[20,null,null,null,null,null,null,null,null,null,null,null,null,null,8261.6796810000014,34.590000000000003,9.6083333333333343,9147.7979699999996,38.299999999999997,10.638888888888888,null,null,{"$f":"V30/3.6","v":0},null,null,null,null,null,0,{"$f":"IF(AC30=100,\"ОК\",\" \")","v":" "}]
[21,null,null,null,null,null,null,null,null,null,null,null,null,null,8261.6796810000014,34.590000000000003,9.6083333333333343,9147.7979699999996,38.299999999999997,10.638888888888888,null,null,{"$f":"V31/3.6","v":0},null,null,null,null,8.0000000000000004E-4,0," "]
[22,null,null,null,null,null,null,null,null,null,null,null,null,null,8261.6796810000014,34.590000000000003,9.6083333333333343,9147.7979699999996,38.299999999999997,10.638888888888888,null,null,0,null,null,null,null,null,0," "]
[23,null,null,null,null,null,null,null,null,null,null,null,null,null,8261.6796810000014,34.590000000000003,9.6083333333333343,9147.7979699999996,38.299999999999997,10.638888888888888,null,null,0,null,null,null,null,null,0,{"$f":"IF(AC33=100,\"ОК\",\" \")","v":" "}]
[24,null,null,null,null,null,null,null,null,null,null,null,null,null,8261.6796810000014,34.590000000000003,9.6083333333333343,9147.7979699999996,38.299999999999997,10.638888888888888,null,null,0,null,null,null,null,null,0," "]
[25,89.6965,4.9219999999999997,1.1449,0.12239999999999999,0.19969999999999999,4.4000000000000003E-3,5.2400000000000002E-2,4.7800000000000002E-2,8.7499999999999994E-2,6.4999999999999997E-3,1.7364999999999999,1.9793000000000001,0.753,8249.7373860000007,34.54,9.5944444444444432,9138.2441339999987,38.26,10.627777777777776,11556,48.38,13.43888888888889,-6.1,-6.4,null,null,null,99.999900000000011," "]
[26,null,null,null,null,null,null,null,null,null,null,null,null,null,8249.7373860000007,34.54,9.5944444444444432,9138.2441339999987,38.26,{"$f":"S36/3.6","v":10.627777777777776},null,null,0,null,null,2.0000000000000001E-4,5.9999999999999995E-4,null,0," "]
[27,null,null,null,null,null,null,null,null,null,null,null,null,null,8249.7373860000007,34.54,9.5944444444444432,9138.2441339999987,38.26,10.627777777777776,null,null,{"$f":"V37/3.6","v":0},null,null,null,null,null,0," "]
[28,null,null,null,null,null,null,null,null,null,null,null,null,null,8249.7373860000007,34.54,9.5944444444444432,9138.2441339999987,38.26,10.627777777777776,null,null,{"$f":"V38/3.6","v":0},null,null,null,null,null,0," "]
[29,null,null,null,null,null,null,null,null,null,null,null,null,null,8249.7373860000007,34.54,{"$f":"P39/3.6","v":9.5944444444444432},9138.2441339999987,38.26,{"$f":"S39/3.6","v":10.627777777777776},null,null,0,null,null,null,null,null,0," "]
[30,null,null,null,null,null,null,null,null,null,null,null,null,null,8249.7373860000007,34.54,{"$f":"P40/3.6","v":9.5944444444444432},9138.2441339999987,38.26,{"$f":"S40/3.6","v":10.627777777777776},null,null,0,null,null,null,null,null,0]
[31,null,null,null,null,null,null,null,null,null,null,null,null,null,0,0,{"$f":"P41/3.6","v":0},0,0,{"$f":"S41/3.6","v":0},null,null,0,null,null,null,null,null,0," "]
["Вміст одоранта при одоризації становить 16 г на 1 000 м³ газу",null,null,null,null,null,null,null,null,null,null,null,null,null,{"$f":"SUMPRODUCT(O11:O41,' розрахунок13,9'!Q7:Q37)/' розрахунок13,9'!Q38","v":8258.4619828444647},{"$f":"SUMPRODUCT(P11:P41,' розрахунок13,9'!Q7:Q37)/' розрахунок13,9'!Q38","v":34.576528141552636},{"$f":"SUMPRODUCT(Q11:Q41,' розрахунок13,9'!Q7:Q37)/' розрахунок13,9'!Q38","v":9.6045911504312862},{"$f":"SUMPRODUCT(R11:R41,' розрахунок13,9'!Q7:Q37)/' розрахунок13,9'!Q38","v":9145.8660362087394},{"$f":"SUMPRODUCT(S11:S41,' розрахунок13,9'!Q7:Q37)/' розрахунок13,9'!Q38","v":38.291911379716971},{"$f":"SUMPRODUCT(T11:T41,' розрахунок13,9'!Q7:Q37)/' розрахунок13,9'!Q38","v":10.636642049921377}]
[null,null,null,null,null,null,null,"Середньозважене значення теплоти згоряння:"]
[]
[]
[null,null,"В.о.начальника управління Красилівського ЛВУМГ                                                                                             Семенюк П.В.                                                                                       "]
[null,null,null,"Підрозділу підприємства, якому підпорядкована лабораторія",null,null,null,null,null,null,null,null,null,null,null,"прізвище",null,null,"підпис",null,null,null,"дата"]
[null,null,"Завідувач лабораторією                                                                                                                                             Пілецька С.А.                                                                                                       "]
[null,null,null,"Лабораторія, де здійснювалось вимірювання газу",null,null,null,null,null,null,null,null,null,null,null,"прізвище",null,null,"підпис",null,null,null,"дата"]
[null,null,"Начальник служби метрології                                                                                                                                   Мягкий С.В.                                                                                                    "]
[null,null,null,"Підрозділу, відповідального за облік газу за маршрутом",null,null,null,null,null,null,null,null,null,null,null,"прізвище",null,null,"підпис",null,null,null,"дата"]

{"sheet":" розрахунок13,9","index":1,"n_rows":42,"n_cols":17,"rows_kept":42,"cut":false,"hidden":false,"merged":[[4,12,4,15],[3,12,3,15],[3,16,5,16],[1,0,1,11],[0,0,0,1],[3,0,5,0],[3,1,5,1],[3,2,3,11],[4,2,4,11]]}
[]
["Додаток до Паспорту фізико-хімічних показників природного газу по маршруту № 13"]
[]
["Число місяця","Теплота згоряння вища, МДж/м3","Хмельницька область",null,null,null,null,null,null,null,null,null,null,null,null,null,"Загальний обсяг газу, м3"]
[null,null,"Обсяг газу переданого за добу,  м3 "]
[null,null,"АГНКС Шепетівка","ГРС Пасічна","ГРС Самчики","ГРС Староконстантинів","ГРС Миролюбне","ГРС Кузьмин","ГРС Щиборівка","ГРС Хролін","ГРС Гриців","ГРС Шепетівка","ГРС Камянка","ГРС Славута","ГРСРадошівка","ГРС Ізяслав"]
[1,38.299999999999997,1158,3119,3178,22383,712,2192,961,275,2935,15270,491,29788,294,5532,{"$f":"SUM(C7:P7)","v":88288}]
[2,38.299999999999997,762,3616,2900,22676,775,2352,1089,296,2891,15809,615,24639,303,5646,{"$f":"SUM(C8:P8)","v":84369}]
[3,38.299999999999997,333,3243,2469,22036,701,2211,937,327,1696,17627,546,29804,296,5846,{"$f":"SUM(C9:P9)","v":88072}]
[4,38.28,785,4771,2838,23601,784,2332,1056,346,2884,17387,528,28795,299,6134,92540]
[5,38.28,972,5932,3205,24724,747,2437,1071,463,2838,20865,586,35489,305,7137,106771]
[6,38.28,982,7514,3017,24750,874,2577,1151,462,1855,22951,668,50449,318,7508,125076]
[7,38.28,1200,7119,3570,24822,797,2529,1178,492,1829,22980,717,51084,343,7880,126540]
[8,38.28,797,7025,3926,26118,837,2543,1152,449,1808,22008,692,47834,341,7594,123124]
[9,38.28,1111,7664,3240,21868,868,2618,1197,334,2270,26217,713,47027,355,7204,122686]
[10,38.28,375,6731,4205,25610,787,2315,1047,350,2213,28625,586,43649,321,7403,124217]
[11,38.33,516,5832,3908,21104,612,2366,900,267,1406,24441,501,45989,305,6815,114962]
[12,38.33,1091,6429,3489,29316,656,2261,1038,313,1303,95426,811,43067,289,7181,{"$f":"SUM(C18:P18)","v":192670}]
[13,38.33,1191,6887,2628,28017,697,2278,1124,412,1378,118955,603,47307,360,7128,218965]
[14,38.33,1205,6785,3271,25493,708,2225,1058,393,1436,122929,594,43701,345,7090,217233]
[15,38.33,1180,6865,3598,36603,711,2294,1109,428,1871,133740,601,48247,361,7214,244822]
[16,38.33,667,8247,2936,33853,883,2531,1221,425,1795,134443,768,42610,369,7681,238429]
[17,38.33,327,6510,2636,30557,705,2170,993,335,1419,132148,608,46062,352,7617,232439]
[18,38.299999999999997,740,6558,2888,36641,658,2208,1048,377,1767,139069,589,47228,308,7531,247610]
[19,38.299999999999997,1084,7074,4453,42731,777,2504,1072,416,2094,142267,603,47015,291,7384,259765]
[20,38.299999999999997,1098,8378,4456,51401,814,2363,1084,422,1909,137274,574,46755,264,7785,{"$f":"SUM(C26:P26)","v":264577}]
[21,38.299999999999997,1200,6589,2865,56385,518,2321,1091,396,1987,134838,612,49588,287,8317,266994]
[22,38.299999999999997,1122,7699,3741,49051,985,3213,1454,588,2482,138042,717,49740,331,9019,268184]
[23,38.299999999999997,920,9837,3809,51594,1061,3263,1436,566,2302,140211,791,51065,343,8997,276195]
[24,38.299999999999997,390,10331,4489,44676,1199,3707,1489,766,2726,146038,966,51668,405,10691,279541]
[25,38.26,683,8342,3642,53147,957,2831,1224,578,2033,141160,727,50329,343,9067,275063]
[26,38.26,1137,8518,4769,58415,891,2867,1258,538,2125,146025,679,47898,311,10041,285472]
[27,38.26,1098,9370,4204,66179,1014,3158,1189,617,2545,151988,773,51313,352,13361,307161]
[28,38.26,1171,9810,5156,80071,795,3870,1521,806,3207,158735,1138,60696,426,19018,346420]
[29,38.26,1196,13160,6002,87623,1534,4497,1601,916,3849,162428,1323,64706.999999999993,509,16133,365478]
[30,38.26,1623,18580,7705,90455,2045.9999999999998,5699,2254,1120,4811,174107,1733,65245.000000000007,684,18228,394290]
[31,0,0,0,0,0,0,0,0,0,0,0,0,0,0,0,0]
["Загальний обсяг газу, м3",null,{"$f":"SUM(C7:C37)","v":28114},{"$f":"SUM(D7:D37)","v":228535},113193,{"$f":"SUM(F7:F37)","v":1211900},26103,82732,{"$f":"SUM(I7:I37)","v":36003},14473,67664,2884003,{"$f":"SUM(M7:M37)","v":21853},1388788,10410,264182,{"$f":"SUM(Q7:Q37)","v":6377953}]
["Енергія, МДж",null,{"$f":"SUMPRODUCT(B7:B37,C7:C37)","v":1076550.75},{"$f":"SUMPRODUCT(B7:B37,D7:D37)","v":8750670.8300000001},{"$f":"SUMPRODUCT(B7:B37,E7:E37)","v":4334226.7399999993},{"$f":"SUMPRODUCT(B7:B37,F7:F37)","v":46401052.829999991},{"$f":"SUMPRODUCT(B7:B37,G7:G37)","v":999490.7},{"$f":"SUMPRODUCT(B7:B37,H7:H37)","v":3167855.45},{"$f":"SUMPRODUCT(B7:B37,I7:I37)","v":1378619.27},{"$f":"SUMPRODUCT(B7:B37,J7:J37)","v":554152.16999999993},{"$f":"SUMPRODUCT(B7:B37,K7:K37)","v":2590792.6999999997},{"$f":"SUMPRODUCT(B7:B37,L7:L37)","v":110439578.97999997},{"$f":"SUMPRODUCT(B7:B37,M7:M37)","v":836759.76000000013},{"$f":"SUMPRODUCT(B7:B37,N7:N37)","v":53180395.829999998},{"$f":"SUMPRODUCT($B7:$B37,O7:O37)","v":398623.7900000001},{"$f":"SUMPRODUCT(B7:B37,P7:P37)","v":10115241.26},{"$f":"SUMPRODUCT(B7:B37,Q7:Q37)","v":244224011.06}]
["Теплота згоряння (середньозважене значення за місяць), МДж/м³",null,{"$f":"C39/C38","v":38.292336558298359},{"$f":"D39/D38","v":38.290287395803709},{"$f":"E39/E38","v":38.290589877465912},{"$f":"F39/F38","v":38.287856118491618},38.290261655748381,38.290570154232945,38.29178873982724,38.288687210668137,38.289085776779373,38.293850242180739,38.290383928980006,38.292666576900146,38.29239097022095,38.288911659386329,{"$f":"Q39/Q38","v":38.291911379716971}]
["Теплота згоряння (середньозважене значення за місяць), ккал/м³",null,{"$f":"C40*238.8459","v":9145.9675883696746},{"$f":"D40*238.8459","v":9145.4781543093923},9145.5504008142361,9144.8974536916376,9145.4720064027115,9145.5456900009067,9145.8367441739028,9145.0959566505207,9145.1911525320684,9146.3291255588756,9145.5012108627652,{"$f":"N40*238.8459","v":9146.0464119596345},9145.9805844342955,9145.1495653066213,{"$f":"Q40*238.8459","v":9145.8660362087412}]
["Теплота згоряння (середньозважене значення за місяць), кВт*год./м³",null,{"$f":"C40/3.6","v":10.636760155082877},{"$f":"D40/3.6","v":10.636190943278807},10.636274965962754,10.635515588469893,10.63618379326344,10.636269487286929,10.636607983285344,10.635746447407815,10.635857160216492,10.637180622827982,10.636217758050002,10.636851826916708,10.636775269505819,10.635808794273981,{"$f":"Q40/3.6","v":10.636642049921381}]

{"sheet":"додаток13,9","index":2,"n_rows":29,"n_cols":6,"rows_kept":29,"cut":false,"hidden":false,"merged":[[0,0,0,1],[19,0,19,1],[3,2,3,4],[3,1,4,1],[3,0,4,0],[5,0,18,0]]}
[]
["Додаток до Паспорту фізико-хімічних показників природного газу №13"]
[]
["Область","ГРС, прямий споживач","Cередньозважене значення вищої теплоти згоряння"]
[null,null," МДж/м³","ккал/м³","кВт*год./м³"]
["Хмельницька область","АГНКС Шепетівка",38.29,9146,10.64]
[null,"ГРС Пасічна",38.29,9145,10.64]
[null,"ГРС Самчики",38.29,9146,10.64]
[null,"ГРС Староконстантинів",38.29,9145,10.64]
[null,"ГРС Миролюбне",38.29,9145,10.64]
[null,"ГРС Кузьмин",38.29,9146,10.64]
[null,"ГРС Щиборівка",38.29,9146,10.64]
[null,"ГРС Хролін",38.29,9145,10.64]
[null,"ГРС Гриців",38.29,9145,10.64]
[null,"ГРС Шепетівка",38.29,9146,10.64]
[null,"ГРС Кам'янка",38.29,9146,10.64]
[null,"ГРС Славута",38.29,9146,10.64]
[null,"ГРС Радошівка",38.29,9146,10.64]
[null,"ГРС Ізяслав",38.29,9145,10.64]
["Середньозважене значення вищої теплоти згоряння по маршруту № 13",null,38.29,9146,10.64]
[]
[]
[]
["В.о.начальника управління Красилівського ЛВУМГ                        Семенюк П.В.                                                                                       "]
["Підрозділу підприємства, якому підпорядкована лабораторія",null,null,"прізвище","підпис","дата"]
["Завідувач лабораторією                                                                  Пілецька С.А.                                                                                                       "]
["Лабораторія, де здійснювалось вимірювання газу",null,null,"прізвище","підпис","дата"]
["Начальник служби метрології                                                       Мягкий С.В."]
["Підрозділу, відповідального за облік газу за маршрутом",null,null,"прізвище","підпис","дата"]

{"sheet":"variablesList","index":3,"n_rows":3,"n_cols":4,"rows_kept":3,"cut":false,"hidden":true,"merged":[]}
[3,"x:\\gaysin","10, 11, 24, 25, 127, 128, 132, 180, 207, 215","x:\\"]
[null,"x:\\Illinci"]
[null,"x:\\Talne"]