{"text_format":"1","workbook":"xlsx","n_sheets":3,"sheets":["паспорт","додаток","variablesList"],"not_rendered":{"charts":0,"images":0,"macros":1,"external_links":5,"defined_names":3,"comments":0,"pivot_tables":0},"unopened":[],"bounds":{"document_bytes":16777216,"sheet_cells":100000,"rows_first":2000,"rows_last":500,"rows_between":2000,"halvings":0,"cell_chars":16384,"cell_head_chars":4096},"cells_cut":0,"cells_raw":0,"read":"whole","date_system":"1900"}

{"sheet":"паспорт","index":0,"n_rows":51,"n_cols":31,"rows_kept":51,"cut":false,"hidden":false,"merged":[[0,6,0,24],[1,6,1,24],[0,25,0,27],[4,23,4,24],[8,12,9,12],[4,21,4,22],[8,14,8,16],[8,17,8,19],[8,20,8,22],[7,14,7,22],[2,6,2,24],[4,26,4,27],[8,7,9,7],[6,1,7,12],[7,13,9,13],[6,13,6,22],[47,1,47,26],[43,20,43,27],[42,20,42,27],[41,20,41,27],[6,27,9,27],[8,8,9,8],[6,26,9,26],[6,24,9,24],[6,23,9,23],[8,1,9,1],[8,2,9,2],[8,5,9,5],[8,6,9,6],[8,4,9,4],[6,0,9,0],[49,1,49,26],[8,11,9,11],[41,18,42,18],[41,19,42,19],[41,14,42,14],[42,7,42,13],[41,15,42,15],[41,16,42,16],[41,17,42,17],[8,9,9,9],[8,10,9,10],[6,25,9,25],[45,1,45,26],[41,0,41,13],[8,3,9,3]]}
["ПАТ \"УКРТРАНСГАЗ\"",null,null,null,null,null,"ПАСПОРТ ФІЗИКО-ХІМІЧНИХ ПОКАЗНИКІВ ПРИРОДНОГО ГАЗУ  № 61"]
["Філія \"УМГ \"Київтрансгаз\"",null,null,null,null,null,"переданого Лубенським  ЛВУМГ та прийнятого  ПАТ \"Полтавагаз\", ПАТ \"Лубнигаз\", ПАТ \"Чернігівгаз\""]
["Лубенський п/м  Лубенське  ЛВУМГ",null,null,null,null,null,"Маршрут № 61"]
["Вимірювальна хіміко-аналітична лабораторія"]
["Свідоцтво №  199-15  чинно до 31.12.2018 р.",null,null,null,null,null,null,null,null,null,"по газопроводу  \"Гнідинці - Шебелинка-Полтава-Київ \"",null,null,null,null,null,null,null,null,null,null,"за період з",null,"2017-07-01",null," по","2017-07-31"]
[]
["Число місяця","Компонентний склад, % мол. ",null,null,null,null,null,null,null,null,null,null,null,"Фізико-хімічні показники газу обчислені на основі компонентного складу, 101,325 кПа",null,null,null,null,null,null,null,null,null,"Температура точки роси  за вологою (Р = 3.92 МПа), ºС","Температура точки роси за  вуглеводнями, ºС","Вміст сірководню, г/м3","Вміст меркаптанової сірки, г/м3","Вміст механічних домішок, г/м3"]
[null,null,null,null,null,null,null,null,null,null,null,null,null,"Густина абсолютна, кг/м3,при 20 ºС, ","Температура вимірювання/згоряння при  20/25°С"]
[null,"метан, С1","етан, С2","пропан, С3","ізо-бутан, і-С4","н-бутан, н-С4","нео-пентан, нео-С5","ізо-пентан, і-С5","н-пентан, н-С5","гексани та вищі, С6+","кисень, О2","азот, N2","діоксид вуглецю, CО2",null,"Теплота згоряння нижча",null,null,"Теплота згоряння вища",null,null,"Число Воббе вище"]
[null,null,null,null,null,null,null,null,null,null,null,null,null,null," ккал/м3"," МДж/м3","кВт⋅год/м3"," ккал/м3"," МДж/м3","кВт⋅год/м3"," ккал/м3"," МДж/м3","кВт⋅год/м3",null,null,null,null,null,null,null,"  "]
[1,null,null,null,null,null,null,null,null,null,null,null,null,null,8794,36.82,10.23,9708,40.65,11.29,11475,48.04,13.34,null,null,null,null,null,{"$f":"SUM(B11:M11)+$K$42+$N$42","v":0}]
[2,null,null,null,null,null,null,null,null,null,null,null,null,null,8794,36.82,10.23,9708,40.65,11.29,11475,48.04,13.34,null,null,null,null,null,0]
[3,{"$f":"[1]Лист1!$D$19","v":70.293999999999997},{"$f":"[1]Лист1!$D$20","v":12.949},{"$f":"[1]Лист1!$D$21","v":5.0449999999999999},{"$f":"[1]Лист1!$D$22","v":0.27400000000000002},{"$f":"[1]Лист1!$D$23","v":0.36899999999999999},{"$f":"[1]Лист1!$D$24","v":0},{"$f":"[1]Лист1!$D$25","v":1.7000000000000001E-2},{"$f":"[1]Лист1!$D$26","v":8.0000000000000002E-3},{"$f":"[1]Лист1!$D$27","v":1E-3},{"$f":"[1]Лист1!$D$28","v":3.6999999999999998E-2},{"$f":"[1]Лист1!$D$29","v":9.0630000000000006},{"$f":"[1]Лист1!$D$30","v":1.9430000000000001},{"$f":"[1]Лист1!$F$36","v":0.88449999999999995},{"$f":"[1]Лист1!$F$38","v":8670},{"$f":"[1]Лист1!$F$37","v":36.299999999999997},{"$f":"[1]Лист1!$F$43","v":10.083333333333332},{"$f":"[1]Лист1!$F$40","v":9563},{"$f":"[1]Лист1!$F$39","v":40.04},{"$f":"[1]Лист1!$F$44","v":11.122222222222222},{"$f":"[1]Лист1!$F$42","v":11162},{"$f":"[1]Лист1!$F$41","v":46.73},{"$f":"V13/3.6","v":12.980555555555554},-8.4,-0.8,null,null,null,100,{"$f":"IF(AC13=100,\"ОК\",\" \")","v":"ОК"}]
[4,null,null,null,null,null,null,null,null,null,null,null,null,null,{"$f":"[1]Лист1!$F$38","v":8670},{"$f":"[1]Лист1!$F$37","v":36.299999999999997},{"$f":"[1]Лист1!$F$43","v":10.083333333333332},{"$f":"[1]Лист1!$F$40","v":9563},{"$f":"[1]Лист1!$F$39","v":40.04},{"$f":"[1]Лист1!$F$44","v":11.122222222222222},{"$f":"[1]Лист1!$F$42","v":11162},{"$f":"[1]Лист1!$F$41","v":46.73},{"$f":"V14/3.6","v":12.980555555555554},null,null,null,null,null,0,{"$f":"IF(AC14=100,\"ОК\",\" \")","v":" "}]
[5,null,null,null,null,null,null,null,null,null,null,null,null,null,{"$f":"[1]Лист1!$F$38","v":8670},{"$f":"[1]Лист1!$F$37","v":36.299999999999997},{"$f":"[1]Лист1!$F$43","v":10.083333333333332},{"$f":"[1]Лист1!$F$40","v":9563},{"$f":"[1]Лист1!$F$39","v":40.04},{"$f":"[1]Лист1!$F$44","v":11.122222222222222},{"$f":"[1]Лист1!$F$42","v":11162},{"$f":"[1]Лист1!$F$41","v":46.73},12.980555555555554,null,null,null,null,null,0," "]
[6,null,null,null,null,null,null,null,null,null,null,null,null,null,{"$f":"[1]Лист1!$F$38","v":8670},{"$f":"[1]Лист1!$F$37","v":36.299999999999997},{"$f":"[1]Лист1!$F$43","v":10.083333333333332},{"$f":"[1]Лист1!$F$40","v":9563},{"$f":"[1]Лист1!$F$39","v":40.04},{"$f":"[1]Лист1!$F$44","v":11.122222222222222},{"$f":"[1]Лист1!$F$42","v":11162},{"$f":"[1]Лист1!$F$41","v":46.73},12.980555555555554,null,null,null,null,null,0," "]
[7,null,null,null,null,null,null,null,null,null,null,null,null,null,{"$f":"[1]Лист1!$F$38","v":8670},{"$f":"[1]Лист1!$F$37","v":36.299999999999997},{"$f":"[1]Лист1!$F$43","v":10.083333333333332},{"$f":"[1]Лист1!$F$40","v":9563},{"$f":"[1]Лист1!$F$39","v":40.04},{"$f":"[1]Лист1!$F$44","v":11.122222222222222},{"$f":"[1]Лист1!$F$42","v":11162},{"$f":"[1]Лист1!$F$41","v":46.73},12.980555555555554,null,null,null,null,null,0," "]
[8,null,null,null,null,null,null,null,null,null,null,null,null,null,{"$f":"[1]Лист1!$F$38","v":8670},{"$f":"[1]Лист1!$F$37","v":36.299999999999997},{"$f":"[1]Лист1!$F$43","v":10.083333333333332},{"$f":"[1]Лист1!$F$40","v":9563},{"$f":"[1]Лист1!$F$39","v":40.04},{"$f":"[1]Лист1!$F$44","v":11.122222222222222},{"$f":"[1]Лист1!$F$42","v":11162},{"$f":"[1]Лист1!$F$41","v":46.73},12.980555555555554,null,null,null,null,null,0," "]
[9,null,null,null,null,null,null,null,null,null,null,null,null,null,{"$f":"[1]Лист1!$F$38","v":8670},{"$f":"[1]Лист1!$F$37","v":36.299999999999997},{"$f":"[1]Лист1!$F$43","v":10.083333333333332},{"$f":"[1]Лист1!$F$40","v":9563},{"$f":"[1]Лист1!$F$39","v":40.04},{"$f":"[1]Лист1!$F$44","v":11.122222222222222},{"$f":"[1]Лист1!$F$42","v":11162},{"$f":"[1]Лист1!$F$41","v":46.73},12.980555555555554,null,null,null,null,null,0," "]
[10,{"$f":"[2]Лист1!$D$19","v":79.385000000000005},{"$f":"[2]Лист1!$D$20","v":11.003},{"$f":"[2]Лист1!$D$21","v":1.6619999999999999},{"$f":"[2]Лист1!$D$22","v":0.1},{"$f":"[2]Лист1!$D$23","v":0.309},{"$f":"[2]Лист1!$D$24","v":6.0000000000000001E-3},{"$f":"[2]Лист1!$D$25","v":0.159},{"$f":"[2]Лист1!$D$26","v":0.13700000000000001},{"$f":"[2]Лист1!$D$27","v":6.4000000000000001E-2},{"$f":"[2]Лист1!$D$28","v":1.7000000000000001E-2},{"$f":"[2]Лист1!$D$29","v":4.3879999999999999},{"$f":"[2]Лист1!$D$30","v":2.77},{"$f":"[2]Лист1!$F$36","v":0.82279999999999998},{"$f":"[2]Лист1!$F$38","v":8477},{"$f":"[2]Лист1!$F$37","v":35.49},{"$f":"[2]Лист1!$F$43","v":9.8583333333333343},{"$f":"[2]Лист1!$F$40","v":9365},{"$f":"[2]Лист1!$F$39","v":39.21},{"$f":"[2]Лист1!$F$44","v":10.891666666666667},{"$f":"[2]Лист1!$F$42","v":11331},{"$f":"[2]Лист1!$F$41","v":47.44},{"$f":"V20/3.6","v":13.177777777777777},null,null,null,null,null,100,"ОК"]
[11,null,null,null,null,null,null,null,null,null,null,null,null,null,{"$f":"[2]Лист1!$F$38","v":8477},{"$f":"[2]Лист1!$F$37","v":35.49},{"$f":"[2]Лист1!$F$43","v":9.8583333333333343},{"$f":"[2]Лист1!$F$40","v":9365},{"$f":"[2]Лист1!$F$39","v":39.21},{"$f":"[2]Лист1!$F$44","v":10.891666666666667},{"$f":"[2]Лист1!$F$42","v":11331},{"$f":"[2]Лист1!$F$41","v":47.44},{"$f":"V21/3.6","v":13.177777777777777},null,null,null,null,null,0," "]
[12,null,null,null,null,null,null,null,null,null,null,null,null,null,{"$f":"[2]Лист1!$F$38","v":8477},{"$f":"[2]Лист1!$F$37","v":35.49},{"$f":"[2]Лист1!$F$43","v":9.8583333333333343},{"$f":"[2]Лист1!$F$40","v":9365},{"$f":"[2]Лист1!$F$39","v":39.21},{"$f":"[2]Лист1!$F$44","v":10.891666666666667},{"$f":"[2]Лист1!$F$42","v":11331},{"$f":"[2]Лист1!$F$41","v":47.44},13.177777777777777,null,null,null,null,null,0," "]
[13,null,null,null,null,null,null,null,null,null,null,null,null,null,{"$f":"[2]Лист1!$F$38","v":8477},{"$f":"[2]Лист1!$F$37","v":35.49},{"$f":"[2]Лист1!$F$43","v":9.8583333333333343},{"$f":"[2]Лист1!$F$40","v":9365},{"$f":"[2]Лист1!$F$39","v":39.21},{"$f":"[2]Лист1!$F$44","v":10.891666666666667},{"$f":"[2]Лист1!$F$42","v":11331},{"$f":"[2]Лист1!$F$41","v":47.44},13.177777777777777,null,null,null,null,null,0," "]
[14,null,null,null,null,null,null,null,null,null,null,null,null,null,{"$f":"[2]Лист1!$F$38","v":8477},{"$f":"[2]Лист1!$F$37","v":35.49},{"$f":"[2]Лист1!$F$43","v":9.8583333333333343},{"$f":"[2]Лист1!$F$40","v":9365},{"$f":"[2]Лист1!$F$39","v":39.21},{"$f":"[2]Лист1!$F$44","v":10.891666666666667},{"$f":"[2]Лист1!$F$42","v":11331},{"$f":"[2]Лист1!$F$41","v":47.44},13.177777777777777,null,null,null,null,null,0," "]
[15,null,null,null,null,null,null,null,null,null,null,null,null,null,{"$f":"[2]Лист1!$F$38","v":8477},{"$f":"[2]Лист1!$F$37","v":35.49},{"$f":"[2]Лист1!$F$43","v":9.8583333333333343},{"$f":"[2]Лист1!$F$40","v":9365},{"$f":"[2]Лист1!$F$39","v":39.21},{"$f":"[2]Лист1!$F$44","v":10.891666666666667},{"$f":"[2]Лист1!$F$42","v":11331},{"$f":"[2]Лист1!$F$41","v":47.44},13.177777777777777,null,null,null,null,null,0," "]
[16,null,null,null,null,null,null,null,null,null,null,null,null,null,{"$f":"[2]Лист1!$F$38","v":8477},{"$f":"[2]Лист1!$F$37","v":35.49},{"$f":"[2]Лист1!$F$43","v":9.8583333333333343},{"$f":"[2]Лист1!$F$40","v":9365},{"$f":"[2]Лист1!$F$39","v":39.21},{"$f":"[2]Лист1!$F$44","v":10.891666666666667},{"$f":"[2]Лист1!$F$42","v":11331},{"$f":"[2]Лист1!$F$41","v":47.44},13.177777777777777,null,null,null,null,null,0," "]
[17,{"$f":"[3]Лист1!$D$19","v":85.908000000000001},{"$f":"[3]Лист1!$D$20","v":6.7939999999999996},{"$f":"[3]Лист1!$D$21","v":1.7370000000000001},{"$f":"[3]Лист1!$D$22","v":0.14499999999999999},{"$f":"[3]Лист1!$D$23","v":0.24399999999999999},{"$f":"[3]Лист1!$D$24","v":6.0000000000000001E-3},{"$f":"[3]Лист1!$D$25","v":6.8000000000000005E-2},{"$f":"[3]Лист1!$D$26","v":5.5E-2},{"$f":"[3]Лист1!$D$27","v":9.0559999999999992},{"$f":"[3]Лист1!$D$28","v":1.2E-2},{"$f":"[3]Лист1!$D$29","v":2.9169999999999998},{"$f":"[3]Лист1!$D$30","v":2.0579999999999998},{"$f":"[3]Лист1!$F$36","v":0.77859999999999996},{"$f":"[3]Лист1!$F$38","v":8348},{"$f":"[3]Лист1!$F$37","v":34.950000000000003},{"$f":"[3]Лист1!$F$43","v":9.7083333333333339},{"$f":"[3]Лист1!$F$40","v":9234},{"$f":"[3]Лист1!$F$39","v":38.659999999999997},{"$f":"[3]Лист1!$F$44","v":10.738888888888887},{"$f":"[3]Лист1!$F$42","v":11485},{"$f":"[3]Лист1!$F$41","v":48.08},{"$f":"V27/3.6","v":13.355555555555554},null,null,null,null,null,109," "]
[18,null,null,null,null,null,null,null,null,null,null,null,null,null,{"$f":"[3]Лист1!$F$38","v":8348},{"$f":"[3]Лист1!$F$37","v":34.950000000000003},{"$f":"[3]Лист1!$F$43","v":9.7083333333333339},{"$f":"[3]Лист1!$F$40","v":9234},{"$f":"[3]Лист1!$F$39","v":38.659999999999997},{"$f":"[3]Лист1!$F$44","v":10.738888888888887},{"$f":"[3]Лист1!$F$42","v":11485},{"$f":"[3]Лист1!$F$41","v":48.08},{"$f":"V28/3.6","v":13.355555555555554},null,null,null,null,null,0," "]
[19,null,null,null,null,null,null,null,null,null,null,null,null,null,{"$f":"[3]Лист1!$F$38","v":8348},{"$f":"[3]Лист1!$F$37","v":34.950000000000003},{"$f":"[3]Лист1!$F$43","v":9.7083333333333339},{"$f":"[3]Лист1!$F$40","v":9234},{"$f":"[3]Лист1!$F$39","v":38.659999999999997},{"$f":"[3]Лист1!$F$44","v":10.738888888888887},{"$f":"[3]Лист1!$F$42","v":11485},{"$f":"[3]Лист1!$F$41","v":48.08},13.355555555555554,null,null,null,null,null,0," "]
[20,null,null,null,null,null,null,null,null,null,null,null,null,null,{"$f":"[3]Лист1!$F$38","v":8348},{"$f":"[3]Лист1!$F$37","v":34.950000000000003},{"$f":"[3]Лист1!$F$43","v":9.7083333333333339},{"$f":"[3]Лист1!$F$40","v":9234},{"$f":"[3]Лист1!$F$39","v":38.659999999999997},{"$f":"[3]Лист1!$F$44","v":10.738888888888887},{"$f":"[3]Лист1!$F$42","v":11485},{"$f":"[3]Лист1!$F$41","v":48.08},13.355555555555554,null,null,null,null,null,0,{"$f":"IF(AC30=100,\"ОК\",\" \")","v":" "}]
[21,null,null,null,null,null,null,null,null,null,null,null,null,null,{"$f":"[3]Лист1!$F$38","v":8348},{"$f":"[3]Лист1!$F$37","v":34.950000000000003},{"$f":"[3]Лист1!$F$43","v":9.7083333333333339},{"$f":"[3]Лист1!$F$40","v":9234},{"$f":"[3]Лист1!$F$39","v":38.659999999999997},{"$f":"[3]Лист1!$F$44","v":10.738888888888887},{"$f":"[3]Лист1!$F$42","v":11485},{"$f":"[3]Лист1!$F$41","v":48.08},13.355555555555554,null,null,null,null,null,0," "]
[22,null,null,null,null,null,null,null,null,null,null,null,null,null,{"$f":"[3]Лист1!$F$38","v":8348},{"$f":"[3]Лист1!$F$37","v":34.950000000000003},{"$f":"[3]Лист1!$F$43","v":9.7083333333333339},{"$f":"[3]Лист1!$F$40","v":9234},{"$f":"[3]Лист1!$F$39","v":38.659999999999997},{"$f":"[3]Лист1!$F$44","v":10.738888888888887},{"$f":"[3]Лист1!$F$42","v":11485},{"$f":"[3]Лист1!$F$41","v":48.08},13.355555555555554,null,null,null,null,null,0," "]
[23,null,null,null,null,null,null,null,null,null,null,null,null,null,{"$f":"[3]Лист1!$F$38","v":8348},{"$f":"[3]Лист1!$F$37","v":34.950000000000003},{"$f":"[3]Лист1!$F$43","v":9.7083333333333339},{"$f":"[3]Лист1!$F$40","v":9234},{"$f":"[3]Лист1!$F$39","v":38.659999999999997},{"$f":"[3]Лист1!$F$44","v":10.738888888888887},{"$f":"[3]Лист1!$F$42","v":11485},{"$f":"[3]Лист1!$F$41","v":48.08},13.355555555555554,null,null,null,null,null,0,{"$f":"IF(AC33=100,\"ОК\",\" \")","v":" "}]
[24,{"$f":"[4]Лист1!$D$19","v":68.957999999999998},{"$f":"[4]Лист1!$D$20","v":13.837999999999999},{"$f":"[4]Лист1!$D$21","v":5.6769999999999996},{"$f":"[4]Лист1!$D$22","v":0.27900000000000003},{"$f":"[4]Лист1!$D$23","v":0.41099999999999998},{"$f":"[4]Лист1!$D$24","v":0},{"$f":"[4]Лист1!$D$25","v":3.3000000000000002E-2},{"$f":"[4]Лист1!$D$26","v":2.4E-2},{"$f":"[4]Лист1!$D$27","v":1.4E-2},{"$f":"[4]Лист1!$D$28","v":1.6E-2},{"$f":"[4]Лист1!$D$29","v":8.7370000000000001},{"$f":"[4]Лист1!$D$30","v":2.0129999999999999},{"$f":"[4]Лист1!$F$36","v":0.8972},{"$f":"[4]Лист1!$F$38","v":8841},{"$f":"[4]Лист1!$F$37","v":37.020000000000003},{"$f":"[4]Лист1!$F$43","v":10.283333333333333},{"$f":"[4]Лист1!$F$40","v":9744},{"$f":"[4]Лист1!$F$39","v":40.799999999999997},{"$f":"[4]Лист1!$F$44","v":11.333333333333332},{"$f":"[4]Лист1!$F$42","v":11290},{"$f":"[4]Лист1!$F$41","v":47.27},{"$f":"V34/3.6","v":13.130555555555556},null,null,null,null,null,99.999999999999986,"ОК"]
[25,null,null,null,null,null,null,null,null,null,null,null,null,null,{"$f":"[4]Лист1!$F$38","v":8841},{"$f":"[4]Лист1!$F$37","v":37.020000000000003},{"$f":"[4]Лист1!$F$43","v":10.283333333333333},{"$f":"[4]Лист1!$F$40","v":9744},{"$f":"[4]Лист1!$F$39","v":40.799999999999997},{"$f":"[4]Лист1!$F$44","v":11.333333333333332},{"$f":"[4]Лист1!$F$42","v":11290},{"$f":"[4]Лист1!$F$41","v":47.27},{"$f":"V35/3.6","v":13.130555555555556},null,null,null,null,null,0," "]
[26,null,null,null,null,null,null,null,null,null,null,null,null,null,{"$f":"[4]Лист1!$F$38","v":8841},{"$f":"[4]Лист1!$F$37","v":37.020000000000003},{"$f":"[4]Лист1!$F$43","v":10.283333333333333},{"$f":"[4]Лист1!$F$40","v":9744},{"$f":"[4]Лист1!$F$39","v":40.799999999999997},{"$f":"[4]Лист1!$F$44","v":11.333333333333332},{"$f":"[4]Лист1!$F$42","v":11290},{"$f":"[4]Лист1!$F$41","v":47.27},13.130555555555556,null,null,null,null,null,0," "]
[27,null,null,null,null,null,null,null,null,null,null,null,null,null,{"$f":"[4]Лист1!$F$38","v":8841},{"$f":"[4]Лист1!$F$37","v":37.020000000000003},{"$f":"[4]Лист1!$F$43","v":10.283333333333333},{"$f":"[4]Лист1!$F$40","v":9744},{"$f":"[4]Лист1!$F$39","v":40.799999999999997},{"$f":"[4]Лист1!$F$44","v":11.333333333333332},{"$f":"[4]Лист1!$F$42","v":11290},{"$f":"[4]Лист1!$F$41","v":47.27},13.130555555555556,null,null,null,null,null,0," "]
[28,null,null,null,null,null,null,null,null,null,null,null,null,null,{"$f":"[4]Лист1!$F$38","v":8841},{"$f":"[4]Лист1!$F$37","v":37.020000000000003},{"$f":"[4]Лист1!$F$43","v":10.283333333333333},{"$f":"[4]Лист1!$F$40","v":9744},{"$f":"[4]Лист1!$F$39","v":40.799999999999997},{"$f":"[4]Лист1!$F$44","v":11.333333333333332},{"$f":"[4]Лист1!$F$42","v":11290},{"$f":"[4]Лист1!$F$41","v":47.27},13.130555555555556,null,null,null,null,null,0," "]
[29,null,null,null,null,null,null,null,null,null,null,null,null,null,{"$f":"[4]Лист1!$F$38","v":8841},{"$f":"[4]Лист1!$F$37","v":37.020000000000003},{"$f":"[4]Лист1!$F$43","v":10.283333333333333},{"$f":"[4]Лист1!$F$40","v":9744},{"$f":"[4]Лист1!$F$39","v":40.799999999999997},{"$f":"[4]Лист1!$F$44","v":11.333333333333332},{"$f":"[4]Лист1!$F$42","v":11290},{"$f":"[4]Лист1!$F$41","v":47.27},13.130555555555556,null,null,null,null,null,0," "]
[30,null,null,null,null,null,null,null,null,null,null,null,null,null,{"$f":"[4]Лист1!$F$38","v":8841},{"$f":"[4]Лист1!$F$37","v":37.020000000000003},{"$f":"[4]Лист1!$F$43","v":10.283333333333333},{"$f":"[4]Лист1!$F$40","v":9744},{"$f":"[4]Лист1!$F$39","v":40.799999999999997},{"$f":"[4]Лист1!$F$44","v":11.333333333333332},{"$f":"[4]Лист1!$F$42","v":11290},{"$f":"[4]Лист1!$F$41","v":47.27},13.130555555555556,null,null,null,null,null,0]
[31,{"$f":"[5]Лист1!$D$19","v":88.308999999999997},{"$f":"[5]Лист1!$D$20","v":5.6269999999999998},{"$f":"[5]Лист1!$D$21","v":1.415},{"$f":"[5]Лист1!$D$22","v":0.13800000000000001},{"$f":"[5]Лист1!$D$23","v":0.214},{"$f":"[5]Лист1!$D$24","v":6.0000000000000001E-3},{"$f":"[5]Лист1!$D$25","v":5.5E-2},{"$f":"[5]Лист1!$D$26","v":4.5999999999999999E-2},{"$f":"[5]Лист1!$D$27","v":0.05},{"$f":"[5]Лист1!$D$28","v":1.2E-2},{"$f":"[5]Лист1!$D$29","v":2.1579999999999999},{"$f":"[5]Лист1!$D$30","v":1.97},{"$f":"[5]Лист1!$F$36","v":0.76190000000000002},{"$f":"[5]Лист1!$F$38","v":8289},{"$f":"[5]Лист1!$F$37","v":34.700000000000003},{"$f":"[5]Лист1!$F$43","v":9.6388888888888893},{"$f":"[5]Лист1!$F$40","v":9173},{"$f":"[5]Лист1!$F$39","v":38.409999999999997},{"$f":"[5]Лист1!$F$44","v":10.669444444444443},{"$f":"[5]Лист1!$F$42","v":11534},{"$f":"[5]Лист1!$F$41","v":48.29},{"$f":"V41/3.6","v":13.413888888888888},null,null,null,null,null,100.00000000000001,"ОК"]
["Рівень одоризації відповідає чинним нормативним документам",null,null,null,null,null,null,null,null,null,null,null,null,null,8579.9393127767944,35.922799592253945,9.9786982978597933,9473.2748455014225,39.664222734310449,11.02]
[null,null,null,null,null,null,null,"Середньозважене значення теплоти згоряння:"]
[]
[]
[null,"Головний інженер Лубенського ЛВУМГ                                                                                                                Сирота В.П.                                                           02.08.2017 року"]
[null,null,"Підрозділу підприємства, якому підпорядкована лабораторія",null,null,null,null,null,null,null,null,null,null,null,"прізвище",null,null,"підпис",null,null,null,"дата"]
[null,"Завідувач лабораторією   Лубенського ЛВУМГ                                                                                                     Алєксєєнко Н.А.                                                        02.08.2017року                                                   "]
[null,null,"Лабораторія, де здійснювалось вимірювання газу",null,null,null,null,null,null,null,null,null,null,null,"прізвище",null,null,"підпис",null,null,null,"дата"]
[null,"Начальник служби ГВ та М                                                                                                                                           Шило О.Є.                                                       02.08.2017 року"]
[null,null,"Підрозділу, відповідального за облік газу за маршрутом",null,null,null,null,null,null,null,null,null,null,null,"прізвище",null,null,"підпис",null,null,null,"дата"]

{"sheet":"додаток","index":1,"n_rows":18,"n_cols":6,"rows_kept":18,"cut":false,"hidden":false,"merged":[[0,0,0,1],[8,0,8,1],[3,2,3,4],[3,1,4,1],[3,0,4,0],[5,0,6,0]]}
[]
["Додаток до Паспорту фізико-хімічних показників природного газу № 61"]
[]
["Область","ГРС, прямий споживач","Cередньозважене значення вищої теплоти згоряння"]
[null,null," МДж/м³","ккал/м³","кВт*год./м³"]
["Полтавська область","ГРС Чорнуха",39.679642223659378,9476.9270301299111,11.02]
[null,"ГРС Вишневе",39.714268381698503,9485.1970032113441,11.031741217138473]
["Чернігівська область","ГРС Богдани",39.418310060053962,9414.5115015030478,10.95]
["Середньозважене значення вищої теплоти згоряння по маршруту № 61",null,39.664222734310449,9473.2443009717717,11.02]
[]
[]
[]
["Головний інженер Лубенського ЛВУМГ                                                     Сирота В.П.                                                                                 ",null,null,null,null,"02.08.2017 року            "]
["Підрозділу підприємства, якому підпорядкована лабораторія",null,null,"прізвище","підпис","дата"]
["Завідувач лабораторією   Лубенського ЛВУМГ                                  Алєксєєнко Н.А.                                                                             ",null,null,null,null,{"$f":"F13","v":"02.08.2017 року            "}]
["Лабораторія, де здійснювалось вимірювання газу",null,null,"прізвище","підпис","дата"]
["Начальник служби ГВ та М                                                                               Шило О.Є                                                      ",null,null,null,null,{"$f":"F13","v":"02.08.2017 року            "}]
["Підрозділу, відповідального за облік газу за маршрутом",null,null,"прізвище","підпис","дата"]

{"sheet":"variablesList","index":2,"n_rows":3,"n_cols":4,"rows_kept":3,"cut":false,"hidden":true,"merged":[]}
[3,"x:\\gaysin","10, 11, 24, 25, 127, 128, 132, 180, 207, 215","x:\\"]
[null,"x:\\Illinci"]
[null,"x:\\Talne"]