{"text_format":"1","workbook":"xlsx","n_sheets":4,"sheets":["паспорт"," розрахунок","додаток","variablesList"],"not_rendered":{"charts":0,"images":0,"macros":1,"external_links":0,"defined_names":3,"comments":0,"pivot_tables":0},"unopened":[],"bounds":{"document_bytes":16777216,"sheet_cells":100000,"rows_first":2000,"rows_last":500,"rows_between":2000,"halvings":0,"cell_chars":16384,"cell_head_chars":4096},"cells_cut":0,"cells_raw":0,"read":"whole","date_system":"1900"}

{"sheet":"паспорт","index":0,"n_rows":51,"n_cols":31,"rows_kept":51,"cut":false,"hidden":false,"merged":[[6,0,9,0],[49,1,49,26],[8,11,9,11],[41,18,42,18],[41,19,42,19],[41,14,42,14],[42,7,42,13],[41,15,42,15],[41,16,42,16],[41,17,42,17],[8,9,9,9],[8,10,9,10],[6,25,9,25],[45,1,45,26],[41,0,41,13],[8,3,9,3],[47,1,47,26],[43,20,43,27],[42,20,42,27],[41,20,41,27],[6,27,9,27],[8,8,9,8],[6,26,9,26],[6,24,9,24],[6,23,9,23],[8,1,9,1],[8,2,9,2],[8,5,9,5],[8,6,9,6],[8,4,9,4],[0,6,0,24],[1,6,1,24],[0,25,0,27],[4,23,4,24],[8,12,9,12],[4,21,4,22],[8,14,8,16],[8,17,8,19],[8,20,8,22],[7,14,7,22],[2,6,2,24],[4,26,4,27],[8,7,9,7],[6,1,7,12],[7,13,9,13],[6,13,6,22]]}
["ПАТ \"УКРТРАНСГАЗ\"",null,null,null,null,null,"ПАСПОРТ ФІЗИКО-ХІМІЧНИХ ПОКАЗНИКІВ ПРИРОДНОГО ГАЗУ  № 655"]
["Філія \"УМГ \"ХАРКІВТРАНСГАЗ\"",null,null,null,null,null,"переданого Сєвєродонецьким ЛВУМГ та прийнятого  ПАТ \"Луганськгаз\""]
["Сєвєродонецьке ЛВУМГ",null,null,null,null,null,"Маршрут № 655"]
["Вимірювальна хіміко-аналітична лабораторія"]
["Свідоцтво № РЬ089/2014 чинно до 06.06.2017 р.",null,null,null,null,null,null,null,null,null,"по газопроводу  \"Ставрополь-Москва,Краснодарский край-Серпухов\"",null,null,null,null,null,null,null,null,null,null,"за період з",null,"01.03.2017 р.",null," по","31.03.2017 р."]
[]
["Число місяця","Компонентний склад, мол. % ",null,null,null,null,null,null,null,null,null,null,null,"Фізико-хімічні показники газу обчислені на основі компонентного складу, 101,325 кПа",null,null,null,null,null,null,null,null,null,"Температура точки роси за вологою (Р = 3.92 МПа), °С","Температура точки роси за вуглеводнями, °С","Вміст сірководню, г/м3","Вміст меркаптанової сірки, г/м3","Вміст механічних домішок, г/м3"]
[null,null,null,null,null,null,null,null,null,null,null,null,null,"Густина абсолютна, кг/м3,при 20 °С, ","Температура вимірювання/згоряння при  20/25°С"]
[null,"метан, С1","етан, С2","пропан, С3","ізо-бутан, і-С4","н-бутан, н-С4","нео-пентан, нео-С5","ізо-пентан, і-С5","н-пентан, н-С5","гексани та вищі, С6+","кисень, О2","азот, N2","діоксид вуглецю, CО2",null,"Теплота згоряння нижча",null,null,"Теплота згоряння вища",null,null,"Число Воббе вище"]
[null,null,null,null,null,null,null,null,null,null,null,null,null,null," ккал/м³"," МДж/м³","кВт⋅год/м³"," ккал/м³"," МДж/м³","кВт⋅год/м³"," ккал/м³"," МДж/м³","кВт⋅год/м³",null,null,null,null,null,null,null,"  "]
[1,null,null,null,null,null,null,null,null,null,null,null,null,null,{"$f":"P11*238.8459","v":8132.1535494299997},34.047699999999999,{"$f":"P11/3.6","v":9.457694444444444},{"$f":"S11*238.8459","v":9010.6765388100011},37.725900000000003,{"$f":"S11/3.6","v":10.479416666666667},{"$f":"V11/0.0041868","v":11694.229483137478},48.961399999999998,{"$f":"V11/3.6","v":13.600388888888888},null,null,null,null,null,{"$f":"SUM(B11:M11)+$K$42+$N$42","v":0}]
[2,null,null,null,null,null,null,null,null,null,null,null,null,null,8132.1535494299997,34.047699999999999,9.457694444444444,9010.6765388100011,37.725900000000003,10.479416666666667,11694.229483137478,48.961399999999998,13.600388888888888,null,null,null,null,null,0]
[3,null,null,null,null,null,null,null,null,null,null,null,null,null,8132.1535494299997,34.047699999999999,9.457694444444444,9010.6765388100011,37.725900000000003,10.479416666666667,11694.229483137478,48.961399999999998,13.600388888888888,null,null,null,null,null,0,{"$f":"IF(AC13=100,\"ОК\",\" \")","v":" "}]
[4,null,null,null,null,null,null,null,null,null,null,null,null,null,8132.1535494299997,34.047699999999999,9.457694444444444,9010.6765388100011,37.725900000000003,10.479416666666667,11694.229483137478,48.961399999999998,13.600388888888888,null,null,null,null,null,0,{"$f":"IF(AC14=100,\"ОК\",\" \")","v":" "}]
[5,null,null,null,null,null,null,null,null,null,null,null,null,null,8132.1535494299997,34.047699999999999,9.457694444444444,9010.6765388100011,37.725900000000003,10.479416666666667,11694.229483137478,48.961399999999998,13.600388888888888,null,null,null,null,null,0," "]
[6,94.521699999999996,2.5009000000000001,0.64070000000000005,7.7700000000000005E-2,0.1002,2.5000000000000001E-3,2.2599999999999999E-2,1.9E-2,2.6599999999999999E-2,1.09E-2,1.8605,0.2167,0.70720000000000005,{"$f":"P16*238.8459","v":8105.2595010899995},33.935099999999998,{"$f":"P16/3.6","v":9.4264166666666664},{"$f":"S16*238.8459","v":8983.0659527700009},37.610300000000002,{"$f":"S16/3.6","v":10.447305555555555},{"$f":"V16/0.0041868","v":11723.297028757046},49.083100000000002,{"$f":"V16/3.6","v":13.634194444444445},null,null,1E-4,3.0000000000000001E-3,"відс",100,"ОК"]
[7,null,null,null,null,null,null,null,null,null,null,null,null,null,{"$f":"P17*238.8459","v":8105.2595010899995},33.935099999999998,{"$f":"P17/3.6","v":9.4264166666666664},{"$f":"S17*238.8459","v":8983.0659527700009},37.610300000000002,{"$f":"S17/3.6","v":10.447305555555555},{"$f":"V17/0.0041868","v":11723.297028757046},49.083100000000002,{"$f":"V17/3.6","v":13.634194444444445},null,null,null,null,null,0," "]
[8,null,null,null,null,null,null,null,null,null,null,null,null,null,8105.2595010899995,33.935099999999998,9.4264166666666664,8983.0659527700009,37.610300000000002,10.447305555555555,11723.297028757046,49.083100000000002,13.634194444444445,null,null,null,null,null,0," "]
[9,null,null,null,null,null,null,null,null,null,null,null,null,null,8105.2595010899995,33.935099999999998,9.4264166666666664,8983.0659527700009,37.610300000000002,10.447305555555555,11723.297028757046,49.083100000000002,13.634194444444445,null,null,null,null,null,0," "]
[10,null,null,null,null,null,null,null,null,null,null,null,null,null,8105.2595010899995,33.935099999999998,9.4264166666666664,8983.0659527700009,37.610300000000002,10.447305555555555,11723.297028757046,49.083100000000002,13.634194444444445,null,null,null,null,null,0," "]
[11,null,null,null,null,null,null,null,null,null,null,null,null,null,8105.2595010899995,33.935099999999998,9.4264166666666664,8983.0659527700009,37.610300000000002,10.447305555555555,11723.297028757046,49.083100000000002,13.634194444444445,null,null,null,null,null,0," "]
[12,null,null,null,null,null,null,null,null,null,null,null,null,null,8105.2595010899995,33.935099999999998,9.4264166666666664,8983.0659527700009,37.610300000000002,10.447305555555555,11723.297028757046,49.083100000000002,13.634194444444445,null,null,null,null,null,0," "]
[13,92.754900000000006,3.3734000000000002,0.76139999999999997,7.1900000000000006E-2,9.6299999999999997E-2,1.9E-3,1.7100000000000001E-2,1.35E-2,1.41E-2,9.5999999999999992E-3,2.6615000000000002,0.22439999999999999,0.71699999999999997,{"$f":"P23*238.8459","v":8101.7006971800001},33.920200000000001,{"$f":"P23/3.6","v":9.4222777777777775},{"$f":"S23*238.8459","v":8975.8289219999988},37.58,{"$f":"S23/3.6","v":10.438888888888888},{"$f":"V23/0.0041868","v":11634.780739466896},48.712499999999999,{"$f":"V23/3.6","v":13.53125},null,null,null,null,null,100.00000000000001,"ОК"]
[14,null,null,null,null,null,null,null,null,null,null,null,null,null,{"$f":"P24*238.8459","v":8101.7006971800001},33.920200000000001,{"$f":"P24/3.6","v":9.4222777777777775},{"$f":"S24*238.8459","v":8975.8289219999988},37.58,{"$f":"S24/3.6","v":10.438888888888888},{"$f":"V24/0.0041868","v":11634.780739466896},48.712499999999999,{"$f":"V24/3.6","v":13.53125},null,null,null,null,null,0," "]
[15,null,null,null,null,null,null,null,null,null,null,null,null,null,8101.7006971800001,33.920200000000001,9.4222777777777775,8975.8289219999988,37.58,10.438888888888888,11634.780739466896,48.712499999999999,13.53125,null,null,null,null,null,0," "]
[16,null,null,null,null,null,null,null,null,null,null,null,null,null,8101.7006971800001,33.920200000000001,9.4222777777777775,8975.8289219999988,37.58,10.438888888888888,11634.780739466896,48.712499999999999,13.53125,null,null,null,null,null,0," "]
[17,null,null,null,null,null,null,null,null,null,null,null,null,null,8101.7006971800001,33.920200000000001,9.4222777777777775,8975.8289219999988,37.58,10.438888888888888,11634.780739466896,48.712499999999999,13.53125,null,null,null,null,null,0," "]
[18,null,null,null,null,null,null,null,null,null,null,null,null,null,8101.7006971800001,33.920200000000001,9.4222777777777775,8975.8289219999988,37.58,10.438888888888888,11634.780739466896,48.712499999999999,13.53125,null,null,null,null,null,0," "]
[19,null,null,null,null,null,null,null,null,null,null,null,null,null,8101.7006971800001,33.920200000000001,9.4222777777777775,8975.8289219999988,37.58,10.438888888888888,11634.780739466896,48.712499999999999,13.53125,null,null,null,null,null,0," "]
[20,null,null,null,null,null,null,null,null,null,null,null,null,null,8101.7006971800001,33.920200000000001,9.4222777777777775,8975.8289219999988,37.58,10.438888888888888,11634.780739466896,48.712499999999999,13.53125,null,null,null,null,null,0,{"$f":"IF(AC30=100,\"ОК\",\" \")","v":" "}]
[21,null,null,null,null,null,null,null,null,null,null,null,null,null,8101.7006971800001,33.920200000000001,9.4222777777777775,8975.8289219999988,37.58,10.438888888888888,11634.780739466896,48.712499999999999,13.53125,null,null,null,null,null,0," "]
[22,null,null,null,null,null,null,null,null,null,null,null,null,null,8101.7006971800001,33.920200000000001,9.4222777777777775,8975.8289219999988,37.58,10.438888888888888,11634.780739466896,48.712499999999999,13.53125,null,null,null,null,null,0," "]
[23,null,null,null,null,null,null,null,null,null,null,null,null,null,8101.7006971800001,33.920200000000001,9.4222777777777775,8975.8289219999988,37.58,10.438888888888888,11634.780739466896,48.712499999999999,13.53125,null,null,null,null,null,0,{"$f":"IF(AC33=100,\"ОК\",\" \")","v":" "}]
[24,null,null,null,null,null,null,null,null,null,null,null,null,null,8101.7006971800001,33.920200000000001,9.4222777777777775,8975.8289219999988,37.58,10.438888888888888,11634.780739466896,48.712499999999999,13.53125,null,null,null,null,null,0," "]
[25,null,null,null,null,null,null,null,null,null,null,null,null,null,8101.7006971800001,33.920200000000001,9.4222777777777775,8975.8289219999988,37.58,10.438888888888888,11634.780739466896,48.712499999999999,13.53125,null,null,null,null,null,0," "]
[26,null,null,null,null,null,null,null,null,null,null,null,null,null,8101.7006971800001,33.920200000000001,9.4222777777777775,8975.8289219999988,37.58,10.438888888888888,11634.780739466896,48.712499999999999,13.53125,null,null,null,null,null,0," "]
[27,null,null,null,null,null,null,null,null,null,null,null,null,null,8101.7006971800001,33.920200000000001,9.4222777777777775,8975.8289219999988,37.58,10.438888888888888,11634.780739466896,48.712499999999999,13.53125,null,null,null,null,null,0," "]
[28,95.007499999999993,2.4552,0.71479999999999999,9.8799999999999999E-2,0.11169999999999999,3.3999999999999998E-3,2.0500000000000001E-2,1.2999999999999999E-2,1.09E-2,9.2999999999999992E-3,1.3202,0.23469999999999999,0.70530000000000004,{"$f":"P38*238.8459","v":8152.9331427300003},34.134700000000002,{"$f":"P38/3.6","v":9.4818611111111117},{"$f":"S38*238.8459","v":9035.7553583099998},37.8309,{"$f":"S38/3.6","v":10.508583333333332},{"$f":"V38/0.0041868","v":11808.254514187447},49.438800000000001,{"$f":"V38/3.6","v":13.733000000000001},null,null,null,null,null,100,"ОК"]
[29,null,null,null,null,null,null,null,null,null,null,null,null,null,{"$f":"P39*238.8459","v":8152.9331427300003},34.134700000000002,{"$f":"P39/3.6","v":9.4818611111111117},{"$f":"S39*238.8459","v":9035.7553583099998},37.8309,{"$f":"S39/3.6","v":10.508583333333332},{"$f":"V39/0.0041868","v":11808.254514187447},49.438800000000001,{"$f":"V39/3.6","v":13.733000000000001},null,null,null,null,null,0," "]
[30,null,null,null,null,null,null,null,null,null,null,null,null,null,8152.9331427300003,34.134700000000002,9.4818611111111117,9035.7553583099998,37.8309,10.508583333333332,11808.254514187447,49.438800000000001,13.733000000000001,null,null,null,null,null,0]
[31,null,null,null,null,null,null,null,null,null,null,null,null,null,8152.9331427300003,34.134700000000002,9.4818611111111117,9035.7553583099998,37.8309,10.508583333333332,11808.254514187447,49.438800000000001,13.733000000000001,null,null,null,null,null,0," "]
["Рівень одоризації відповідає чинним нормативним документам",null,null,null,null,null,null,null,null,null,null,null,null,null,{"$f":"SUMPRODUCT(O11:O41,' розрахунок'!K7:K37)/' розрахунок'!K38","v":8114.6994144750443},{"$f":"SUMPRODUCT(P11:P41,' розрахунок'!K7:K37)/' розрахунок'!K38","v":33.974623028802441},{"$f":"SUMPRODUCT(Q11:Q41,' розрахунок'!K7:K37)/' розрахунок'!K38","v":9.4373952857784573},{"$f":"SUMPRODUCT(R11:R41,' розрахунок'!K7:K37)/' розрахунок'!K38","v":8991.6185026914573},{"$f":"SUMPRODUCT(S11:S41,' розрахунок'!K7:K37)/' розрахунок'!K38","v":37.646107815505545},{"$f":"SUMPRODUCT(T11:T41,' розрахунок'!K7:K37)/' розрахунок'!K38","v":10.457252170973764}]
[null,null,null,null,null,null,null,"Середньозважене значення теплоти згоряння:"]
[]
[]
[null,"Начальник управління Сєвєродонецького  ЛВУМГ                                                                                                                     Головко Ю.О.                                                                                       "]
[null,null,"Підрозділу підприємства, якому підпорядкована лабораторія",null,null,null,null,null,null,null,null,null,null,null,"прізвище",null,null,"підпис",null,null,null,"дата"]
[null,"Інженер ІІ кат.вимірювальної хіміко-аналітичної лабораторії                                                                                                   Єрьоменко М.О.                                                                                                       "]
[null,null,"Лабораторія, де здійснювалось вимірювання газу",null,null,null,null,null,null,null,null,null,null,null,"прізвище",null,null,"підпис",null,null,null,"дата"]
[null,"Начальник служби метрології                                                                                                                                                             Ісаєв В.С."]
[null,null,"Підрозділу, відповідального за облік газу за маршрутом",null,null,null,null,null,null,null,null,null,null,null,"прізвище",null,null,"підпис",null,null,null,"дата"]

{"sheet":" розрахунок","index":1,"n_rows":42,"n_cols":11,"rows_kept":42,"cut":false,"hidden":true,"merged":[[3,10,5,10],[1,0,1,9],[0,0,0,1],[3,0,5,0],[3,1,5,1],[3,2,3,9],[4,2,4,9]]}
[]
["Додаток до Паспорту фізико-хімічних показників природного газу по маршруту № 655"]
[]
["Число місяця","Теплота згоряння вища, МДж/м3","Луганська область",null,null,null,null,null,null,null,"Загальний обсяг газу, м3"]
[null,null,"Обсяг газу переданого за добу,  м3 "]
[null,null,"ГРС м. Новоайдар","ГРС с. Михайлюки","ГРС к-п ім. Суворова","ГРС  к-п Розквіт","ГРС с. Червоний Жовтень","ГРС м. Щастя ТЕС","ГРС м.Щастя ","ГРС  к-п ім. Артема"]
[1,37.725900000000003,44871.76,1255.07,15692.98,3610.73,6056.41,56656.63,11217.12,9028.68,{"$f":"SUM(C7:J7)","v":148389.37999999998}]
[2,37.725900000000003,45655.42,1316.35,16229.16,3739.61,6515.53,38317.910000000003,11480.44,9419.68,132674.1]
[3,37.725900000000003,42315.77,1318.32,15630.36,3685.98,6365.29,34896.21,11212.79,9523.0300000000007,124947.75]
[4,37.725900000000003,42791.99,1175.74,15493.59,3496.56,6624.35,34827.74,11401.41,9520.0400000000009,125331.42000000001]
[5,37.725900000000003,42715.91,1236.01,15268,3387.89,6703.19,36521.75,10888.89,9255.06,125976.7]
[6,37.610300000000002,39915.699999999997,1133.24,13844.47,3303.76,6213.1,38736.080000000002,9821.86,8668.5300000000007,121636.74]
[7,37.610300000000002,43562.02,1223.28,15435.92,3354.78,6264.71,58950.97,11365.96,9271.49,149429.12999999998]
[8,37.610300000000002,42943.839999999997,1135.71,15188.5,3396.18,6543.05,36062.36,11156.08,9523.7999999999993,125949.52]
[9,37.610300000000002,40584.83,1140.27,14121.6,3305.84,6307.53,108068.6,9945.65,8881.85,192356.16999999998]
[10,37.610300000000002,38414.559999999998,1101.0999999999999,13097.34,3233.73,5988.01,66229.89,9715.5300000000007,8701.31,146481.47]
[11,37.610300000000002,39446.18,1072.47,13452.56,3196.23,6073.93,0,10132.75,9111.68,82485.799999999988]
[12,37.610300000000002,42031.18,1140.76,14822.85,3498.57,6765.03,212.36,10704.51,10023.83,89199.09]
[13,37.58,43523.21,1125.33,14873.69,3532.52,6929.13,108631.24,10795,10048.31,199458.43]
[14,37.58,42003.5,1168.8,15313.77,3476.82,6786.36,41131.89,11071.88,9998.91,130951.93000000001]
[15,37.58,38173.94,1002.23,13604.34,3179,5871.51,57223.48,9954.85,9002.4,138011.75000000003]
[16,37.58,38450.019999999997,1081.1099999999999,13866.39,3319.51,6160.71,38178.019999999997,10156.14,9641.94,120853.84]
[17,37.58,38703.360000000001,1024.94,13699.73,3296.02,5835.19,48360.1,10195.6,9402.68,130517.62]
[18,37.58,42602.32,1218.7,15553.38,3490.46,6513.82,6420.1,11578.88,10577.61,97955.27]
[19,37.58,45009.3,1340.11,16313.84,3832.29,7295.27,4680.95,12013.12,11311.67,101796.54999999999]
[20,37.58,41978.69,1012.1,15101.32,3544.8,6648.56,57816.74,11177.24,10776.79,148056.24]
[21,37.58,39826.39,1026.81,14077.36,3366.81,6144.41,35117.07,10433.290000000001,9505.77,119497.91000000002]
[22,37.58,36964.800000000003,835.86,12983.72,3093.52,5609.55,33515.620000000003,9636.9,8878.0499999999993,111518.02]
[23,37.58,32759.23,647.88,10696.98,2709.32,4826.09,36063.14,8081.13,7452.44,103236.21]
[24,37.58,30641.33,634.30999999999995,10679.44,2636.52,4624.49,33130.559999999998,8013.29,7489.2,97849.139999999985]
[25,37.58,32877.879999999997,905.35,11637.79,2656.48,4994.24,5956.83,8718.3700000000008,8514.14,76261.08]
[26,37.58,36706.06,1039.47,13532.35,3130.74,5858.01,767.12,9443.26,9709.64,80186.649999999994]
[27,37.58,43224.03,1240.56,16097.99,3622.04,7086.1,49759.99,11098.68,11579.36,143708.75]
[28,37.8309,41749.339999999997,1214.51,15649.86,3601.15,6862.57,59835.82,10966.79,11257.67,151137.71000000002]
[29,37.8309,37767.68,1113.8399999999999,13568.9,3419.76,6116.71,45342.32,9836.31,9498.9500000000007,{"$f":"C35+D35+E35+F35+G35+H35+I35+J35","v":126664.46999999999}]
[30,37.8309,40090.480000000003,1151.51,15069.22,3564.16,6726.36,45099.22,10570.46,10747.01,{"$f":"C36+D36+E36+F36+G36+H36+I36+J36","v":133018.42000000001}]
[31,37.8309,40241.040000000001,1123.4100000000001,13820.69,3149.75,5962.27,41071.08,10128.290000000001,9597.18,{"$f":"C37+D37+E37+F37+G37+H37+I37+J37","v":125093.70999999999}]
["Загальний обсяг газу, м3",null,{"$f":"SUM(C7:C37)","v":1248541.76},34155.150000000009,444418.08999999985,103831.53,193271.47999999995,1257581.79,322912.46999999997,295918.7,3900630.9699999997]
["Енергія, МДж",null,{"$f":"SUMPRODUCT(B7:B37,C7:C37)","v":47000855.747294009},{"$f":"SUMPRODUCT(B7:B37,D7:D37)","v":1285865.6737829999},{"$f":"SUMPRODUCT(B7:B37,E7:E37)","v":16730266.199405998},{"$f":"SUMPRODUCT(B7:B37,F7:F37)","v":3908755.2635079995},{"$f":"SUMPRODUCT(B7:B37,G7:G37)","v":7275627.6343700001},{"$f":"SUMPRODUCT(B7:B37,H7:H37)","v":47346631.310690008},{"$f":"SUMPRODUCT(B7:B37,I7:I37)","v":12155870.234502001},{"$f":"SUMPRODUCT(B7:B37,J7:J37)","v":11139701.981567001},{"$f":"SUMPRODUCT(B7:B37,K7:K37)","v":146843574.04511997}]
["Теплота згоряння (середньозважене значення за місяць), МДж/м³",null,{"$f":"C39/C38","v":37.644600487607242},37.647782948779309,37.645331222691688,37.645166776488793,37.644600405450419,37.648947915101417,37.644474474776402,{"$f":"J39/J38","v":37.644467827031548},{"$f":"K39/K38","v":37.646107815505545}]
["Теплота згоряння (середньозважене значення за місяць), ккал/м³",null,{"$f":"C40*238.8459","v":8991.258483602991},8992.0186014058472,8991.4330166818963,8991.3937393805645,8991.2584639801698,8992.2968488355218,8991.2283859549971,{"$f":"J40*238.8459","v":8991.2267981683945},{"$f":"K40*238.8459","v":8991.6185026914554}]
["Теплота згоряння (середньозважене значення за місяць), кВт*год./м³",null,{"$f":"C40/3.6","v":10.45683346877979},10.457717485772029,10.45703645074769,10.456990771246886,10.45683344595845,10.458041087528171,10.456798465215668,{"$f":"J40/3.6","v":10.456796618619874},{"$f":"K40/3.6","v":10.457252170973762}]

{"sheet":"додаток","index":2,"n_rows":23,"n_cols":6,"rows_kept":23,"cut":false,"hidden":false,"merged":[[0,0,0,1],[13,0,13,1],[3,2,3,4],[3,1,4,1],[3,0,4,0],[5,0,12,0]]}
[]
["Додаток до Паспорту фізико-хімічних показників природного газу №655"]
[]
["Область","ГРС, прямий споживач","Cередньозважене значення вищої теплоти згоряння"]
[null,null," МДж/м³","ккал/м³","кВт*год./м³"]
["Луганська область","ГРС м. Новоайдар",37.64,8991,10.46]
[null,"ГРС с. Михайлюки",37.65,8992,10.46]
[null,"ГРС к-п ім. Суворова",37.65,8991,10.46]
[null,"ГРС  к-п Розквіт",37.65,8991,10.46]
[null,"ГРС с. Червоний Жовтень",37.64,8991,10.46]
[null,"ГРС м. Щастя ТЕС",37.65,8992,10.46]
[null,"ГРС м.Щастя ",37.64,8991,10.46]
[null,"ГРС  к-п ім. Артема",37.64,8991,10.46]
["Середньозважене значення вищої теплоти згоряння по маршруту № 655",null,37.65,8992,10.46]
[]
[]
[]
["Начальник управління Сєвєродонецького  ЛВУМГ                                         Головко Ю.О.                                                                                     "]
["Підрозділу підприємства, якому підпорядкована лабораторія",null,null,"прізвище","підпис","дата"]
["Інженер ІІ кат.вимірювальної хіміко-аналітичної лабораторії                      Єрьоменко М.О.                                                                                                       "]
["Лабораторія, де здійснювалось вимірювання газу",null,null,"прізвище","підпис","дата"]
["Начальник служби метрології                                                                               Ісаєв В.С."]
["Підрозділу, відповідального за облік газу за маршрутом",null,null,"прізвище","підпис","дата"]

{"sheet":"variablesList","index":3,"n_rows":3,"n_cols":4,"rows_kept":3,"cut":false,"hidden":true,"merged":[]}
[3,"x:\\gaysin","10, 11, 24, 25, 127, 128, 132, 180, 207, 215","x:\\"]
[null,"x:\\Illinci"]
[null,"x:\\Talne"]