{"text_format":"1","workbook":"xlsx","n_sheets":4,"sheets":["паспорт"," розрахунок","додаток","variablesList"],"not_rendered":{"charts":0,"images":0,"macros":1,"external_links":0,"defined_names":3,"comments":0,"pivot_tables":0},"unopened":[],"bounds":{"document_bytes":16777216,"sheet_cells":100000,"rows_first":2000,"rows_last":500,"rows_between":2000,"halvings":0,"cell_chars":16384,"cell_head_chars":4096},"cells_cut":0,"cells_raw":0,"read":"whole","date_system":"1900"}

{"sheet":"паспорт","index":0,"n_rows":51,"n_cols":31,"rows_kept":51,"cut":false,"hidden":false,"merged":[[0,6,0,24],[1,6,1,24],[0,25,0,27],[4,23,4,24],[8,12,9,12],[4,21,4,22],[8,14,8,16],[8,17,8,19],[8,20,8,22],[7,14,7,22],[2,6,2,24],[4,26,4,27],[8,7,9,7],[6,1,7,12],[7,13,9,13],[6,13,6,22],[47,1,47,26],[43,20,43,27],[42,20,42,27],[41,20,41,27],[6,27,9,27],[8,8,9,8],[6,26,9,26],[6,24,9,24],[6,23,9,23],[8,1,9,1],[8,2,9,2],[8,5,9,5],[8,6,9,6],[8,4,9,4],[6,0,9,0],[49,1,49,26],[8,11,9,11],[41,18,42,18],[41,19,42,19],[41,14,42,14],[42,7,42,13],[41,15,42,15],[41,16,42,16],[41,17,42,17],[8,9,9,9],[8,10,9,10],[6,25,9,25],[45,1,45,26],[41,0,41,13],[8,3,9,3]]}
["ПАТ \"УКРТРАНСГАЗ\"",null,null,null,null,null,"ПАСПОРТ ФІЗИКО-ХІМІЧНИХ ПОКАЗНИКІВ ПРИРОДНОГО ГАЗУ  № 652"]
["Філія \"УМГ \"ХАРКІВТРАНСГАЗ\"",null,null,null,null,null,"переданого Сєвєродонецьким ЛВУМГ та прийнятого  ПАТ \"Луганськгаз\""]
["Сєвєродонецьке ЛВУМГ",null,null,null,null,null,"Маршрут № 652"]
["Вимірювальна хіміко-аналітична лабораторія"]
["Свідоцтво № РЬ089/2014 чинно до 06.06.2017 р.",null,null,null,null,null,null,null,null,null,"по газопроводу  \"Луганськ-Лисичанськ\"",null,null,null,null,null,null,null,null,null,null,"за період з",null,"01.03.2017 р.",null," по","31.03.2017 р."]
[]
["Число місяця","Компонентний склад, мол. % ",null,null,null,null,null,null,null,null,null,null,null,"Фізико-хімічні показники газу обчислені на основі компонентного складу, 101,325 кПа",null,null,null,null,null,null,null,null,null,"Температура точки роси за вологою (Р = 3.92 МПа), °С","Температура точки роси за вуглеводнями, °С","Вміст сірководню, г/м3","Вміст меркаптанової сірки, г/м3","Вміст механічних домішок, г/м3"]
[null,null,null,null,null,null,null,null,null,null,null,null,null,"Густина абсолютна, кг/м3,при 20 °С, ","Температура вимірювання/згоряння при  20/25°С"]
[null,"метан, С1","етан, С2","пропан, С3","ізо-бутан, і-С4","н-бутан, н-С4","нео-пентан, нео-С5","ізо-пентан, і-С5","н-пентан, н-С5","гексани та вищі, С6+","кисень, О2","азот, N2","діоксид вуглецю, CО2",null,"Теплота згоряння нижча",null,null,"Теплота згоряння вища",null,null,"Число Воббе вище"]
[null,null,null,null,null,null,null,null,null,null,null,null,null,null," ккал/м³"," МДж/м³","кВт⋅год/м³"," ккал/м³"," МДж/м³","кВт⋅год/м³"," ккал/м³"," МДж/м³","кВт⋅год/м³",null,null,null,null,null,null,null,"  "]
[1,null,null,null,null,null,null,null,null,null,null,null,null,null,{"$f":"P11*238.8459","v":8144.4779978699999},34.099299999999999,{"$f":"P11/3.6","v":9.472027777777777},{"$f":"S11*238.8459","v":9019.0361453099995},37.760899999999999,{"$f":"S11/3.6","v":10.489138888888888},{"$f":"V11/0.0041868","v":11488.965319575809},48.101999999999997,{"$f":"V11/3.6","v":13.361666666666665},null,null,null,null,null,{"$f":"SUM(B11:M11)+$K$42+$N$42","v":0}]
[2,null,null,null,null,null,null,null,null,null,null,null,null,null,8144.4779978699999,34.099299999999999,9.472027777777777,9019.0361453099995,37.760899999999999,10.489138888888888,11488.965319575809,48.101999999999997,13.361666666666665,null,null,null,null,null,0]
[3,91.143199999999993,3.423,1.1140000000000001,0.14299999999999999,0.24909999999999999,5.1999999999999998E-3,6.6400000000000001E-2,5.4300000000000001E-2,0.114,8.8999999999999999E-3,2.6564000000000001,1.0225,0.73980000000000001,{"$f":"P13*238.8459","v":8180.8064592599994},34.251399999999997,{"$f":"P13/3.6","v":9.5142777777777763},{"$f":"S13*238.8459","v":9059.0906027400015},37.928600000000003,{"$f":"S13/3.6","v":10.535722222222223},{"$f":"V13/0.0041868","v":11559.209897773955},48.396099999999997,{"$f":"V13/3.6","v":13.443361111111109},null,null,null,null,null,100,{"$f":"IF(AC13=100,\"ОК\",\" \")","v":"ОК"}]
[4,null,null,null,null,null,null,null,null,null,null,null,null,null,{"$f":"P14*238.8459","v":8180.8064592599994},34.251399999999997,{"$f":"P14/3.6","v":9.5142777777777763},{"$f":"S14*238.8459","v":9059.0906027400015},37.928600000000003,{"$f":"S14/3.6","v":10.535722222222223},{"$f":"V14/0.0041868","v":11559.209897773955},48.396099999999997,{"$f":"V14/3.6","v":13.443361111111109},null,null,null,null,null,0,{"$f":"IF(AC14=100,\"ОК\",\" \")","v":" "}]
[5,null,null,null,null,null,null,null,null,null,null,null,null,null,8180.8064592599994,34.251399999999997,9.5142777777777763,9059.0906027400015,37.928600000000003,10.535722222222223,11559.209897773955,48.396099999999997,13.443361111111109,null,null,null,null,null,0," "]
[6,null,null,null,null,null,null,null,null,null,null,null,null,null,8180.8064592599994,34.251399999999997,9.5142777777777763,9059.0906027400015,37.928600000000003,10.535722222222223,11559.209897773955,48.396099999999997,13.443361111111109,null,null,null,null,null,0," "]
[7,null,null,null,null,null,null,null,null,null,null,null,null,null,8180.8064592599994,34.251399999999997,9.5142777777777763,9059.0906027400015,37.928600000000003,10.535722222222223,11559.209897773955,48.396099999999997,13.443361111111109,null,null,null,null,null,0," "]
[8,null,null,null,null,null,null,null,null,null,null,null,null,null,8180.8064592599994,34.251399999999997,9.5142777777777763,9059.0906027400015,37.928600000000003,10.535722222222223,11559.209897773955,48.396099999999997,13.443361111111109,null,null,null,null,null,0," "]
[9,null,null,null,null,null,null,null,null,null,null,null,null,null,8180.8064592599994,34.251399999999997,9.5142777777777763,9059.0906027400015,37.928600000000003,10.535722222222223,11559.209897773955,48.396099999999997,13.443361111111109,null,null,null,null,null,0," "]
[10,null,null,null,null,null,null,null,null,null,null,null,null,null,8180.8064592599994,34.251399999999997,9.5142777777777763,9059.0906027400015,37.928600000000003,10.535722222222223,11559.209897773955,48.396099999999997,13.443361111111109,null,null,null,null,null,0," "]
[11,null,null,null,null,null,null,null,null,null,null,null,null,null,8180.8064592599994,34.251399999999997,9.5142777777777763,9059.0906027400015,37.928600000000003,10.535722222222223,11559.209897773955,48.396099999999997,13.443361111111109,null,null,null,null,null,0," "]
[12,null,null,null,null,null,null,null,null,null,null,null,null,null,8180.8064592599994,34.251399999999997,9.5142777777777763,9059.0906027400015,37.928600000000003,10.535722222222223,11559.209897773955,48.396099999999997,13.443361111111109,null,null,null,null,null,0," "]
[13,null,null,null,null,null,null,null,null,null,null,null,null,null,8180.8064592599994,34.251399999999997,9.5142777777777763,9059.0906027400015,37.928600000000003,10.535722222222223,11559.209897773955,48.396099999999997,13.443361111111109,null,null,null,null,null,0," "]
[14,91.252200000000002,3.3603000000000001,1.1126,0.1469,0.2591,6.1000000000000004E-3,6.7199999999999996E-2,5.91E-2,0.1053,1.01E-2,2.7863000000000002,0.83479999999999999,0.73799999999999999,{"$f":"P24*238.8459","v":8182.6694572799997},34.2592,{"$f":"P24/3.6","v":9.5164444444444438},{"$f":"S24*238.8459","v":9061.24021584},37.937600000000003,{"$f":"S24/3.6","v":10.538222222222222},{"$f":"V24/0.0041868","v":11575.905225948218},48.466000000000001,{"$f":"V24/3.6","v":13.462777777777777},-2.8,-5.0999999999999996,4.0000000000000002E-4,2E-3,"відс",100,"ОК"]
[15,null,null,null,null,null,null,null,null,null,null,null,null,null,{"$f":"P25*238.8459","v":8182.6694572799997},34.2592,{"$f":"P25/3.6","v":9.5164444444444438},{"$f":"S25*238.8459","v":9061.24021584},37.937600000000003,{"$f":"S25/3.6","v":10.538222222222222},{"$f":"V25/0.0041868","v":11575.905225948218},48.466000000000001,{"$f":"V25/3.6","v":13.462777777777777},null,null,null,null,null,0," "]
[16,null,null,null,null,null,null,null,null,null,null,null,null,null,8182.6694572799997,34.2592,9.5164444444444438,9061.24021584,37.937600000000003,10.538222222222222,11575.905225948218,48.466000000000001,13.462777777777777,null,null,null,null,null,0," "]
[17,null,null,null,null,null,null,null,null,null,null,null,null,null,8182.6694572799997,34.2592,9.5164444444444438,9061.24021584,37.937600000000003,10.538222222222222,11575.905225948218,48.466000000000001,13.462777777777777,null,null,null,null,null,0," "]
[18,null,null,null,null,null,null,null,null,null,null,null,null,null,8182.6694572799997,34.2592,9.5164444444444438,9061.24021584,37.937600000000003,10.538222222222222,11575.905225948218,48.466000000000001,13.462777777777777,null,null,null,null,null,0," "]
[19,null,null,null,null,null,null,null,null,null,null,null,null,null,8182.6694572799997,34.2592,9.5164444444444438,9061.24021584,37.937600000000003,10.538222222222222,11575.905225948218,48.466000000000001,13.462777777777777,null,null,null,null,null,0," "]
[20,null,null,null,null,null,null,null,null,null,null,null,null,null,8182.6694572799997,34.2592,9.5164444444444438,9061.24021584,37.937600000000003,10.538222222222222,11575.905225948218,48.466000000000001,13.462777777777777,null,null,null,null,null,0,{"$f":"IF(AC30=100,\"ОК\",\" \")","v":" "}]
[21,null,null,null,null,null,null,null,null,null,null,null,null,null,8182.6694572799997,34.2592,9.5164444444444438,9061.24021584,37.937600000000003,10.538222222222222,11575.905225948218,48.466000000000001,13.462777777777777,null,null,null,null,null,0," "]
[22,null,null,null,null,null,null,null,null,null,null,null,null,null,8182.6694572799997,34.2592,9.5164444444444438,9061.24021584,37.937600000000003,10.538222222222222,11575.905225948218,48.466000000000001,13.462777777777777,null,null,null,null,null,0," "]
[23,null,null,null,null,null,null,null,null,null,null,null,null,null,8182.6694572799997,34.2592,9.5164444444444438,9061.24021584,37.937600000000003,10.538222222222222,11575.905225948218,48.466000000000001,13.462777777777777,null,null,null,null,null,0,{"$f":"IF(AC33=100,\"ОК\",\" \")","v":" "}]
[24,null,null,null,null,null,null,null,null,null,null,null,null,null,8182.6694572799997,34.2592,9.5164444444444438,9061.24021584,37.937600000000003,10.538222222222222,11575.905225948218,48.466000000000001,13.462777777777777,null,null,null,null,null,0," "]
[25,null,null,null,null,null,null,null,null,null,null,null,null,null,8182.6694572799997,34.2592,9.5164444444444438,9061.24021584,37.937600000000003,10.538222222222222,11575.905225948218,48.466000000000001,13.462777777777777,null,null,null,null,null,0," "]
[26,null,null,null,null,null,null,null,null,null,null,null,null,null,8182.6694572799997,34.2592,9.5164444444444438,9061.24021584,37.937600000000003,10.538222222222222,11575.905225948218,48.466000000000001,13.462777777777777,null,null,null,null,null,0," "]
[27,null,null,null,null,null,null,null,null,null,null,null,null,null,8182.6694572799997,34.2592,9.5164444444444438,9061.24021584,37.937600000000003,10.538222222222222,11575.905225948218,48.466000000000001,13.462777777777777,null,null,null,null,null,0," "]
[28,null,null,null,null,null,null,null,null,null,null,null,null,null,8182.6694572799997,34.2592,9.5164444444444438,9061.24021584,37.937600000000003,10.538222222222222,11575.905225948218,48.466000000000001,13.462777777777777,null,null,null,null,null,0," "]
[29,null,null,null,null,null,null,null,null,null,null,null,null,null,8182.6694572799997,34.2592,9.5164444444444438,9061.24021584,37.937600000000003,10.538222222222222,11575.905225948218,48.466000000000001,13.462777777777777,null,null,null,null,null,0," "]
[30,null,null,null,null,null,null,null,null,null,null,null,null,null,8182.6694572799997,34.2592,9.5164444444444438,9061.24021584,37.937600000000003,10.538222222222222,11575.905225948218,48.466000000000001,13.462777777777777,null,null,null,null,null,0]
[31,null,null,null,null,null,null,null,null,null,null,null,null,null,8182.6694572799997,34.2592,9.5164444444444438,9061.24021584,37.937600000000003,10.538222222222222,11575.905225948218,48.466000000000001,13.462777777777777,null,null,null,null,null,0," "]
["Рівень одоризації відповідає чинним нормативним документам",null,null,null,null,null,null,null,null,null,null,null,null,null,{"$f":"SUMPRODUCT(O11:O41,' розрахунок'!F7:F37)/' розрахунок'!F38","v":8179.2783011393831},{"$f":"SUMPRODUCT(P11:P41,' розрахунок'!F7:F37)/' розрахунок'!F38","v":34.24500190767094},{"$f":"SUMPRODUCT(Q11:Q41,' розрахунок'!F7:F37)/' розрахунок'!F38","v":9.5125005299085945},{"$f":"SUMPRODUCT(R11:R41,' розрахунок'!F7:F37)/' розрахунок'!F38","v":9057.4603191794431},{"$f":"SUMPRODUCT(S11:S41,' розрахунок'!F7:F37)/' розрахунок'!F38","v":37.921774328885043},{"$f":"SUMPRODUCT(T11:T41,' розрахунок'!F7:F37)/' розрахунок'!F38","v":10.533826202468063}]
[null,null,null,null,null,null,null,"Середньозважене значення теплоти згоряння:"]
[]
[]
[null,"Начальник управління Сєвєродонецького  ЛВУМГ                                                                                                Головко Ю.О.                                                                                       "]
[null,null,"Підрозділу підприємства, якому підпорядкована лабораторія",null,null,null,null,null,null,null,null,null,null,null,"прізвище",null,null,"підпис",null,null,null,"дата"]
[null,"Інженер ІІ кат.вимірювальної хіміко-аналітичної лабораторії                                                                                  Єрьоменко М.О.                                                                                                       "]
[null,null,"Лабораторія, де здійснювалось вимірювання газу",null,null,null,null,null,null,null,null,null,null,null,"прізвище",null,null,"підпис",null,null,null,"дата"]
[null,"Начальник служби метрології                                                                                                                                Ісаєв В.С."]
[null,null,"Підрозділу, відповідального за облік газу за маршрутом",null,null,null,null,null,null,null,null,null,null,null,"прізвище",null,null,"підпис",null,null,null,"дата"]

{"sheet":" розрахунок","index":1,"n_rows":42,"n_cols":6,"rows_kept":42,"cut":false,"hidden":true,"merged":[[3,5,5,5],[1,0,1,4],[0,0,0,1],[3,0,5,0],[3,1,5,1],[3,2,3,4],[4,2,4,4]]}
[]
["Додаток до Паспорту фізико-хімічних показників природного газу по маршруту № 652"]
[]
["Число місяця","Теплота згоряння вища, МДж/м3","Луганська область",null,null,"Загальний обсяг газу, м3"]
[null,null,"Обсяг газу переданого за добу,  м3 "]
[null,null,"ГРС м.Попасна","ГРС смт. Золоте","ГРС с.Мирна Долина"]
[1,37.760899999999999,56062.21,22358.97,6084.46,{"$f":"SUM(C7:E7)","v":84505.64}]
[2,37.760899999999999,54297.38,21907.24,5849.65,82054.26999999999]
[3,37.928600000000003,51866.26,22689.66,5753.65,80309.569999999992]
[4,37.928600000000003,46042.44,21037.25,5363.32,72443.010000000009]
[5,37.928600000000003,46456.19,20411.79,5430.92,72298.900000000009]
[6,37.928600000000003,48245.84,19866.689999999999,4997.43,73109.959999999992]
[7,37.928600000000003,48392.160000000003,22890.91,5409.16,76692.23000000001]
[8,37.928600000000003,46889.16,22238.82,5784.41,74912.390000000014]
[9,37.928600000000003,51530.98,21687.67,5298.19,78516.84]
[10,37.928600000000003,47756.11,20281.36,5244.45,73281.919999999998]
[11,37.928600000000003,46523.6,21402.47,5327.1,73253.170000000013]
[12,37.928600000000003,48062.23,21472.91,5608.95,75144.09]
[13,37.928600000000003,54281.46,22950.94,5947.02,83179.42]
[14,37.937600000000003,54933.75,22122.05,5722.17,82777.97]
[15,37.937600000000003,50460.25,19823.740000000002,5220.45,75504.44]
[16,37.937600000000003,50599.48,20297.150000000001,5132.83,76029.460000000006]
[17,37.937600000000003,49216.959999999999,21227.81,5130.17,75574.94]
[18,37.937600000000003,47836.13,21157.47,5544.77,74538.37000000001]
[19,37.937600000000003,50388.34,22483.55,5961.27,78833.16]
[20,37.937600000000003,52790.22,22555.57,5664.14,81009.930000000008]
[21,37.937600000000003,51798.48,21618.400000000001,5549.34,78966.22]
[22,37.937600000000003,48467.8,19708.560000000001,5177.4799999999996,73353.84]
[23,37.937600000000003,40956.51,16809.349999999999,4182.67,61948.53]
[24,37.937600000000003,40267.040000000001,16548.07,4278.72,61093.83]
[25,37.937600000000003,40615.01,19156.12,4588.22,64359.350000000006]
[26,37.937600000000003,41992.83,20426.72,4923.37,67342.92]
[27,37.937600000000003,52873.05,23173.79,5833.89,81880.73]
[28,37.937600000000003,52713.55,21311.51,5704.08,79729.14]
[29,37.937600000000003,49615.21,19108.22,5121.16,{"$f":"SUM(C35:D35:E35)","v":73844.59}]
[30,37.937600000000003,50807.96,20851.150000000001,5358.09,{"$f":"SUM(C36:D36:E36)","v":77017.2}]
[31,37.937600000000003,48837.86,15884.97,5284.16,{"$f":"C37+D37+E37","v":70006.990000000005}]
["Загальний обсяг газу, м3",null,{"$f":"SUM(C7:C37)","v":1521576.4500000002},{"$f":"SUM(D7:D37)","v":645460.88},{"$f":"SUM(E7:E37)","v":166475.69},{"$f":"SUM(F7:F37)","v":2333513.0200000005}]
["Енергія, МДж",null,{"$f":"SUMPRODUCT(B7:B37,C7:C37)","v":57700633.772096992},{"$f":"SUMPRODUCT(B7:B37,D7:D37)","v":24477282.467551004},{"$f":"SUMPRODUCT(B7:B37,E7:E37)","v":6313037.8983070003},{"$f":"SUMPRODUCT(B7:B37,F7:F37)","v":88490954.137955025}]
["Теплота згоряння (середньозважене значення за місяць), МДж/м³",null,{"$f":"C39/C38","v":37.92161331893444},{"$f":"D39/D38","v":37.922178130378718},{"$f":"E39/E38","v":37.92168032646088},{"$f":"F39/F38","v":37.921774328885043}]
["Теплота згоряння (середньозважене значення за місяць), ккал/м³",null,{"$f":"C40*238.8459","v":9057.4218626128841},{"$f":"D40*238.8459","v":9057.5567655106224},{"$f":"E40*238.8459","v":9057.4378670858423},{"$f":"F40*238.8459","v":9057.4603191794449}]
["Теплота згоряння (середньозважене значення за місяць), кВт*год./м³",null,{"$f":"C40/3.6","v":10.533781477481789},{"$f":"D40/3.6","v":10.533938369549643},{"$f":"E40/3.6","v":10.533800090683577},{"$f":"F40/3.6","v":10.533826202468067}]

{"sheet":"додаток","index":2,"n_rows":28,"n_cols":6,"rows_kept":28,"cut":false,"hidden":false,"merged":[[0,0,0,1],[8,0,8,1],[3,2,3,4],[3,1,4,1],[3,0,4,0],[5,0,7,0]]}
[]
["Додаток до Паспорту фізико-хімічних показників природного газу №652"]
[]
["Область","ГРС, прямий споживач","Cередньозважене значення вищої теплоти згоряння"]
[null,null," МДж/м³","ккал/м³","кВт*год./м³"]
["Луганська область","ГРС м.Попасна",37.92,9057,10.53]
[null,"ГРС смт. Золоте",37.92,9058,10.53]
[null,"ГРСс. Мирна Долина",37.92,9057,10.53]
["Середньозважене значення вищої теплоти згоряння по маршруту №652",null,37.92,9057,10.53]
[]
[]
[]
["Начальник управління Сєвєродонецького  ЛВУМГ                                         Головко Ю.О.                                                                                     "]
["Підрозділу підприємства, якому підпорядкована лабораторія",null,null,"прізвище","підпис","дата"]
["Інженер ІІ кат.вимірювальної хіміко-аналітичної лабораторії                    Єрьоменко М.О.                                                                                                       "]
["Лабораторія, де здійснювалось вимірювання газу",null,null,"прізвище","підпис","дата"]
["Начальник служби метрології                                                                               Ісаєв В.С."]
["Підрозділу, відповідального за облік газу за маршрутом",null,null,"прізвище","підпис","дата"]
[]
[]
[]
[]
[]
[null,null,null,null,null,"дата"]
[]
[null,null,null,null,null,"дата"]
[]
[null,null,null,null,null,"дата"]

{"sheet":"variablesList","index":3,"n_rows":3,"n_cols":4,"rows_kept":3,"cut":false,"hidden":true,"merged":[]}
[3,"x:\\gaysin","10, 11, 24, 25, 127, 128, 132, 180, 207, 215","x:\\"]
[null,"x:\\Illinci"]
[null,"x:\\Talne"]