{"text_format":"1","workbook":"xlsx","n_sheets":4,"sheets":["паспорт"," розрахунок","додаток","variablesList"],"not_rendered":{"charts":0,"images":0,"macros":1,"external_links":0,"defined_names":3,"comments":0,"pivot_tables":0},"unopened":[],"bounds":{"document_bytes":16777216,"sheet_cells":100000,"rows_first":2000,"rows_last":500,"rows_between":2000,"halvings":0,"cell_chars":16384,"cell_head_chars":4096},"cells_cut":0,"cells_raw":0,"read":"whole","date_system":"1900"}

{"sheet":"паспорт","index":0,"n_rows":51,"n_cols":31,"rows_kept":51,"cut":false,"hidden":false,"merged":[[6,0,9,0],[49,1,49,26],[8,11,9,11],[41,18,42,18],[41,19,42,19],[41,14,42,14],[42,7,42,13],[41,15,42,15],[41,16,42,16],[41,17,42,17],[8,9,9,9],[8,10,9,10],[6,25,9,25],[45,1,45,26],[41,0,41,13],[8,3,9,3],[47,1,47,26],[43,20,43,27],[42,20,42,27],[41,20,41,27],[6,27,9,27],[8,8,9,8],[6,26,9,26],[6,24,9,24],[6,23,9,23],[8,1,9,1],[8,2,9,2],[8,5,9,5],[8,6,9,6],[8,4,9,4],[0,6,0,24],[1,6,1,24],[0,25,0,27],[4,23,4,24],[8,12,9,12],[4,21,4,22],[8,14,8,16],[8,17,8,19],[8,20,8,22],[7,14,7,22],[2,6,2,24],[4,26,4,27],[8,7,9,7],[6,1,7,12],[7,13,9,13],[6,13,6,22]]}
["ПАТ \"УКРТРАНСГАЗ\"",null,null,null,null,null,"ПАСПОРТ ФІЗИКО-ХІМІЧНИХ ПОКАЗНИКІВ ПРИРОДНОГО ГАЗУ  № 651"]
["Філія \"УМГ \"ХАРКІВТРАНСГАЗ\"",null,null,null,null,null,"переданого Сєвєродонецьким ЛВУМГ та прийнятого  ПАТ \"Луганськгаз\""]
["Сєвєродонецьке ЛВУМГ",null,null,null,null,null,"Маршрут № 651"]
["Вимірювальна хіміко-аналітична лабораторія"]
["Свідоцтво № РЬ089/2014 чинно до 06.06.2017 р.",null,null,null,null,null,null,null,null,null,"по газопроводу  \"Новопсков-Краматорськ\"",null,null,null,null,null,null,null,null,null,null,"за період з",null,"01.03.2017 р.",null," по","31.03.2017 р."]
[]
["Число місяця","Компонентний склад, мол. % ",null,null,null,null,null,null,null,null,null,null,null,"Фізико-хімічні показники газу обчислені на основі компонентного складу, 101,325 кПа",null,null,null,null,null,null,null,null,null,"Температура точки роси за вологою (Р = 3.92 МПа), °С","Температура точки роси за вуглеводнями, °С","Вміст сірководню, г/м3","Вміст меркаптанової сірки, г/м3","Вміст механічних домішок, г/м3"]
[null,null,null,null,null,null,null,null,null,null,null,null,null,"Густина абсолютна, кг/м3,при 20 °С, ","Температура вимірювання/згоряння при  20/25°С"]
[null,"метан, С1","етан, С2","пропан, С3","ізо-бутан, і-С4","н-бутан, н-С4","нео-пентан, нео-С5","ізо-пентан, і-С5","н-пентан, н-С5","гексани та вищі, С6+","кисень, О2","азот, N2","діоксид вуглецю, CО2",null,"Теплота згоряння нижча",null,null,"Теплота згоряння вища",null,null,"Число Воббе вище"]
[null,null,null,null,null,null,null,null,null,null,null,null,null,null," ккал/м³"," МДж/м³","кВт⋅год/м³"," ккал/м³"," МДж/м³","кВт⋅год/м³"," ккал/м³"," МДж/м³","кВт⋅год/м³",null,null,null,null,null,null,null,"  "]
[1,null,null,null,null,null,null,null,null,null,null,null,null,null,{"$f":"P11*238.8459","v":8085.4352913900002},33.8521,{"$f":"P11/3.6","v":9.4033611111111117},{"$f":"S11*238.8459","v":8960.9965916099991},37.517899999999997,{"$f":"S11/3.6","v":10.421638888888888},{"$f":"V11/0.0041868","v":11681.737842743862},48.909100000000002,{"$f":"V11/3.6","v":13.585861111111111},-7.4,-10,null,null,null,{"$f":"SUM(B11:M11)+$K$42+$N$42","v":0}]
[2,null,null,null,null,null,null,null,null,null,null,null,null,null,8085.4352913900002,33.8521,9.4033611111111117,8960.9965916099991,37.517899999999997,10.421638888888888,11681.737842743862,48.909100000000002,13.585861111111111,null,null,null,null,null,0]
[3,94.478800000000007,2.8753000000000002,0.74150000000000005,8.6400000000000005E-2,9.4299999999999995E-2,3.3999999999999998E-3,1.72E-2,1.26E-2,2.6200000000000001E-2,1.12E-2,1.3853,0.26779999999999998,0.70860000000000001,{"$f":"P13*238.8459","v":8172.8528907899999},34.2181,{"$f":"P13/3.6","v":9.5050277777777783},{"$f":"S13*238.8459","v":9056.7737975100008},37.918900000000001,{"$f":"S13/3.6","v":10.533027777777777},{"$f":"V13/0.0041868","v":11807.824591573515},49.436999999999998,{"$f":"V13/3.6","v":13.732499999999998},null,null,null,null,null,100.00000000000001,{"$f":"IF(AC13=100,\"ОК\",\" \")","v":"ОК"}]
[4,null,null,null,null,null,null,null,null,null,null,null,null,null,{"$f":"P14*238.8459","v":8172.8528907899999},34.2181,{"$f":"P14/3.6","v":9.5050277777777783},{"$f":"S14*238.8459","v":9056.7737975100008},37.918900000000001,{"$f":"S14/3.6","v":10.533027777777777},{"$f":"V14/0.0041868","v":11807.824591573515},49.436999999999998,{"$f":"V14/3.6","v":13.732499999999998},null,null,null,null,null,0,{"$f":"IF(AC14=100,\"ОК\",\" \")","v":" "}]
[5,null,null,null,null,null,null,null,null,null,null,null,null,null,8172.8528907899999,34.2181,9.5050277777777783,9056.7737975100008,37.918900000000001,10.533027777777777,11807.824591573515,49.436999999999998,13.732499999999998,null,null,null,null,null,0," "]
[6,null,null,null,null,null,null,null,null,null,null,null,null,null,8172.8528907899999,34.2181,9.5050277777777783,9056.7737975100008,37.918900000000001,10.533027777777777,11807.824591573515,49.436999999999998,13.732499999999998,null,null,null,null,null,0," "]
[7,null,null,null,null,null,null,null,null,null,null,null,null,null,8172.8528907899999,34.2181,9.5050277777777783,9056.7737975100008,37.918900000000001,10.533027777777777,11807.824591573515,49.436999999999998,13.732499999999998,null,null,null,null,null,0," "]
[8,null,null,null,null,null,null,null,null,null,null,null,null,null,8172.8528907899999,34.2181,9.5050277777777783,9056.7737975100008,37.918900000000001,10.533027777777777,11807.824591573515,49.436999999999998,13.732499999999998,null,null,null,null,null,0," "]
[9,null,null,null,null,null,null,null,null,null,null,null,null,null,8172.8528907899999,34.2181,9.5050277777777783,9056.7737975100008,37.918900000000001,10.533027777777777,11807.824591573515,49.436999999999998,13.732499999999998,null,null,null,null,null,0," "]
[10,null,null,null,null,null,null,null,null,null,null,null,null,null,8172.8528907899999,34.2181,9.5050277777777783,9056.7737975100008,37.918900000000001,10.533027777777777,11807.824591573515,49.436999999999998,13.732499999999998,null,null,null,null,null,0," "]
[11,null,null,null,null,null,null,null,null,null,null,null,null,null,8172.8528907899999,34.2181,9.5050277777777783,9056.7737975100008,37.918900000000001,10.533027777777777,11807.824591573515,49.436999999999998,13.732499999999998,null,null,null,null,null,0," "]
[12,null,null,null,null,null,null,null,null,null,null,null,null,null,8172.8528907899999,34.2181,9.5050277777777783,9056.7737975100008,37.918900000000001,10.533027777777777,11807.824591573515,49.436999999999998,13.732499999999998,null,null,null,null,null,0," "]
[13,94.563800000000001,2.8309000000000002,0.74780000000000002,8.5300000000000001E-2,9.1499999999999998E-2,3.5000000000000001E-3,1.7999999999999999E-2,1.38E-2,3.2599999999999997E-2,9.7000000000000003E-3,1.3376999999999999,0.26540000000000002,0.70830000000000004,{"$f":"P23*238.8459","v":8176.7221943699997},34.234299999999998,{"$f":"P23/3.6","v":9.5095277777777767},{"$f":"S23*238.8459","v":9061.0730237099997},37.936900000000001,{"$f":"S23/3.6","v":10.538027777777778},{"$f":"V23/0.0041868","v":11815.873698289863},49.470700000000001,{"$f":"V23/3.6","v":13.741861111111112},null,null,null,null,null,100,"ОК"]
[14,null,null,null,null,null,null,null,null,null,null,null,null,null,{"$f":"P24*238.8459","v":8176.7221943699997},34.234299999999998,{"$f":"P24/3.6","v":9.5095277777777767},{"$f":"S24*238.8459","v":9061.0730237099997},37.936900000000001,{"$f":"S24/3.6","v":10.538027777777778},{"$f":"V24/0.0041868","v":11815.873698289863},49.470700000000001,{"$f":"V24/3.6","v":13.741861111111112},null,null,null,null,null,0," "]
[15,null,null,null,null,null,null,null,null,null,null,null,null,null,8176.7221943699997,34.234299999999998,9.5095277777777767,9061.0730237099997,37.936900000000001,10.538027777777778,11815.873698289863,49.470700000000001,13.741861111111112,null,null,null,null,null,0," "]
[16,null,null,null,null,null,null,null,null,null,null,null,null,null,8176.7221943699997,34.234299999999998,9.5095277777777767,9061.0730237099997,37.936900000000001,10.538027777777778,11815.873698289863,49.470700000000001,13.741861111111112,null,null,null,null,null,0," "]
[17,null,null,null,null,null,null,null,null,null,null,null,null,null,8176.7221943699997,34.234299999999998,9.5095277777777767,9061.0730237099997,37.936900000000001,10.538027777777778,11815.873698289863,49.470700000000001,13.741861111111112,null,null,null,null,null,0," "]
[18,null,null,null,null,null,null,null,null,null,null,null,null,null,8176.7221943699997,34.234299999999998,9.5095277777777767,9061.0730237099997,37.936900000000001,10.538027777777778,11815.873698289863,49.470700000000001,13.741861111111112,null,null,null,null,null,0," "]
[19,null,null,null,null,null,null,null,null,null,null,null,null,null,8176.7221943699997,34.234299999999998,9.5095277777777767,9061.0730237099997,37.936900000000001,10.538027777777778,11815.873698289863,49.470700000000001,13.741861111111112,null,null,null,null,null,0," "]
[20,null,null,null,null,null,null,null,null,null,null,null,null,null,8176.7221943699997,34.234299999999998,9.5095277777777767,9061.0730237099997,37.936900000000001,10.538027777777778,11815.873698289863,49.470700000000001,13.741861111111112,null,null,null,null,null,0,{"$f":"IF(AC30=100,\"ОК\",\" \")","v":" "}]
[21,null,null,null,null,null,null,null,null,null,null,null,null,null,8176.7221943699997,34.234299999999998,9.5095277777777767,9061.0730237099997,37.936900000000001,10.538027777777778,11815.873698289863,49.470700000000001,13.741861111111112,null,null,null,null,null,0," "]
[22,null,null,null,null,null,null,null,null,null,null,null,null,null,8176.7221943699997,34.234299999999998,9.5095277777777767,9061.0730237099997,37.936900000000001,10.538027777777778,11815.873698289863,49.470700000000001,13.741861111111112,null,null,null,null,null,0," "]
[23,88.091899999999995,3.5242,1.6435,0.2283,0.44230000000000003,8.9999999999999993E-3,0.1,8.3799999999999999E-2,8.3599999999999994E-2,1.0200000000000001E-2,3.7801999999999998,2.0030000000000001,0.76919999999999999,{"$f":"P33*238.8459","v":8143.4031913199997},34.094799999999999,{"$f":"P33/3.6","v":9.4707777777777782},{"$f":"S33*238.8459","v":9012.5395368299996},37.733699999999999,{"$f":"S33/3.6","v":10.481583333333333},{"$f":"V33/0.0041868","v":11277.610585650138},47.217100000000002,{"$f":"V33/3.6","v":13.115861111111112},null,null,2.0000000000000001E-4,5.0000000000000001E-3,"відс.",99.999999999999986,{"$f":"IF(AC33=100,\"ОК\",\" \")","v":"ОК"}]
[24,null,null,null,null,null,null,null,null,null,null,null,null,null,{"$f":"P34*238.8459","v":8143.4031913199997},34.094799999999999,{"$f":"P34/3.6","v":9.4707777777777782},{"$f":"S34*238.8459","v":9012.5395368299996},37.733699999999999,{"$f":"S34/3.6","v":10.481583333333333},{"$f":"V34/0.0041868","v":11277.610585650138},47.217100000000002,{"$f":"V34/3.6","v":13.115861111111112},null,null,null,null,null,0," "]
[25,null,null,null,null,null,null,null,null,null,null,null,null,null,8143.4031913199997,34.094799999999999,9.4707777777777782,9012.5395368299996,37.733699999999999,10.481583333333333,11277.610585650138,47.217100000000002,13.115861111111112,null,null,null,null,null,0," "]
[26,null,null,null,null,null,null,null,null,null,null,null,null,null,8143.4031913199997,34.094799999999999,9.4707777777777782,9012.5395368299996,37.733699999999999,10.481583333333333,11277.610585650138,47.217100000000002,13.115861111111112,null,null,null,null,null,0," "]
[27,null,null,null,null,null,null,null,null,null,null,null,null,null,8143.4031913199997,34.094799999999999,9.4707777777777782,9012.5395368299996,37.733699999999999,10.481583333333333,11277.610585650138,47.217100000000002,13.115861111111112,null,null,null,null,null,0," "]
[28,null,null,null,null,null,null,null,null,null,null,null,null,null,8143.4031913199997,34.094799999999999,9.4707777777777782,9012.5395368299996,37.733699999999999,10.481583333333333,11277.610585650138,47.217100000000002,13.115861111111112,null,null,null,null,null,0," "]
[29,null,null,null,null,null,null,null,null,null,null,null,null,null,8143.4031913199997,34.094799999999999,9.4707777777777782,9012.5395368299996,37.733699999999999,10.481583333333333,11277.610585650138,47.217100000000002,13.115861111111112,null,null,null,null,null,0," "]
[30,null,null,null,null,null,null,null,null,null,null,null,null,null,8143.4031913199997,34.094799999999999,9.4707777777777782,9012.5395368299996,37.733699999999999,10.481583333333333,11277.610585650138,47.217100000000002,13.115861111111112,null,null,null,null,null,0]
[31,null,null,null,null,null,null,null,null,null,null,null,null,null,{"$f":"P41*238.8459","v":8085.4352913900002},33.8521,{"$f":"P41/3.6","v":9.4033611111111117},{"$f":"S41*238.8459","v":8960.9965916099991},37.517899999999997,{"$f":"S41/3.6","v":10.421638888888888},{"$f":"V41/0.0041868","v":11681.737842743862},48.909100000000002,{"$f":"V41/3.6","v":13.585861111111111},null,null,null,null,null,0," "]
["Рівень одоризації відповідає чинним нормативним документам",null,null,null,null,null,null,null,null,null,null,null,null,null,{"$f":"SUMPRODUCT(O11:O41,' розрахунок'!G7:G37)/' розрахунок'!G38","v":8158.2105464835795},{"$f":"SUMPRODUCT(P11:P41,' розрахунок'!G7:G37)/' розрахунок'!G38","v":34.156795433723488},{"$f":"SUMPRODUCT(Q11:Q41,' розрахунок'!G7:G37)/' розрахунок'!G38","v":9.4879987315898582},{"$f":"SUMPRODUCT(R11:R41,' розрахунок'!G7:G37)/' розрахунок'!G38","v":9037.8417232239171},{"$f":"SUMPRODUCT(S11:S41,' розрахунок'!G7:G37)/' розрахунок'!G38","v":37.839635192498271},{"$f":"SUMPRODUCT(T11:T41,' розрахунок'!G7:G37)/' розрахунок'!G38","v":10.51100977569396}]
[null,null,null,null,null,null,null,"Середньозважене значення теплоти згоряння:"]
[]
[]
[null,"Начальник управління Сєвєродонецького  ЛВУМГ                                                                                                Головко Ю.О.                                                                                       "]
[null,null,"Підрозділу підприємства, якому підпорядкована лабораторія",null,null,null,null,null,null,null,null,null,null,null,"прізвище",null,null,"підпис",null,null,null,"дата"]
[null,"Інженер ІІ кат.вимірювальної хіміко-аналітичної лабораторії                                                                                  Єрьоменко М.О.                                                                                                       "]
[null,null,"Лабораторія, де здійснювалось вимірювання газу",null,null,null,null,null,null,null,null,null,null,null,"прізвище",null,null,"підпис",null,null,null,"дата"]
[null,"Начальник служби метрології                                                                                                                                Ісаєв В.С."]
[null,null,"Підрозділу, відповідального за облік газу за маршрутом",null,null,null,null,null,null,null,null,null,null,null,"прізвище",null,null,"підпис",null,null,null,"дата"]

{"sheet":" розрахунок","index":1,"n_rows":42,"n_cols":7,"rows_kept":42,"cut":false,"hidden":true,"merged":[[3,6,5,6],[1,0,1,5],[0,0,0,1],[3,0,5,0],[3,1,5,1],[3,2,3,5],[4,2,4,5]]}
[]
["Додаток до Паспорту фізико-хімічних показників природного газу по маршруту № 651"]
[]
["Число місяця","Теплота згоряння вища, МДж/м3","Луганська область",null,null,null,"Загальний обсяг газу, м3"]
[null,null,"Обсяг газу переданого за добу,  м3 "]
[null,null,"ГРС с.Смолянинове","ГРС с. Федчине","ГРС с.Чабанівка","ГРС  с.Новоастрахань"]
[1,37.517899999999997,7346.93,13643.23,1476.96,9733.2099999999991,{"$f":"SUM(C7:F7)","v":32200.329999999998}]
[2,37.517899999999997,7228.62,14069.56,1505.39,9607.93,32411.5]
[3,37.918900000000001,7302.7,13967.88,1519,9570.85,32360.43]
[4,37.918900000000001,7332.26,13505.52,1427.89,9658.15,31923.82]
[5,37.918900000000001,7057.2,13356.78,1410.77,9347.6,31172.35]
[6,37.918900000000001,6482.61,12179.4,1323.52,8795.4699999999993,28781]
[7,37.918900000000001,6948.2,13051.93,1370.21,9157.4599999999991,30527.8]
[8,37.918900000000001,7158.6,13300.85,1390.4,9384.75,31234.600000000002]
[9,37.918900000000001,6779.71,12342.15,1332.23,8732.75,29186.84]
[10,37.918900000000001,6572.96,12104.48,1316.77,8428.85,28423.059999999998]
[11,37.918900000000001,6648.28,12437.66,1397.85,8640.81,29124.6]
[12,37.918900000000001,7154.1,13002.75,1444.14,9266.5,30867.489999999998]
[13,37.936900000000001,7567.75,13488.5,1460.84,9311.7900000000009,31828.880000000001]
[14,37.936900000000001,7445.4,13390.02,1310.6600000000001,9244.65,31390.729999999996]
[15,37.936900000000001,6759.34,12180.63,1295.83,8540.33,28776.130000000005]
[16,37.936900000000001,6912.97,12945.21,1243.53,8700.99,29802.699999999997]
[17,37.936900000000001,6994.87,13257.47,1339.46,8821.52,30413.32]
[18,37.936900000000001,7409.24,14396.76,1417.17,9589.83,32813]
[19,37.936900000000001,7820.29,15433.92,1474.81,9874.57,34603.589999999997]
[20,37.936900000000001,7542.4,14245.75,1410.93,9324.83,32523.910000000003]
[21,37.936900000000001,7761.73,13323.38,1321.1,9099.67,31505.879999999997]
[22,37.936900000000001,6795.44,12208.54,1267.5899999999999,8780.07,29051.64]
[23,37.733699999999999,5685.36,10206.209999999999,1082.42,7882.32,24856.309999999998]
[24,37.733699999999999,5525.41,10020.59,1131.57,7539.18,24216.75]
[25,37.733699999999999,5974.88,10892.94,1219.3599999999999,7773.15,25860.33]
[26,37.733699999999999,6894.97,11910.66,1228.93,8526.61,28561.170000000002]
[27,37.733699999999999,7737.81,14217.58,1467.93,9753.26,33176.58]
[28,37.733699999999999,7675.41,13573.25,1484.11,9384.7900000000009,32117.56]
[29,37.733699999999999,7018.24,11847.96,1319.1,8518.93,{"$f":"SUM(C35:D35:E35:F35)","v":28704.229999999996}]
[30,37.733699999999999,7426.19,12667.15,1375.92,9234,{"$f":"SUM(C36:D36:E36:F36)","v":30703.260000000002}]
[31,37.517899999999997,7084.07,12238.2,1341.23,8922.02,{"$f":"SUM(C37:D37:E37:F37)","v":29585.52}]
["Загальний обсяг газу, м3",null,{"$f":"SUM(C7:C37)","v":218043.94},399406.91000000009,42107.619999999995,279146.83999999997,938705.31000000017]
["Енергія, МДж",null,{"$f":"SUMPRODUCT(B7:B37,C7:C37)","v":8250625.650981999},{"$f":"SUMPRODUCT(B7:B37,D7:D37)","v":15113821.705680998},{"$f":"SUMPRODUCT(B7:B37,E7:E37)","v":1593275.3412299997},{"$f":"SUMPRODUCT(B7:B37,F7:F37)","v":10562543.785768002},{"$f":"SUMPRODUCT(B7:B37,G7:G37)","v":35520266.483661003}]
["Теплота згоряння (середньозважене значення за місяць), МДж/м³",null,{"$f":"C39/C38","v":37.839279784533332},37.840661559112725,37.838171362570478,37.838665075943553,37.839635192498271]
["Теплота згоряння (середньозважене значення за місяць), ккал/м³",null,{"$f":"C40*238.8459","v":9037.7568354886698},9038.0868666816823,9037.4920934473721,9037.6100148623063,9037.8417232239226]
["Теплота згоряння (середньозважене значення за місяць), кВт*год./м³",null,{"$f":"C40/3.6","v":10.510911051259258},10.511294877531313,10.510603156269577,10.510740298873209,10.511009775693964]

{"sheet":"додаток","index":2,"n_rows":27,"n_cols":6,"rows_kept":27,"cut":false,"hidden":false,"merged":[[0,0,0,1],[9,0,9,1],[3,2,3,4],[3,1,4,1],[3,0,4,0],[5,0,8,0]]}
[]
["Додаток до Паспорту фізико-хімічних показників природного газу №651"]
[]
["Область","ГРС, прямий споживач","Cередньозважене значення вищої теплоти згоряння"]
[null,null," МДж/м³","ккал/м³","кВт*год./м³"]
["Луганська область","ГРС с.Смолянинове",37.840000000000003,9038,10.51]
[null,"ГРС с. Федчине",37.840000000000003,9038,10.51]
[null,"ГРС с.Чабанівка",37.840000000000003,9037,10.51]
[null,"ГРС  с.Новоастрахань",37.840000000000003,9038,10.51]
["Середньозважене значення вищої теплоти згоряння по маршруту №651",null,37.840000000000003,9038,10.51]
[]
[]
[]
["Начальник управління Сєвєродонецького  ЛВУМГ                                         Головко Ю.О.                                                                                     "]
["Підрозділу підприємства, якому підпорядкована лабораторія",null,null,"прізвище","підпис","дата"]
["Інженер ІІ кат.вимірювальної хіміко-аналітичної лабораторії                    Єрьоменко М.О.                                                                                                       "]
["Лабораторія, де здійснювалось вимірювання газу",null,null,"прізвище","підпис","дата"]
["Начальник служби метрології                                                                               Ісаєв В.С."]
["Підрозділу, відповідального за облік газу за маршрутом",null,null,"прізвище","підпис","дата"]
[]
[]
[]
[null,null,null,null,null,"дата"]
[]
[null,null,null,null,null,"дата"]
[]
[null,null,null,null,null,"дата"]

{"sheet":"variablesList","index":3,"n_rows":3,"n_cols":4,"rows_kept":3,"cut":false,"hidden":true,"merged":[]}
[3,"x:\\gaysin","10, 11, 24, 25, 127, 128, 132, 180, 207, 215","x:\\"]
[null,"x:\\Illinci"]
[null,"x:\\Talne"]