{"text_format":"1","workbook":"xlsx","n_sheets":4,"sheets":["паспорт"," розрахунок","додаток","variablesList"],"not_rendered":{"charts":0,"images":0,"macros":1,"external_links":0,"defined_names":3,"comments":0,"pivot_tables":0},"unopened":[],"bounds":{"document_bytes":16777216,"sheet_cells":100000,"rows_first":2000,"rows_last":500,"rows_between":2000,"halvings":0,"cell_chars":16384,"cell_head_chars":4096},"cells_cut":0,"cells_raw":0,"read":"whole","date_system":"1900"}

{"sheet":"паспорт","index":0,"n_rows":51,"n_cols":31,"rows_kept":51,"cut":false,"hidden":false,"merged":[[6,0,9,0],[49,1,49,26],[8,11,9,11],[41,18,42,18],[41,19,42,19],[41,14,42,14],[42,7,42,13],[41,15,42,15],[41,16,42,16],[41,17,42,17],[8,9,9,9],[8,10,9,10],[6,25,9,25],[45,1,45,26],[41,0,41,13],[8,3,9,3],[47,1,47,26],[43,20,43,27],[42,20,42,27],[41,20,41,27],[6,27,9,27],[8,8,9,8],[6,26,9,26],[6,24,9,24],[6,23,9,23],[8,1,9,1],[8,2,9,2],[8,5,9,5],[8,6,9,6],[8,4,9,4],[0,6,0,24],[1,6,1,24],[0,25,0,27],[4,23,4,24],[8,12,9,12],[4,21,4,22],[8,14,8,16],[8,17,8,19],[8,20,8,22],[7,14,7,22],[2,6,2,24],[4,26,4,27],[8,7,9,7],[6,1,7,12],[7,13,9,13],[6,13,6,22]]}
["ПАТ \"УКРТРАНСГАЗ\"",null,null,null,null,null,"ПАСПОРТ ФІЗИКО-ХІМІЧНИХ ПОКАЗНИКІВ ПРИРОДНОГО ГАЗУ  № 645"]
["Філія \"УМГ \"ХАРКІВТРАНСГАЗ\"",null,null,null,null,null,"переданого Сєвєродонецьким ЛВУМГ та прийнятого  ПАТ \"Луганськгаз\""]
["Сєвєродонецьке ЛВУМГ",null,null,null,null,null,"Маршрут № 645"]
["Вимірювальна хіміко-аналітична лабораторія"]
["Свідоцтво № РЬ089/2014 чинно до 06.06.2017 р.",null,null,null,null,null,null,null,null,null,"по газопроводу  \"Краснопопівка-Рубіжне\"",null,null,null,null,null,null,null,null,null,null,"за період з",null,"01.03.2017 р.",null," по","31.03.2017 р."]
[]
["Число місяця","Компонентний склад, мол. % ",null,null,null,null,null,null,null,null,null,null,null,"Фізико-хімічні показники газу обчислені на основі компонентного складу, 101,325 кПа",null,null,null,null,null,null,null,null,null,"Температура точки роси за вологою (Р = 3.92 МПа), °С","Температура точки роси за вуглеводнями, °С","Вміст сірководню, г/м3","Вміст меркаптанової сірки, г/м3","Вміст механічних домішок, г/м3"]
[null,null,null,null,null,null,null,null,null,null,null,null,null,"Густина абсолютна, кг/м3,при 20 °С, ","Температура вимірювання/згоряння при  20/25°С"]
[null,"метан, С1","етан, С2","пропан, С3","ізо-бутан, і-С4","н-бутан, н-С4","нео-пентан, нео-С5","ізо-пентан, і-С5","н-пентан, н-С5","гексани та вищі, С6+","кисень, О2","азот, N2","діоксид вуглецю, CО2",null,"Теплота згоряння нижча",null,null,"Теплота згоряння вища",null,null,"Число Воббе вище"]
[null,null,null,null,null,null,null,null,null,null,null,null,null,null," ккал/м³"," МДж/м³","кВт⋅год/м³"," ккал/м³"," МДж/м³","кВт⋅год/м³"," ккал/м³"," МДж/м³","кВт⋅год/м³",null,null,null,null,null,null,null,"  "]
[1,91.090199999999996,3.4834999999999998,1.1221000000000001,0.14779999999999999,0.26119999999999999,7.6E-3,6.2300000000000001E-2,5.3400000000000003E-2,8.7499999999999994E-2,8.0000000000000002E-3,2.6657999999999999,1.0105999999999999,0.73960000000000004,{"$f":"P11*238.8459","v":8180.1854599200005},34.248800000000003,{"$f":"P11/3.6","v":9.5135555555555555},{"$f":"S11*238.8459","v":9727.4053155300007},40.726700000000001,{"$f":"S11/3.6","v":11.312972222222223},{"$f":"V11/0.0041868","v":11560.141396770803},48.4,{"$f":"V11/3.6","v":13.444444444444443},-2.2999999999999998,-4.8,null,null,null,{"$f":"SUM(B11:M11)+$K$42+$N$42","v":100}]
[2,null,null,null,null,null,null,null,null,null,null,null,null,null,{"$f":"P12*238.8459","v":8180.1854599200005},34.248800000000003,{"$f":"P12/3.6","v":9.5135555555555555},{"$f":"S12*238.8459","v":9727.4053155300007},40.726700000000001,{"$f":"S12/3.6","v":11.312972222222223},{"$f":"V12/0.0041868","v":11560.141396770803},48.4,{"$f":"V12/3.6","v":13.444444444444443},null,null,null,null,null,0]
[3,null,null,null,null,null,null,null,null,null,null,null,null,null,8180.1854599200005,34.248800000000003,9.5135555555555555,9727.4053155300007,40.726700000000001,11.312972222222223,11560.141396770803,48.4,13.444444444444443,null,null,null,null,null,0,{"$f":"IF(AC13=100,\"ОК\",\" \")","v":" "}]
[4,null,null,null,null,null,null,null,null,null,null,null,null,null,8180.1854599200005,34.248800000000003,9.5135555555555555,9727.4053155300007,40.726700000000001,11.312972222222223,11560.141396770803,48.4,13.444444444444443,null,null,null,null,null,0,{"$f":"IF(AC14=100,\"ОК\",\" \")","v":" "}]
[5,null,null,null,null,null,null,null,null,null,null,null,null,null,8180.1854599200005,34.248800000000003,9.5135555555555555,9727.4053155300007,40.726700000000001,11.312972222222223,11560.141396770803,48.4,13.444444444444443,null,null,null,null,null,0," "]
[6,91.381100000000004,3.3523000000000001,1.0901000000000001,0.14199999999999999,0.247,7.6E-3,6.3100000000000003E-2,5.4199999999999998E-2,8.3900000000000002E-2,1.14E-2,2.7726999999999999,0.79459999999999997,0.73609999999999998,{"$f":"P16*238.8459","v":8171.9452763700001},34.214300000000001,{"$f":"P16/3.6","v":9.503972222222222},{"$f":"S16*238.8459","v":9718.639670999999},40.69,{"$f":"S16/3.6","v":11.302777777777777},{"$f":"V16/0.0041868","v":11576.860609534728},48.47,{"$f":"V16/3.6","v":13.463888888888889},null,null,null,null,null,100,"ОК"]
[7,null,null,null,null,null,null,null,null,null,null,null,null,null,{"$f":"P17*238.8459","v":8171.9452763700001},34.214300000000001,{"$f":"P17/3.6","v":9.503972222222222},{"$f":"S17*238.8459","v":9718.639670999999},40.69,{"$f":"S17/3.6","v":11.302777777777777},{"$f":"V17/0.0041868","v":11576.860609534728},48.47,{"$f":"V17/3.6","v":13.463888888888889},null,null,null,null,null,0," "]
[8,null,null,null,null,null,null,null,null,null,null,null,null,null,8171.9452763700001,34.214300000000001,9.503972222222222,9718.639670999999,40.69,11.302777777777777,11576.860609534728,48.47,13.463888888888889,null,null,null,null,null,0," "]
[9,null,null,null,null,null,null,null,null,null,null,null,null,null,8171.9452763700001,34.214300000000001,9.503972222222222,9718.639670999999,40.69,11.302777777777777,11576.860609534728,48.47,13.463888888888889,null,null,null,null,null,0," "]
[10,null,null,null,null,null,null,null,null,null,null,null,null,null,8171.9452763700001,34.214300000000001,9.503972222222222,9718.639670999999,40.69,11.302777777777777,11576.860609534728,48.47,13.463888888888889,null,null,null,null,null,0," "]
[11,null,null,null,null,null,null,null,null,null,null,null,null,null,8171.9452763700001,34.214300000000001,9.503972222222222,9718.639670999999,40.69,11.302777777777777,11576.860609534728,48.47,13.463888888888889,null,null,null,null,null,0," "]
[12,null,null,null,null,null,null,null,null,null,null,null,null,null,8171.9452763700001,34.214300000000001,9.503972222222222,9718.639670999999,40.69,11.302777777777777,11576.860609534728,48.47,13.463888888888889,null,null,null,null,null,0," "]
[13,91.263900000000007,3.3858000000000001,1.0961000000000001,0.1449,0.25519999999999998,3.0000000000000001E-3,5.8900000000000001E-2,5.3600000000000002E-2,8.6999999999999994E-2,1.06E-2,2.6892,0.95179999999999998,0.73780000000000001,8169.7240094999997,34.204999999999998,{"$f":"P23/3.6","v":9.5013888888888882},9715.46302053,40.676699999999997,{"$f":"S23/3.6","v":11.299083333333332},11559.639820387885,48.3979,13.443861111111111,null,null,null,null,null,100.00000000000003,"ОК"]
[14,null,null,null,null,null,null,null,null,null,null,null,null,null,8174.5964658600005,34.2254,9.5070555555555547,9721.0281300000006,40.700000000000003,11.305555555555555,11552.283366771759,48.367100000000001,13.435305555555555,null,null,null,null,null,0," "]
[15,null,null,null,null,null,null,null,null,null,null,null,null,null,8174.5964658600005,34.2254,9.5070555555555547,9721.0281300000006,40.700000000000003,11.305555555555555,11552.283366771759,48.367100000000001,13.435305555555555,null,null,null,null,null,0," "]
[16,null,null,null,null,null,null,null,null,null,null,null,null,null,8174.5964658600005,34.2254,{"$f":"P26/3.6","v":9.5070555555555547},9721.0281300000006,40.700000000000003,{"$f":"S26/3.6","v":11.305555555555555},11552.283366771759,48.367100000000001,13.435305555555555,null,null,null,null,null,0," "]
[17,null,null,null,null,null,null,null,null,null,null,null,null,null,8174.5964658600005,34.2254,9.5070555555555547,9721.0281300000006,40.700000000000003,11.305555555555555,11552.283366771759,48.367100000000001,13.435305555555555,null,null,null,null,null,0," "]
[18,null,null,null,null,null,null,null,null,null,null,null,null,null,8174.5964658600005,34.2254,9.5070555555555547,9721.0281300000006,40.700000000000003,11.305555555555555,11552.283366771759,48.367100000000001,13.435305555555555,null,null,null,null,null,0," "]
[19,null,null,null,null,null,null,null,null,null,null,null,null,null,8174.5964658600005,34.2254,9.5070555555555547,9721.0281300000006,40.700000000000003,11.305555555555555,11552.283366771759,48.367100000000001,13.435305555555555,null,null,null,null,null,0," "]
[20,91.267200000000003,3.4060000000000001,1.1045,0.14499999999999999,0.25280000000000002,8.5000000000000006E-3,6.4399999999999999E-2,5.3800000000000001E-2,8.2900000000000001E-2,1.0999999999999999E-2,2.7926000000000002,0.81130000000000002,0.73699999999999999,8175.9578874899998,34.231099999999998,9.5086388888888873,9722.7239358899988,40.707099999999997,11.307527777777777,11574.615458106429,48.460599999999999,13.461277777777777,null,null,1E-4,2E-3,"відс",99.999999999999986,{"$f":"IF(AC30=100,\"ОК\",\" \")","v":"ОК"}]
[21,null,null,null,null,null,null,null,null,null,null,null,null,null,{"$f":"P31*238.8459","v":8175.9578874899998},34.231099999999998,{"$f":"P31/3.6","v":9.5086388888888873},{"$f":"S31*238.8459","v":9722.7239358899988},40.707099999999997,{"$f":"S31/3.6","v":11.307527777777777},{"$f":"V31/0.0041868","v":11574.615458106429},48.460599999999999,{"$f":"V31/3.6","v":13.461277777777777},null,null,null,null,null,0," "]
[22,null,null,null,null,null,null,null,null,null,null,null,null,null,8175.9578874899998,34.231099999999998,9.5086388888888873,9722.7239358899988,40.707099999999997,11.307527777777777,11574.615458106429,48.460599999999999,13.461277777777777,null,null,null,null,null,0," "]
[23,null,null,null,null,null,null,null,null,null,null,null,null,null,8175.9578874899998,34.231099999999998,9.5086388888888873,9722.7239358899988,40.707099999999997,11.307527777777777,11574.615458106429,48.460599999999999,13.461277777777777,null,null,null,null,null,0,{"$f":"IF(AC33=100,\"ОК\",\" \")","v":" "}]
[24,null,null,null,null,null,null,null,null,null,null,null,null,null,8175.9578874899998,34.231099999999998,9.5086388888888873,9722.7239358899988,40.707099999999997,11.307527777777777,11574.615458106429,48.460599999999999,13.461277777777777,null,null,null,null,null,0," "]
[25,null,null,null,null,null,null,null,null,null,null,null,null,null,8175.9578874899998,34.231099999999998,9.5086388888888873,9722.7239358899988,40.707099999999997,11.307527777777777,11574.615458106429,48.460599999999999,13.461277777777777,null,null,null,null,null,0," "]
[26,null,null,null,null,null,null,null,null,null,null,null,null,null,8175.9578874899998,34.231099999999998,9.5086388888888873,9722.7239358899988,40.707099999999997,11.307527777777777,11574.615458106429,48.460599999999999,13.461277777777777,null,null,null,null,null,0," "]
[27,91.438500000000005,3.3271000000000002,1.0798000000000001,0.14399999999999999,0.24709999999999999,7.9000000000000008E-3,6.3799999999999996E-2,5.3999999999999999E-2,8.4199999999999997E-2,1.0800000000000001E-2,2.7522000000000002,0.79059999999999997,0.73570000000000002,8171.7780842399998,34.2136,9.5037777777777777,9718.1142100200013,40.687800000000003,11.302166666666666,11579.392376038981,48.480600000000003,13.466833333333334,null,null,null,null,null,100.00000000000003,"ОК"]
[28,null,null,null,null,null,null,null,null,null,null,null,null,null,{"$f":"P38*238.8459","v":8171.7780842399998},34.2136,{"$f":"P38/3.6","v":9.5037777777777777},{"$f":"S38*238.8459","v":9718.1142100200013},40.687800000000003,{"$f":"S38/3.6","v":11.302166666666666},{"$f":"V38/0.0041868","v":11579.392376038981},48.480600000000003,{"$f":"V38/3.6","v":13.466833333333334},null,null,null,null,null,0," "]
[29,null,null,null,null,null,null,null,null,null,null,null,null,null,8171.7780842399998,34.2136,9.5037777777777777,9718.1142100200013,40.687800000000003,11.302166666666666,11579.392376038981,48.480600000000003,13.466833333333334,null,null,null,null,null,0," "]
[30,null,null,null,null,null,null,null,null,null,null,null,null,null,8171.7780842399998,34.2136,9.5037777777777777,9718.1142100200013,40.687800000000003,11.302166666666666,11579.392376038981,48.480600000000003,13.466833333333334,null,null,null,null,null,0]
[31,null,null,null,null,null,null,null,null,null,null,null,null,null,8171.7780842399998,34.2136,9.5037777777777777,9718.1142100200013,40.687800000000003,11.302166666666666,11579.392376038981,48.480600000000003,13.466833333333334,null,null,null,null,null,0," "]
["Рівень одоризації відповідає чинним нормативним документам",null,null,null,null,null,null,null,null,null,null,null,null,null,{"$f":"SUMPRODUCT(O11:O41,' розрахунок'!D7:D37)/' розрахунок'!D38","v":8174.620565755431},{"$f":"SUMPRODUCT(P11:P41,' розрахунок'!D7:D37)/' розрахунок'!D38","v":34.225500901440768},{"$f":"SUMPRODUCT(Q11:Q41,' розрахунок'!D7:D37)/' розрахунок'!D38","v":9.5070835837335483},{"$f":"SUMPRODUCT(R11:R41,' розрахунок'!D7:D37)/' розрахунок'!D38","v":9721.2777487288458},{"$f":"SUMPRODUCT(S11:S41,' розрахунок'!D7:D37)/' розрахунок'!D38","v":40.701045103679185},{"$f":"SUMPRODUCT(T11:T41,' розрахунок'!D7:D37)/' розрахунок'!D38","v":11.305845862133106}]
[null,null,null,null,null,null,null,"Середньозважене значення теплоти згоряння:"]
[]
[]
[null,"Начальник управління Сєвєродонецького  ЛВУМГ                                                                                        Головко Ю.О.                                                                                       "]
[null,null,"Підрозділу підприємства, якому підпорядкована лабораторія",null,null,null,null,null,null,null,null,null,null,null,"прізвище",null,null,"підпис",null,null,null,"дата"]
[null,"Інженер ІІ кат.вимірювальної хіміко-аналітичної лабораторії                                                                          Єрьоменко М.О.                                                                                                       "]
[null,null,"Лабораторія, де здійснювалось вимірювання газу",null,null,null,null,null,null,null,null,null,null,null,"прізвище",null,null,"підпис",null,null,null,"дата"]
[null,"Начальник служби метрології                                                                                                                       Ісаєв В.С."]
[null,null,"Підрозділу, відповідального за облік газу за маршрутом",null,null,null,null,null,null,null,null,null,null,null,"прізвище",null,null,"підпис",null,null,null,"дата"]

{"sheet":" розрахунок","index":1,"n_rows":42,"n_cols":4,"rows_kept":42,"cut":false,"hidden":true,"merged":[[3,3,5,3],[1,0,1,2],[0,0,0,1],[3,0,5,0],[3,1,5,1]]}
[]
["Додаток до Паспорту фізико-хімічних показників природного газу по маршруту № 645"]
[]
["Число місяця","Теплота згоряння вища, МДж/м3","Луганська область","Загальний обсяг газу, м3"]
[null,null,"Обсяг газу переданого за добу,  м3 "]
[null,null,"АГРС 1/3 с.Червонопопівка"]
[1,40.726700000000001,2087.39,2087.39]
[2,40.726700000000001,1977.08,1977.08]
[3,40.726700000000001,1933.97,1933.97]
[4,40.726700000000001,1896.79,1896.79]
[5,40.726700000000001,1942.88,1942.88]
[6,40.69,1764.9,1764.9]
[7,40.69,1906.67,1906.67]
[8,40.69,1962.96,1962.96]
[9,40.69,1798.58,1798.58]
[10,40.69,1818.75,1818.75]
[11,40.69,1778.53,1778.53]
[12,40.69,1900.37,1900.37]
[13,40.676699999999997,1883.34,1883.34]
[14,40.700000000000003,1855.13,1855.13]
[15,40.700000000000003,1723.11,1723.11]
[16,40.700000000000003,1859.43,1859.43]
[17,40.700000000000003,1870.05,1870.05]
[18,40.700000000000003,2024.8,2024.8]
[19,40.700000000000003,2048.86,2048.86]
[20,40.707099999999997,1938.32,1938.32]
[21,40.707099999999997,1956.94,1956.94]
[22,40.707099999999997,1846.65,1846.65]
[23,40.707099999999997,1625.13,1625.13]
[24,40.707099999999997,1543.12,1543.12]
[25,40.707099999999997,1587.54,1587.54]
[26,40.707099999999997,1758.18,1758.18]
[27,40.687800000000003,2042.93,2042.93]
[28,40.687800000000003,1966.18,1966.18]
[29,40.687800000000003,1755.47,1755.47]
[30,40.687800000000003,1871.02,1871.02]
[31,40.687800000000003,1880.17,1880.17]
["Загальний обсяг газу, м3",null,{"$f":"SUM(C7:C37)","v":57805.240000000005},{"$f":"SUM(D7:D37)","v":57805.240000000005}]
["Енергія, МДж",null,{"$f":"SUMPRODUCT(B7:B37,C7:C37)","v":2352733.6804690002},{"$f":"SUMPRODUCT(B7:B37,D7:D37)","v":2352733.6804690002}]
["Теплота згоряння (середньозважене значення за місяць), МДж/м³",null,{"$f":"C39/C38","v":40.701045103679185},{"$f":"D39/D38","v":40.701045103679185}]
["Теплота згоряння (середньозважене значення за місяць), ккал/м³",null,{"$f":"C40*238.8459","v":9721.2777487288477},{"$f":"D40*238.8459","v":9721.2777487288477}]
["Теплота згоряння (середньозважене значення за місяць), кВт*год./м³",null,{"$f":"C40/3.6","v":11.305845862133106},{"$f":"D40/3.6","v":11.305845862133106}]

{"sheet":"додаток","index":2,"n_rows":16,"n_cols":6,"rows_kept":16,"cut":false,"hidden":false,"merged":[[0,0,0,1],[6,0,6,1],[3,2,3,4],[3,1,4,1],[3,0,4,0]]}
[]
["Додаток до Паспорту фізико-хімічних показників природного газу №645"]
[]
["Область","ГРС, прямий споживач","Cередньозважене значення вищої теплоти згоряння"]
[null,null," МДж/м³","ккал/м³","кВт*год./м³"]
["Луганська область","АГРС 1/3 с.Червонопопівка",40.700000000000003,9721,11.31]
["Середньозважене значення вищої теплоти згоряння по маршруту № 645",null,40.700000000000003,9721,11.31]
[]
[]
[]
["Начальник управління Сєвєродонецького  ЛВУМГ                                        Головко Ю.О.                                                                                     "]
["Підрозділу підприємства, якому підпорядкована лабораторія",null,null,"прізвище","підпис","дата"]
["Інженер ІІ кат.вимірювальної хіміко-аналітичної лабораторії                      Єрьоменко М.О.                                                                                                       "]
["Лабораторія, де здійснювалось вимірювання газу",null,null,"прізвище","підпис","дата"]
["Начальник служби метрології                                                                               Ісаєв В.С."]
["Підрозділу, відповідального за облік газу за маршрутом",null,null,"прізвище","підпис","дата"]

{"sheet":"variablesList","index":3,"n_rows":3,"n_cols":4,"rows_kept":3,"cut":false,"hidden":true,"merged":[]}
[3,"x:\\gaysin","10, 11, 24, 25, 127, 128, 132, 180, 207, 215","x:\\"]
[null,"x:\\Illinci"]
[null,"x:\\Talne"]