{"text_format":"1","workbook":"xlsx","n_sheets":4,"sheets":["паспорт"," розрахунок","додаток","variablesList"],"not_rendered":{"charts":0,"images":0,"macros":1,"external_links":1,"defined_names":4,"comments":0,"pivot_tables":0},"unopened":[],"bounds":{"document_bytes":16777216,"sheet_cells":100000,"rows_first":2000,"rows_last":500,"rows_between":2000,"halvings":0,"cell_chars":16384,"cell_head_chars":4096},"cells_cut":0,"cells_raw":0,"read":"whole","date_system":"1900"}

{"sheet":"паспорт","index":0,"n_rows":51,"n_cols":31,"rows_kept":51,"cut":false,"hidden":false,"merged":[[4,10,4,20],[6,0,9,0],[49,1,49,26],[8,11,9,11],[41,18,42,18],[41,19,42,19],[41,14,42,14],[42,7,42,13],[41,15,42,15],[41,16,42,16],[41,17,42,17],[8,9,9,9],[8,10,9,10],[6,25,9,25],[45,1,45,26],[41,0,41,13],[8,3,9,3],[47,1,47,26],[43,20,43,27],[42,20,42,27],[41,20,41,27],[6,27,9,27],[8,8,9,8],[6,26,9,26],[6,24,9,24],[6,23,9,23],[8,1,9,1],[8,2,9,2],[8,5,9,5],[8,6,9,6],[8,4,9,4],[0,6,0,24],[1,6,1,24],[0,25,0,27],[4,23,4,24],[8,12,9,12],[4,21,4,22],[8,14,8,16],[8,17,8,19],[8,20,8,22],[7,14,7,22],[2,6,2,24],[4,26,4,27],[8,7,9,7],[6,1,7,12],[7,13,9,13],[6,13,6,22]]}
["ПАТ \"УКРТРАНСГАЗ\"",null,null,null,null,null,"ПАСПОРТ ФІЗИКО-ХІМІЧНИХ ПОКАЗНИКІВ ПРИРОДНОГО ГАЗУ  № 664"]
["Філія \"УМГ \"ХАРКІВТРАНСГАЗ\"",null,null,null,null,null,"переданого Харківським ЛВУМГ  та прийнятого ПАТ \"Харківгаз\",  ПАТ \"Харківміськгаз\""]
["Харківський п/м Харківського ЛВУМГ",null,null,null,null,null,"Маршрут № 664"]
["Вимірювальна хіміко-аналітична лабораторія"]
["Свідоцтво про атестацію № 100-359/2015 чинне до 20.12.18 р. ",null,null,null,null,null,null,null,null,null,"з газопроводу  ШБКБ",null,null,null,null,null,null,null,null,null,null,"за період з",null,"01.02.2017 р.",null," по","28.02.2017 р."]
[]
["Число місяця","Компонентний склад, мол. % ",null,null,null,null,null,null,null,null,null,null,null,"Фізико-хімічні показники газу обчислені на основі компонентного складу, 101,325 кПа",null,null,null,null,null,null,null,null,null,"Температура точки роси за вологою (Р = 3.92 МПа), °С","Температура точки роси за вуглеводнями, °С","Вміст сірководню, г/м3","Вміст меркаптанової сірки, г/м3","Вміст механічних домішок, г/м3"]
[null,null,null,null,null,null,null,null,null,null,null,null,null,"Густина абсолютна, кг/м3,при 20 °С, ","Температура вимірювання/згоряння при  20/25°С"]
[null,"метан, С1","етан, С2","пропан, С3","ізо-бутан, і-С4","н-бутан, н-С4","нео-пентан, нео-С5","ізо-пентан, і-С5","н-пентан, н-С5","гексани та вищі, С6+","кисень, О2","азот, N2","діоксид вуглецю, CО2",null,"Теплота згоряння нижча",null,null,"Теплота згоряння вища",null,null,"Число Воббе вище"]
[null,null,null,null,null,null,null,null,null,null,null,null,null,null," ккал/м³"," МДж/м³","кВт⋅год/м³"," ккал/м³"," МДж/м³","кВт⋅год/м³"," ккал/м³"," МДж/м³","кВт⋅год/м³",null,null,null,null,null,null,null,"  "]
[1,94.940700000000007,2.8026,0.71909999999999996,0.1018,0.13239999999999999,5.1000000000000004E-3,3.5400000000000001E-2,2.7900000000000001E-2,8.9300000000000004E-2,3.3E-3,0.95489999999999997,0.1875,0.70840000000000003,{"$f":"P11*238.8459","v":8244.9604680000011},34.520000000000003,{"$f":"P11/3.6","v":9.5888888888888903},{"$f":"S11*238.8459","v":9135.8556750000007},38.25,{"$f":"S11/3.6","v":10.625},{"$f":"V11*238.8459","v":11911.245032999999},49.87,{"$f":"V11/3.6","v":13.852777777777776},null,null,null,null,null,{"$f":"SUM(B11:M11)+$K$42+$N$42","v":99.999999999999986}]
[2,null,null,null,null,null,null,null,null,null,null,null,null,null,{"$f":"P12*238.8459","v":8244.9604680000011},34.520000000000003,9.5888888888888903,{"$f":"S12*238.8459","v":9135.8556750000007},38.25,{"$f":"S12/3.6","v":10.625},{"$f":"V12*238.8459","v":11911.245032999999},49.87,{"$f":"V12/3.6","v":13.852777777777776},null,null,null,null,null,0]
[3,94.721299999999999,2.9477000000000002,0.72989999999999999,0.10059999999999999,0.1361,5.4000000000000003E-3,3.6600000000000001E-2,2.9100000000000001E-2,9.4299999999999995E-2,3.5999999999999999E-3,1.0216000000000001,0.17369999999999999,0.70979999999999999,8254.5143040000003,34.56,9.6,9145.4095109999998,38.29,10.636111111111111,11913.633492000001,49.88,{"$f":"V13/3.6","v":13.855555555555556},-9.8000000000000007,-4.5,8.0000000000000004E-4,2.0000000000000001E-4,"відсутні",99.999900000000011,{"$f":"IF(AC13=100,\"ОК\",\" \")","v":" "}]
[4,null,null,null,null,null,null,null,null,null,null,null,null,null,8254.5143040000003,34.56,9.6,9145.4095109999998,38.29,10.636111111111111,11913.633492000001,49.88,13.855555555555556,null,null,null,null,null,0,{"$f":"IF(AC14=100,\"ОК\",\" \")","v":" "}]
[5,null,null,null,null,null,null,null,null,null,null,null,null,null,8254.5143040000003,34.56,9.6,9145.4095109999998,38.29,10.636111111111111,11913.633492000001,49.88,13.855555555555556,null,null,null,null,null,0," "]
[6,null,null,null,null,null,null,null,null,null,null,null,null,null,8254.5143040000003,34.56,9.6,9145.4095109999998,38.29,10.636111111111111,11913.633492000001,49.88,13.855555555555556,null,null,null,null,null,0," "]
[7,94.486900000000006,3.0754000000000001,0.74790000000000001,0.1016,0.14419999999999999,6.1999999999999998E-3,4.1799999999999997E-2,3.4599999999999999E-2,0.1067,3.8999999999999998E-3,1.0679000000000001,0.18290000000000001,0.71189999999999998,8268.845057999999,34.619999999999997,9.6166666666666654,9159.7402650000004,38.35,10.652777777777779,11913.633492000001,49.88,13.855555555555556,-9.4,-4,null,null,null,100.00000000000001,"ОК"]
[8,94.013300000000001,3.3982999999999999,0.81130000000000002,9.8699999999999996E-2,0.13350000000000001,4.8999999999999998E-3,3.2399999999999998E-2,0.03,6.0299999999999999E-2,"",1.2481,0.16919999999999999,0.71330000000000005,8264.0681400000012,34.6,9.6111111111111107,9157.3518060000006,38.340000000000003,10.65,11901.691197,49.83,13.841666666666665,null,null,null,null,null,100,"ОК"]
[9,93.622200000000007,3.6248999999999998,0.86560000000000004,0.10290000000000001,0.1401,4.8999999999999998E-3,3.1800000000000002E-2,2.9399999999999999E-2,5.5599999999999997E-2,"",1.333,0.18990000000000001,0.71589999999999998,8276.0104350000001,34.65,9.625,{"$f":"S19*238.8459","v":9171.6825599999993},38.4,{"$f":"S19/3.6","v":10.666666666666666},11896.914279000001,49.81,13.836111111111112,null,null,null,null,null,100.00030000000001," "]
[10,null,null,null,null,null,null,null,null,null,null,null,null,null,8276.0104350000001,34.65,{"$f":"P20/3.6","v":9.625},{"$f":"S20*238.8459","v":9171.6825599999993},38.4,{"$f":"S20/3.6","v":10.666666666666666},11896.914279000001,49.81,13.836111111111112,null,null,null,null,null,0," "]
[11,null,null,null,null,null,null,null,null,null,null,null,null,null,8276.0104350000001,34.65,9.625,9171.6825599999993,38.4,{"$f":"S21/3.6","v":10.666666666666666},11896.914279000001,49.81,13.836111111111112,null,null,null,null,null,0," "]
[12,93.730599999999995,3.5367999999999999,0.80740000000000001,0.1026,0.15459999999999999,6.4999999999999997E-3,3.7999999999999999E-2,3.6700000000000003E-2,6.1199999999999997E-2,"",1.2961,0.22950000000000001,0.71579999999999999,8271.2335170000006,34.630000000000003,9.6194444444444454,9166.9056419999997,38.380000000000003,10.661111111111111,11889.748902000001,49.78,13.827777777777778,null,null,null,null,null,99.999999999999986,"ОК"]
[13,93.866100000000003,3.4662999999999999,0.80430000000000001,0.1045,0.1552,6.4999999999999997E-3,3.9600000000000003E-2,3.78E-2,6.4000000000000001E-2,"",1.2359,0.21959999999999999,0.71509999999999996,8273.6219760000004,34.64,9.6222222222222218,9169.2941009999995,38.39,10.66388888888889,11899.302738,49.82,13.838888888888889,null,null,null,null,null,99.999799999999993," "]
[14,93.866,3.4554,0.80349999999999999,0.1043,0.15679999999999999,6.4999999999999997E-3,4.2299999999999997E-2,3.8399999999999997E-2,6.4799999999999996E-2,"",1.2413000000000001,0.22059999999999999,0.71519999999999995,8273.6219760000004,34.64,9.6222222222222218,9169.2941009999995,38.39,10.66388888888889,11899.302738,49.82,13.838888888888889,-8.8000000000000007,-3.7,null,null,null,99.999899999999997," "]
[15,93.794499999999999,3.4946000000000002,0.80479999999999996,0.1047,0.1545,6.1000000000000004E-3,4.2099999999999999E-2,3.78E-2,6.7100000000000007E-2,"",1.2670999999999999,0.22650000000000001,0.7157,8273.6219760000004,34.64,9.6222222222222218,9169.2941009999995,38.39,10.66388888888889,11896.914279000001,49.81,13.836111111111112,null,null,null,null,null,99.999800000000008," "]
[16,93.441100000000006,3.6816,0.84819999999999995,0.1084,0.16220000000000001,6.4999999999999997E-3,4.4299999999999999E-2,3.9600000000000003E-2,6.7599999999999993E-2,"",1.3321000000000001,0.26840000000000003,0.71840000000000004,8285.5642709999993,34.69,{"$f":"P26/3.6","v":9.6361111111111111},9181.2363960000002,38.44,{"$f":"S26/3.6","v":10.677777777777777},11889.748902000001,49.78,13.827777777777778,null,null,null,null,null,100.00000000000001,"ОК"]
[17,null,null,null,null,null,null,null,null,null,null,null,null,null,8285.5642709999993,34.69,9.6361111111111111,9181.2363960000002,38.44,10.677777777777777,11889.748902000001,49.78,13.827777777777778,null,null,null,null,null,0," "]
[18,null,null,null,null,null,null,null,null,null,null,null,null,null,8285.5642709999993,34.69,9.6361111111111111,9181.2363960000002,38.44,10.677777777777777,11889.748902000001,49.78,13.827777777777778,null,null,null,null,null,0," "]
[19,92.85,4.0027999999999997,0.9073,0.1115,0.17730000000000001,7.4000000000000003E-3,4.3999999999999997E-2,4.2999999999999997E-2,7.1800000000000003E-2,"",1.4454,0.33950000000000002,0.72289999999999999,8304.6719430000012,34.770000000000003,9.6583333333333332,9200.3440680000003,38.520000000000003,10.700000000000001,11877.806606999999,49.73,13.813888888888888,null,null,null,null,null,100.00000000000001,"ОК"]
[20,92.759299999999996,3.9977999999999998,0.91020000000000001,0.11459999999999999,0.186,7.9000000000000008E-3,4.7899999999999998E-2,4.6100000000000002E-2,7.6300000000000007E-2,"",1.4936,0.36030000000000001,0.72389999999999999,8304.6719430000012,34.770000000000003,9.6583333333333332,9200.3440680000003,38.520000000000003,10.700000000000001,11868.252770999999,49.69,13.802777777777777,null,null,null,null,null,100,{"$f":"IF(AC30=100,\"ОК\",\" \")","v":"ОК"}]
[21,93.230400000000003,3.633,0.89859999999999995,0.114,0.18790000000000001,7.7999999999999996E-3,4.4999999999999998E-2,4.7899999999999998E-2,7.7799999999999994E-2,"",1.4535,0.30409999999999998,0.7208,8287.9527300000009,34.700000000000003,9.6388888888888893,9183.624855,38.450000000000003,10.680555555555555,11870.641230000001,49.7,13.805555555555555,null,null,null,null,null,100.00000000000001,"ОК"]
[22,93.4863,3.2222,0.93979999999999997,0.1135,0.18690000000000001,6.8999999999999999E-3,3.5000000000000003E-2,4.5999999999999999E-2,7.6300000000000007E-2,"",1.5383,0.34839999999999999,0.71940000000000004,8252.1258449999987,34.549999999999997,9.5972222222222214,9145.4095109999998,38.29,10.636111111111111,11834.814344999999,49.55,13.763888888888888,null,null,null,null,null,99.999600000000015," "]
[23,93.438500000000005,3.1669999999999998,0.94899999999999995,0.112,0.18459999999999999,6.6E-3,3.3399999999999999E-2,4.5999999999999999E-2,7.46E-2,"",1.5976999999999999,0.39040000000000002,0.71989999999999998,8240.1835499999997,34.5,{"$f":"P33/3.6","v":9.5833333333333339},9133.4672160000009,38.24,{"$f":"S33/3.6","v":10.622222222222222},11813.318214000001,49.46,13.738888888888889,-9.1999999999999993,-3.8,8.9999999999999998E-4,2.0000000000000001E-4,"відсутні",99.999800000000022,{"$f":"IF(AC33=100,\"ОК\",\" \")","v":" "}]
[24,null,null,null,null,null,null,null,null,null,null,null,null,null,8240.1835499999997,34.5,9.5833333333333339,9133.4672160000009,38.24,10.622222222222222,11813.318214000001,49.46,13.738888888888889,null,null,null,null,null,0," "]
[25,null,null,null,null,null,null,null,null,null,null,null,null,null,8240.1835499999997,34.5,9.5833333333333339,9133.4672160000009,38.24,10.622222222222222,11813.318214000001,49.46,13.738888888888889,null,null,null,null,null,0," "]
[26,92.856700000000004,3.8923000000000001,0.91210000000000002,0.1145,0.188,8.2000000000000007E-3,5.4899999999999997E-2,4.9399999999999999E-2,8.3699999999999997E-2,"",1.4913000000000001,0.3488,0.72370000000000001,8304.6719430000012,34.770000000000003,9.6583333333333332,9200.3440680000003,38.520000000000003,{"$f":"S36/3.6","v":10.700000000000001},11870.641230000001,49.7,13.805555555555555,null,null,null,null,null,99.999900000000011," "]
[27,93.177099999999996,3.6863000000000001,0.90639999999999998,0.1135,0.1898,7.4999999999999997E-3,4.4499999999999998E-2,4.9000000000000002E-2,8.3400000000000002E-2,"",1.4519,0.29160000000000003,0.72130000000000005,8295.1181069999984,34.729999999999997,9.6472222222222204,9193.178691000001,38.49,10.691666666666666,11877.806606999999,49.73,13.813888888888888,null,null,null,null,null,100.001," "]
[28,93.153000000000006,3.7018,0.88319999999999999,0.11459999999999999,0.18329999999999999,7.1999999999999998E-3,4.5999999999999999E-2,4.8000000000000001E-2,8.48E-2,"",1.4356,0.34389999999999998,0.72160000000000002,8290.3411890000007,34.71,9.6416666666666675,9186.0133139999998,38.46,10.683333333333334,11868.252770999999,49.69,13.802777777777777,null,null,null,null,null,100.00140000000002," "]
[29,null,null,null,null,null,null,null,null,null,null,null,null,null,8290.3411890000007,34.71,{"$f":"P39/3.6","v":9.6416666666666675},9186.0133139999998,38.46,{"$f":"S39/3.6","v":10.683333333333334},11868.252770999999,49.69,13.802777777777777,null,null,null,null,null,0," "]
[30,null,null,null,null,null,null,null,null,null,null,null,null,null,8290.3411890000007,34.71,{"$f":"P40/3.6","v":9.6416666666666675},9186.0133139999998,38.46,{"$f":"S40/3.6","v":10.683333333333334},11868.252770999999,49.69,13.802777777777777,null,null,null,null,null,0]
[31,null,null,null,null,null,null,null,null,null,null,null,null,null,8290.3411890000007,34.71,{"$f":"P41/3.6","v":9.6416666666666675},9186.0133139999998,38.46,{"$f":"S41/3.6","v":10.683333333333334},11868.252770999999,49.69,13.802777777777777,null,null,null,null,null,0," "]
["Рівень одоризації відповідає чинним нормативним документам",null,null,null,null,null,null,null,null,null,null,null,null,null,8270,34.630000000000003,9.6199999999999992,9164,38.369999999999997,10.66]
[null,null,null,null,null,null,null,"Середньозважене значення теплоти згоряння:"]
[]
[]
[null,"В.о. Начальника  Харківського ЛВУМГ                                                                                                                 Моторя О.А.                                                                   01.03.2017                                                                           "]
[null,null,"Підрозділу підприємства, якому підпорядкована лабораторія",null,null,null,null,null,null,null,null,null,null,null,"прізвище",null,null,"підпис",null,null,null,"дата"]
[null,"Завідувач лабораторії  Харківського п/м  Харківського ЛВУМГ                                                                        Крупчицький Д.О.                                                          01.03.2017                                                                                                       "]
[null,null,"Лабораторія, де здійснювалось вимірювання газу",null,null,null,null,null,null,null,null,null,null,null,"прізвище",null,null,"підпис",null,null,null,"дата"]
[null,"Начальник служби ГВ та М                                                                                                                                      Щербак С.О.                                                                    01.03.2017"]
[null,null,"Підрозділу, відповідального за облік газу за маршрутом",null,null,null,null,null,null,null,null,null,null,null,"прізвище",null,null,"підпис",null,null,null,"дата"]

{"sheet":" розрахунок","index":1,"n_rows":42,"n_cols":8,"rows_kept":42,"cut":false,"hidden":false,"merged":[[3,7,5,7],[1,0,1,6],[0,0,0,1],[3,0,5,0],[3,1,5,1],[3,2,3,6],[4,2,4,6]]}
[]
["Додаток до Паспорту фізико-хімічних показників природного газу по маршруту № 830"]
[]
["Число місяця","Теплота згоряння вища, МДж/м3","Харківська область",null,null,null,null,"Загальний обсяг газу, м3"]
[null,null,"Обсяг газу переданого за добу,  м3 "]
[null,null,"ГРС-2 м. Харків\nПАТ \"Харківгаз\"\nс. Берізка","ГРС-2 м. Харків\nПАТ \"Харківміськгаз\"","ГРС Слатине\nПАТ \"Харківгаз\"","ГРС Золочів\nПАТ \"Харківгаз\"","ГРС Дергачи\nПАТ \"Харківгаз\""]
[1,{"$f":"паспорт!S11","v":38.25},{"$f":"ROUND(IF(ISNUMBER('[1] розрахунок (2)'!C7),'[1] розрахунок (2)'!C7,LEFT('[1] розрахунок (2)'!C7,LEN('[1] розрахунок (2)'!C7)-1)),2)","v":1125.6099999999999},{"$f":"ROUND(IF(ISNUMBER('[1] розрахунок (2)'!D7),'[1] розрахунок (2)'!D7,LEFT('[1] розрахунок (2)'!D7,LEN('[1] розрахунок (2)'!D7)-1)),2)","v":2352169.5099999998},{"$f":"ROUND(IF(ISNUMBER('[1] розрахунок (2)'!E7),'[1] розрахунок (2)'!E7,LEFT('[1] розрахунок (2)'!E7,LEN('[1] розрахунок (2)'!E7)-1)),2)","v":112886.37},{"$f":"ROUND(IF(ISNUMBER('[1] розрахунок (2)'!F7),'[1] розрахунок (2)'!F7,LEFT('[1] розрахунок (2)'!F7,LEN('[1] розрахунок (2)'!F7)-1)),2)","v":81741.09},{"$f":"ROUND(IF(ISNUMBER('[1] розрахунок (2)'!G7),'[1] розрахунок (2)'!G7,LEFT('[1] розрахунок (2)'!G7,LEN('[1] розрахунок (2)'!G7)-1)),2)","v":210236.97},{"$f":"SUM(C7:G7)","v":2758159.55}]
[2,{"$f":"паспорт!S12","v":38.25},{"$f":"ROUND(IF(ISNUMBER('[1] розрахунок (2)'!C8),'[1] розрахунок (2)'!C8,LEFT('[1] розрахунок (2)'!C8,LEN('[1] розрахунок (2)'!C8)-1)),2)","v":1049.8699999999999},{"$f":"ROUND(IF(ISNUMBER('[1] розрахунок (2)'!D8),'[1] розрахунок (2)'!D8,LEFT('[1] розрахунок (2)'!D8,LEN('[1] розрахунок (2)'!D8)-1)),2)","v":2119861.38},{"$f":"ROUND(IF(ISNUMBER('[1] розрахунок (2)'!E8),'[1] розрахунок (2)'!E8,LEFT('[1] розрахунок (2)'!E8,LEN('[1] розрахунок (2)'!E8)-1)),2)","v":100088.43},{"$f":"ROUND(IF(ISNUMBER('[1] розрахунок (2)'!F8),'[1] розрахунок (2)'!F8,LEFT('[1] розрахунок (2)'!F8,LEN('[1] розрахунок (2)'!F8)-1)),2)","v":74884.27},{"$f":"ROUND(IF(ISNUMBER('[1] розрахунок (2)'!G8),'[1] розрахунок (2)'!G8,LEFT('[1] розрахунок (2)'!G8,LEN('[1] розрахунок (2)'!G8)-1)),2)","v":190505.58},{"$f":"SUM(C8:G8)","v":2486389.5300000003}]
[3,{"$f":"паспорт!S13","v":38.29},{"$f":"ROUND(IF(ISNUMBER('[1] розрахунок (2)'!C9),'[1] розрахунок (2)'!C9,LEFT('[1] розрахунок (2)'!C9,LEN('[1] розрахунок (2)'!C9)-1)),2)","v":1041.25},{"$f":"ROUND(IF(ISNUMBER('[1] розрахунок (2)'!D9),'[1] розрахунок (2)'!D9,LEFT('[1] розрахунок (2)'!D9,LEN('[1] розрахунок (2)'!D9)-1)),2)","v":2056201.32},{"$f":"ROUND(IF(ISNUMBER('[1] розрахунок (2)'!E9),'[1] розрахунок (2)'!E9,LEFT('[1] розрахунок (2)'!E9,LEN('[1] розрахунок (2)'!E9)-1)),2)","v":95401.64},{"$f":"ROUND(IF(ISNUMBER('[1] розрахунок (2)'!F9),'[1] розрахунок (2)'!F9,LEFT('[1] розрахунок (2)'!F9,LEN('[1] розрахунок (2)'!F9)-1)),2)","v":70750.91},{"$f":"ROUND(IF(ISNUMBER('[1] розрахунок (2)'!G9),'[1] розрахунок (2)'!G9,LEFT('[1] розрахунок (2)'!G9,LEN('[1] розрахунок (2)'!G9)-1)),2)","v":179687.16},{"$f":"SUM(C9:G9)","v":2403082.2800000003}]
[4,{"$f":"паспорт!S14","v":38.29},{"$f":"ROUND(IF(ISNUMBER('[1] розрахунок (2)'!C10),'[1] розрахунок (2)'!C10,LEFT('[1] розрахунок (2)'!C10,LEN('[1] розрахунок (2)'!C10)-1)),2)","v":1016.22},{"$f":"ROUND(IF(ISNUMBER('[1] розрахунок (2)'!D10),'[1] розрахунок (2)'!D10,LEFT('[1] розрахунок (2)'!D10,LEN('[1] розрахунок (2)'!D10)-1)),2)","v":1969901.44},{"$f":"ROUND(IF(ISNUMBER('[1] розрахунок (2)'!E10),'[1] розрахунок (2)'!E10,LEFT('[1] розрахунок (2)'!E10,LEN('[1] розрахунок (2)'!E10)-1)),2)","v":87900.41},{"$f":"ROUND(IF(ISNUMBER('[1] розрахунок (2)'!F10),'[1] розрахунок (2)'!F10,LEFT('[1] розрахунок (2)'!F10,LEN('[1] розрахунок (2)'!F10)-1)),2)","v":65937.33},{"$f":"ROUND(IF(ISNUMBER('[1] розрахунок (2)'!G10),'[1] розрахунок (2)'!G10,LEFT('[1] розрахунок (2)'!G10,LEN('[1] розрахунок (2)'!G10)-1)),2)","v":163291.03},{"$f":"SUM(C10:G10)","v":2288046.4299999997}]
[5,{"$f":"паспорт!S15","v":38.29},{"$f":"ROUND(IF(ISNUMBER('[1] розрахунок (2)'!C11),'[1] розрахунок (2)'!C11,LEFT('[1] розрахунок (2)'!C11,LEN('[1] розрахунок (2)'!C11)-1)),2)","v":1038.32},{"$f":"ROUND(IF(ISNUMBER('[1] розрахунок (2)'!D11),'[1] розрахунок (2)'!D11,LEFT('[1] розрахунок (2)'!D11,LEN('[1] розрахунок (2)'!D11)-1)),2)","v":2102318.19},{"$f":"ROUND(IF(ISNUMBER('[1] розрахунок (2)'!E11),'[1] розрахунок (2)'!E11,LEFT('[1] розрахунок (2)'!E11,LEN('[1] розрахунок (2)'!E11)-1)),2)","v":90177.03},{"$f":"ROUND(IF(ISNUMBER('[1] розрахунок (2)'!F11),'[1] розрахунок (2)'!F11,LEFT('[1] розрахунок (2)'!F11,LEN('[1] розрахунок (2)'!F11)-1)),2)","v":67637.429999999993},{"$f":"ROUND(IF(ISNUMBER('[1] розрахунок (2)'!G11),'[1] розрахунок (2)'!G11,LEFT('[1] розрахунок (2)'!G11,LEN('[1] розрахунок (2)'!G11)-1)),2)","v":173340.52},{"$f":"SUM(C11:G11)","v":2434511.4899999998}]
[6,{"$f":"паспорт!S16","v":38.29},{"$f":"ROUND(IF(ISNUMBER('[1] розрахунок (2)'!C12),'[1] розрахунок (2)'!C12,LEFT('[1] розрахунок (2)'!C12,LEN('[1] розрахунок (2)'!C12)-1)),2)","v":1086.6400000000001},{"$f":"ROUND(IF(ISNUMBER('[1] розрахунок (2)'!D12),'[1] розрахунок (2)'!D12,LEFT('[1] розрахунок (2)'!D12,LEN('[1] розрахунок (2)'!D12)-1)),2)","v":2288088.88},{"$f":"ROUND(IF(ISNUMBER('[1] розрахунок (2)'!E12),'[1] розрахунок (2)'!E12,LEFT('[1] розрахунок (2)'!E12,LEN('[1] розрахунок (2)'!E12)-1)),2)","v":100978.34},{"$f":"ROUND(IF(ISNUMBER('[1] розрахунок (2)'!F12),'[1] розрахунок (2)'!F12,LEFT('[1] розрахунок (2)'!F12,LEN('[1] розрахунок (2)'!F12)-1)),2)","v":75907.320000000007},{"$f":"ROUND(IF(ISNUMBER('[1] розрахунок (2)'!G12),'[1] розрахунок (2)'!G12,LEFT('[1] розрахунок (2)'!G12,LEN('[1] розрахунок (2)'!G12)-1)),2)","v":190128.58},{"$f":"SUM(C12:G12)","v":2656189.7599999998}]
[7,{"$f":"паспорт!S17","v":38.35},{"$f":"ROUND(IF(ISNUMBER('[1] розрахунок (2)'!C13),'[1] розрахунок (2)'!C13,LEFT('[1] розрахунок (2)'!C13,LEN('[1] розрахунок (2)'!C13)-1)),2)","v":1169.75},{"$f":"ROUND(IF(ISNUMBER('[1] розрахунок (2)'!D13),'[1] розрахунок (2)'!D13,LEFT('[1] розрахунок (2)'!D13,LEN('[1] розрахунок (2)'!D13)-1)),2)","v":2466903.38},{"$f":"ROUND(IF(ISNUMBER('[1] розрахунок (2)'!E13),'[1] розрахунок (2)'!E13,LEFT('[1] розрахунок (2)'!E13,LEN('[1] розрахунок (2)'!E13)-1)),2)","v":111426.26},{"$f":"ROUND(IF(ISNUMBER('[1] розрахунок (2)'!F13),'[1] розрахунок (2)'!F13,LEFT('[1] розрахунок (2)'!F13,LEN('[1] розрахунок (2)'!F13)-1)),2)","v":82628.13},{"$f":"ROUND(IF(ISNUMBER('[1] розрахунок (2)'!G13),'[1] розрахунок (2)'!G13,LEFT('[1] розрахунок (2)'!G13,LEN('[1] розрахунок (2)'!G13)-1)),2)","v":209778.34},{"$f":"SUM(C13:G13)","v":2871905.8599999994}]
[8,{"$f":"паспорт!S18","v":38.340000000000003},{"$f":"ROUND(IF(ISNUMBER('[1] розрахунок (2)'!C14),'[1] розрахунок (2)'!C14,LEFT('[1] розрахунок (2)'!C14,LEN('[1] розрахунок (2)'!C14)-1)),2)","v":1235.45},{"$f":"ROUND(IF(ISNUMBER('[1] розрахунок (2)'!D14),'[1] розрахунок (2)'!D14,LEFT('[1] розрахунок (2)'!D14,LEN('[1] розрахунок (2)'!D14)-1)),2)","v":2603307.88},{"$f":"ROUND(IF(ISNUMBER('[1] розрахунок (2)'!E14),'[1] розрахунок (2)'!E14,LEFT('[1] розрахунок (2)'!E14,LEN('[1] розрахунок (2)'!E14)-1)),2)","v":120587.77},{"$f":"ROUND(IF(ISNUMBER('[1] розрахунок (2)'!F14),'[1] розрахунок (2)'!F14,LEFT('[1] розрахунок (2)'!F14,LEN('[1] розрахунок (2)'!F14)-1)),2)","v":88375.360000000001},{"$f":"ROUND(IF(ISNUMBER('[1] розрахунок (2)'!G14),'[1] розрахунок (2)'!G14,LEFT('[1] розрахунок (2)'!G14,LEN('[1] розрахунок (2)'!G14)-1)),2)","v":227518.77},{"$f":"SUM(C14:G14)","v":3041025.23}]
[9,{"$f":"паспорт!S19","v":38.4},{"$f":"ROUND(IF(ISNUMBER('[1] розрахунок (2)'!C15),'[1] розрахунок (2)'!C15,LEFT('[1] розрахунок (2)'!C15,LEN('[1] розрахунок (2)'!C15)-1)),2)","v":1219.31},{"$f":"ROUND(IF(ISNUMBER('[1] розрахунок (2)'!D15),'[1] розрахунок (2)'!D15,LEFT('[1] розрахунок (2)'!D15,LEN('[1] розрахунок (2)'!D15)-1)),2)","v":2520717},{"$f":"ROUND(IF(ISNUMBER('[1] розрахунок (2)'!E15),'[1] розрахунок (2)'!E15,LEFT('[1] розрахунок (2)'!E15,LEN('[1] розрахунок (2)'!E15)-1)),2)","v":118745.56},{"$f":"ROUND(IF(ISNUMBER('[1] розрахунок (2)'!F15),'[1] розрахунок (2)'!F15,LEFT('[1] розрахунок (2)'!F15,LEN('[1] розрахунок (2)'!F15)-1)),2)","v":86148.11},{"$f":"ROUND(IF(ISNUMBER('[1] розрахунок (2)'!G15),'[1] розрахунок (2)'!G15,LEFT('[1] розрахунок (2)'!G15,LEN('[1] розрахунок (2)'!G15)-1)),2)","v":226406.16},{"$f":"SUM(C15:G15)","v":2953236.14}]
[10,{"$f":"паспорт!S20","v":38.4},{"$f":"ROUND(IF(ISNUMBER('[1] розрахунок (2)'!C16),'[1] розрахунок (2)'!C16,LEFT('[1] розрахунок (2)'!C16,LEN('[1] розрахунок (2)'!C16)-1)),2)","v":1134.5899999999999},{"$f":"ROUND(IF(ISNUMBER('[1] розрахунок (2)'!D16),'[1] розрахунок (2)'!D16,LEFT('[1] розрахунок (2)'!D16,LEN('[1] розрахунок (2)'!D16)-1)),2)","v":2312548.5099999998},{"$f":"ROUND(IF(ISNUMBER('[1] розрахунок (2)'!E16),'[1] розрахунок (2)'!E16,LEFT('[1] розрахунок (2)'!E16,LEN('[1] розрахунок (2)'!E16)-1)),2)","v":106622.13},{"$f":"ROUND(IF(ISNUMBER('[1] розрахунок (2)'!F16),'[1] розрахунок (2)'!F16,LEFT('[1] розрахунок (2)'!F16,LEN('[1] розрахунок (2)'!F16)-1)),2)","v":79063.77},{"$f":"ROUND(IF(ISNUMBER('[1] розрахунок (2)'!G16),'[1] розрахунок (2)'!G16,LEFT('[1] розрахунок (2)'!G16,LEN('[1] розрахунок (2)'!G16)-1)),2)","v":205610},{"$f":"SUM(C16:G16)","v":2704978.9999999995}]
[11,{"$f":"паспорт!S21","v":38.4},{"$f":"ROUND(IF(ISNUMBER('[1] розрахунок (2)'!C17),'[1] розрахунок (2)'!C17,LEFT('[1] розрахунок (2)'!C17,LEN('[1] розрахунок (2)'!C17)-1)),2)","v":1010.09},{"$f":"ROUND(IF(ISNUMBER('[1] розрахунок (2)'!D17),'[1] розрахунок (2)'!D17,LEFT('[1] розрахунок (2)'!D17,LEN('[1] розрахунок (2)'!D17)-1)),2)","v":2134746.94},{"$f":"ROUND(IF(ISNUMBER('[1] розрахунок (2)'!E17),'[1] розрахунок (2)'!E17,LEFT('[1] розрахунок (2)'!E17,LEN('[1] розрахунок (2)'!E17)-1)),2)","v":95242.76},{"$f":"ROUND(IF(ISNUMBER('[1] розрахунок (2)'!F17),'[1] розрахунок (2)'!F17,LEFT('[1] розрахунок (2)'!F17,LEN('[1] розрахунок (2)'!F17)-1)),2)","v":71721.47},{"$f":"ROUND(IF(ISNUMBER('[1] розрахунок (2)'!G17),'[1] розрахунок (2)'!G17,LEFT('[1] розрахунок (2)'!G17,LEN('[1] розрахунок (2)'!G17)-1)),2)","v":185217.78},{"$f":"SUM(C17:G17)","v":2487939.0399999996}]
[12,{"$f":"паспорт!S22","v":38.380000000000003},{"$f":"ROUND(IF(ISNUMBER('[1] розрахунок (2)'!C18),'[1] розрахунок (2)'!C18,LEFT('[1] розрахунок (2)'!C18,LEN('[1] розрахунок (2)'!C18)-1)),2)","v":958.09},{"$f":"ROUND(IF(ISNUMBER('[1] розрахунок (2)'!D18),'[1] розрахунок (2)'!D18,LEFT('[1] розрахунок (2)'!D18,LEN('[1] розрахунок (2)'!D18)-1)),2)","v":2109477.7599999998},{"$f":"ROUND(IF(ISNUMBER('[1] розрахунок (2)'!E18),'[1] розрахунок (2)'!E18,LEFT('[1] розрахунок (2)'!E18,LEN('[1] розрахунок (2)'!E18)-1)),2)","v":88918.43},{"$f":"ROUND(IF(ISNUMBER('[1] розрахунок (2)'!F18),'[1] розрахунок (2)'!F18,LEFT('[1] розрахунок (2)'!F18,LEN('[1] розрахунок (2)'!F18)-1)),2)","v":67758.289999999994},{"$f":"ROUND(IF(ISNUMBER('[1] розрахунок (2)'!G18),'[1] розрахунок (2)'!G18,LEFT('[1] розрахунок (2)'!G18,LEN('[1] розрахунок (2)'!G18)-1)),2)","v":173301.47},{"$f":"SUM(C18:G18)","v":2440414.04}]
[13,{"$f":"паспорт!S23","v":38.39},{"$f":"ROUND(IF(ISNUMBER('[1] розрахунок (2)'!C19),'[1] розрахунок (2)'!C19,LEFT('[1] розрахунок (2)'!C19,LEN('[1] розрахунок (2)'!C19)-1)),2)","v":1004.7},{"$f":"ROUND(IF(ISNUMBER('[1] розрахунок (2)'!D19),'[1] розрахунок (2)'!D19,LEFT('[1] розрахунок (2)'!D19,LEN('[1] розрахунок (2)'!D19)-1)),2)","v":2143548.3199999998},{"$f":"ROUND(IF(ISNUMBER('[1] розрахунок (2)'!E19),'[1] розрахунок (2)'!E19,LEFT('[1] розрахунок (2)'!E19,LEN('[1] розрахунок (2)'!E19)-1)),2)","v":89164.76},{"$f":"ROUND(IF(ISNUMBER('[1] розрахунок (2)'!F19),'[1] розрахунок (2)'!F19,LEFT('[1] розрахунок (2)'!F19,LEN('[1] розрахунок (2)'!F19)-1)),2)","v":68322.48},{"$f":"ROUND(IF(ISNUMBER('[1] розрахунок (2)'!G19),'[1] розрахунок (2)'!G19,LEFT('[1] розрахунок (2)'!G19,LEN('[1] розрахунок (2)'!G19)-1)),2)","v":176743.94},{"$f":"SUM(C19:G19)","v":2478784.1999999997}]
[14,{"$f":"паспорт!S24","v":38.39},{"$f":"ROUND(IF(ISNUMBER('[1] розрахунок (2)'!C20),'[1] розрахунок (2)'!C20,LEFT('[1] розрахунок (2)'!C20,LEN('[1] розрахунок (2)'!C20)-1)),2)","v":1000.57},{"$f":"ROUND(IF(ISNUMBER('[1] розрахунок (2)'!D20),'[1] розрахунок (2)'!D20,LEFT('[1] розрахунок (2)'!D20,LEN('[1] розрахунок (2)'!D20)-1)),2)","v":2063580.01},{"$f":"ROUND(IF(ISNUMBER('[1] розрахунок (2)'!E20),'[1] розрахунок (2)'!E20,LEFT('[1] розрахунок (2)'!E20,LEN('[1] розрахунок (2)'!E20)-1)),2)","v":92840.03},{"$f":"ROUND(IF(ISNUMBER('[1] розрахунок (2)'!F20),'[1] розрахунок (2)'!F20,LEFT('[1] розрахунок (2)'!F20,LEN('[1] розрахунок (2)'!F20)-1)),2)","v":70044.41},{"$f":"ROUND(IF(ISNUMBER('[1] розрахунок (2)'!G20),'[1] розрахунок (2)'!G20,LEFT('[1] розрахунок (2)'!G20,LEN('[1] розрахунок (2)'!G20)-1)),2)","v":178055.38},{"$f":"SUM(C20:G20)","v":2405520.4}]
[15,{"$f":"паспорт!S25","v":38.39},{"$f":"ROUND(IF(ISNUMBER('[1] розрахунок (2)'!C21),'[1] розрахунок (2)'!C21,LEFT('[1] розрахунок (2)'!C21,LEN('[1] розрахунок (2)'!C21)-1)),2)","v":953.77},{"$f":"ROUND(IF(ISNUMBER('[1] розрахунок (2)'!D21),'[1] розрахунок (2)'!D21,LEFT('[1] розрахунок (2)'!D21,LEN('[1] розрахунок (2)'!D21)-1)),2)","v":2043702.06},{"$f":"ROUND(IF(ISNUMBER('[1] розрахунок (2)'!E21),'[1] розрахунок (2)'!E21,LEFT('[1] розрахунок (2)'!E21,LEN('[1] розрахунок (2)'!E21)-1)),2)","v":88822.41},{"$f":"ROUND(IF(ISNUMBER('[1] розрахунок (2)'!F21),'[1] розрахунок (2)'!F21,LEFT('[1] розрахунок (2)'!F21,LEN('[1] розрахунок (2)'!F21)-1)),2)","v":65834.880000000005},{"$f":"ROUND(IF(ISNUMBER('[1] розрахунок (2)'!G21),'[1] розрахунок (2)'!G21,LEFT('[1] розрахунок (2)'!G21,LEN('[1] розрахунок (2)'!G21)-1)),2)","v":169676.64},{"$f":"SUM(C21:G21)","v":2368989.7600000002}]
[16,{"$f":"паспорт!S26","v":38.44},{"$f":"ROUND(IF(ISNUMBER('[1] розрахунок (2)'!C22),'[1] розрахунок (2)'!C22,LEFT('[1] розрахунок (2)'!C22,LEN('[1] розрахунок (2)'!C22)-1)),2)","v":992.6},{"$f":"ROUND(IF(ISNUMBER('[1] розрахунок (2)'!D22),'[1] розрахунок (2)'!D22,LEFT('[1] розрахунок (2)'!D22,LEN('[1] розрахунок (2)'!D22)-1)),2)","v":2183512.63},{"$f":"ROUND(IF(ISNUMBER('[1] розрахунок (2)'!E22),'[1] розрахунок (2)'!E22,LEFT('[1] розрахунок (2)'!E22,LEN('[1] розрахунок (2)'!E22)-1)),2)","v":92326.04},{"$f":"ROUND(IF(ISNUMBER('[1] розрахунок (2)'!F22),'[1] розрахунок (2)'!F22,LEFT('[1] розрахунок (2)'!F22,LEN('[1] розрахунок (2)'!F22)-1)),2)","v":68397.63},{"$f":"ROUND(IF(ISNUMBER('[1] розрахунок (2)'!G22),'[1] розрахунок (2)'!G22,LEFT('[1] розрахунок (2)'!G22,LEN('[1] розрахунок (2)'!G22)-1)),2)","v":180141.39},{"$f":"SUM(C22:G22)","v":2525370.29}]
[17,{"$f":"паспорт!S27","v":38.44},{"$f":"ROUND(IF(ISNUMBER('[1] розрахунок (2)'!C23),'[1] розрахунок (2)'!C23,LEFT('[1] розрахунок (2)'!C23,LEN('[1] розрахунок (2)'!C23)-1)),2)","v":1004.41},{"$f":"ROUND(IF(ISNUMBER('[1] розрахунок (2)'!D23),'[1] розрахунок (2)'!D23,LEFT('[1] розрахунок (2)'!D23,LEN('[1] розрахунок (2)'!D23)-1)),2)","v":2176494.0099999998},{"$f":"ROUND(IF(ISNUMBER('[1] розрахунок (2)'!E23),'[1] розрахунок (2)'!E23,LEFT('[1] розрахунок (2)'!E23,LEN('[1] розрахунок (2)'!E23)-1)),2)","v":93644.18},{"$f":"ROUND(IF(ISNUMBER('[1] розрахунок (2)'!F23),'[1] розрахунок (2)'!F23,LEFT('[1] розрахунок (2)'!F23,LEN('[1] розрахунок (2)'!F23)-1)),2)","v":68836.28},{"$f":"ROUND(IF(ISNUMBER('[1] розрахунок (2)'!G23),'[1] розрахунок (2)'!G23,LEFT('[1] розрахунок (2)'!G23,LEN('[1] розрахунок (2)'!G23)-1)),2)","v":177568.61},{"$f":"SUM(C23:G23)","v":2517547.4899999998}]
[18,{"$f":"паспорт!S28","v":38.44},{"$f":"ROUND(IF(ISNUMBER('[1] розрахунок (2)'!C24),'[1] розрахунок (2)'!C24,LEFT('[1] розрахунок (2)'!C24,LEN('[1] розрахунок (2)'!C24)-1)),2)","v":923.38},{"$f":"ROUND(IF(ISNUMBER('[1] розрахунок (2)'!D24),'[1] розрахунок (2)'!D24,LEFT('[1] розрахунок (2)'!D24,LEN('[1] розрахунок (2)'!D24)-1)),2)","v":1988139.13},{"$f":"ROUND(IF(ISNUMBER('[1] розрахунок (2)'!E24),'[1] розрахунок (2)'!E24,LEFT('[1] розрахунок (2)'!E24,LEN('[1] розрахунок (2)'!E24)-1)),2)","v":83740.59},{"$f":"ROUND(IF(ISNUMBER('[1] розрахунок (2)'!F24),'[1] розрахунок (2)'!F24,LEFT('[1] розрахунок (2)'!F24,LEN('[1] розрахунок (2)'!F24)-1)),2)","v":63094.13},{"$f":"ROUND(IF(ISNUMBER('[1] розрахунок (2)'!G24),'[1] розрахунок (2)'!G24,LEFT('[1] розрахунок (2)'!G24,LEN('[1] розрахунок (2)'!G24)-1)),2)","v":159105.44},{"$f":"SUM(C24:G24)","v":2295002.67}]
[19,{"$f":"паспорт!S29","v":38.520000000000003},{"$f":"ROUND(IF(ISNUMBER('[1] розрахунок (2)'!C25),'[1] розрахунок (2)'!C25,LEFT('[1] розрахунок (2)'!C25,LEN('[1] розрахунок (2)'!C25)-1)),2)","v":872.88},{"$f":"ROUND(IF(ISNUMBER('[1] розрахунок (2)'!D25),'[1] розрахунок (2)'!D25,LEFT('[1] розрахунок (2)'!D25,LEN('[1] розрахунок (2)'!D25)-1)),2)","v":1908931.75},{"$f":"ROUND(IF(ISNUMBER('[1] розрахунок (2)'!E25),'[1] розрахунок (2)'!E25,LEFT('[1] розрахунок (2)'!E25,LEN('[1] розрахунок (2)'!E25)-1)),2)","v":77290.23},{"$f":"ROUND(IF(ISNUMBER('[1] розрахунок (2)'!F25),'[1] розрахунок (2)'!F25,LEFT('[1] розрахунок (2)'!F25,LEN('[1] розрахунок (2)'!F25)-1)),2)","v":57966.28},{"$f":"ROUND(IF(ISNUMBER('[1] розрахунок (2)'!G25),'[1] розрахунок (2)'!G25,LEFT('[1] розрахунок (2)'!G25,LEN('[1] розрахунок (2)'!G25)-1)),2)","v":149426.09},{"$f":"SUM(C25:G25)","v":2194487.23}]
[20,{"$f":"паспорт!S30","v":38.520000000000003},{"$f":"ROUND(IF(ISNUMBER('[1] розрахунок (2)'!C26),'[1] розрахунок (2)'!C26,LEFT('[1] розрахунок (2)'!C26,LEN('[1] розрахунок (2)'!C26)-1)),2)","v":824.16},{"$f":"ROUND(IF(ISNUMBER('[1] розрахунок (2)'!D26),'[1] розрахунок (2)'!D26,LEFT('[1] розрахунок (2)'!D26,LEN('[1] розрахунок (2)'!D26)-1)),2)","v":2017431.19},{"$f":"ROUND(IF(ISNUMBER('[1] розрахунок (2)'!E26),'[1] розрахунок (2)'!E26,LEFT('[1] розрахунок (2)'!E26,LEN('[1] розрахунок (2)'!E26)-1)),2)","v":72583.19},{"$f":"ROUND(IF(ISNUMBER('[1] розрахунок (2)'!F26),'[1] розрахунок (2)'!F26,LEFT('[1] розрахунок (2)'!F26,LEN('[1] розрахунок (2)'!F26)-1)),2)","v":54926.89},{"$f":"ROUND(IF(ISNUMBER('[1] розрахунок (2)'!G26),'[1] розрахунок (2)'!G26,LEFT('[1] розрахунок (2)'!G26,LEN('[1] розрахунок (2)'!G26)-1)),2)","v":140345.53},{"$f":"SUM(C26:G26)","v":2286110.9599999995}]
[21,{"$f":"паспорт!S31","v":38.450000000000003},{"$f":"ROUND(IF(ISNUMBER('[1] розрахунок (2)'!C27),'[1] розрахунок (2)'!C27,LEFT('[1] розрахунок (2)'!C27,LEN('[1] розрахунок (2)'!C27)-1)),2)","v":826.29},{"$f":"ROUND(IF(ISNUMBER('[1] розрахунок (2)'!D27),'[1] розрахунок (2)'!D27,LEFT('[1] розрахунок (2)'!D27,LEN('[1] розрахунок (2)'!D27)-1)),2)","v":2003833.31},{"$f":"ROUND(IF(ISNUMBER('[1] розрахунок (2)'!E27),'[1] розрахунок (2)'!E27,LEFT('[1] розрахунок (2)'!E27,LEN('[1] розрахунок (2)'!E27)-1)),2)","v":73120.740000000005},{"$f":"ROUND(IF(ISNUMBER('[1] розрахунок (2)'!F27),'[1] розрахунок (2)'!F27,LEFT('[1] розрахунок (2)'!F27,LEN('[1] розрахунок (2)'!F27)-1)),2)","v":54275.08},{"$f":"ROUND(IF(ISNUMBER('[1] розрахунок (2)'!G27),'[1] розрахунок (2)'!G27,LEFT('[1] розрахунок (2)'!G27,LEN('[1] розрахунок (2)'!G27)-1)),2)","v":139033.72},{"$f":"SUM(C27:G27)","v":2271089.14}]
[22,{"$f":"паспорт!S32","v":38.29},{"$f":"ROUND(IF(ISNUMBER('[1] розрахунок (2)'!C28),'[1] розрахунок (2)'!C28,LEFT('[1] розрахунок (2)'!C28,LEN('[1] розрахунок (2)'!C28)-1)),2)","v":804.37},{"$f":"ROUND(IF(ISNUMBER('[1] розрахунок (2)'!D28),'[1] розрахунок (2)'!D28,LEFT('[1] розрахунок (2)'!D28,LEN('[1] розрахунок (2)'!D28)-1)),2)","v":1906715.63},{"$f":"ROUND(IF(ISNUMBER('[1] розрахунок (2)'!E28),'[1] розрахунок (2)'!E28,LEFT('[1] розрахунок (2)'!E28,LEN('[1] розрахунок (2)'!E28)-1)),2)","v":70490.63},{"$f":"ROUND(IF(ISNUMBER('[1] розрахунок (2)'!F28),'[1] розрахунок (2)'!F28,LEFT('[1] розрахунок (2)'!F28,LEN('[1] розрахунок (2)'!F28)-1)),2)","v":53716.63},{"$f":"ROUND(IF(ISNUMBER('[1] розрахунок (2)'!G28),'[1] розрахунок (2)'!G28,LEFT('[1] розрахунок (2)'!G28,LEN('[1] розрахунок (2)'!G28)-1)),2)","v":134881.01999999999},{"$f":"SUM(C28:G28)","v":2166608.2799999998}]
[23,{"$f":"паспорт!S33","v":38.24},{"$f":"ROUND(IF(ISNUMBER('[1] розрахунок (2)'!C29),'[1] розрахунок (2)'!C29,LEFT('[1] розрахунок (2)'!C29,LEN('[1] розрахунок (2)'!C29)-1)),2)","v":816.33},{"$f":"ROUND(IF(ISNUMBER('[1] розрахунок (2)'!D29),'[1] розрахунок (2)'!D29,LEFT('[1] розрахунок (2)'!D29,LEN('[1] розрахунок (2)'!D29)-1)),2)","v":1884732.87},{"$f":"ROUND(IF(ISNUMBER('[1] розрахунок (2)'!E29),'[1] розрахунок (2)'!E29,LEFT('[1] розрахунок (2)'!E29,LEN('[1] розрахунок (2)'!E29)-1)),2)","v":72330.19},{"$f":"ROUND(IF(ISNUMBER('[1] розрахунок (2)'!F29),'[1] розрахунок (2)'!F29,LEFT('[1] розрахунок (2)'!F29,LEN('[1] розрахунок (2)'!F29)-1)),2)","v":53902.84},{"$f":"ROUND(IF(ISNUMBER('[1] розрахунок (2)'!G29),'[1] розрахунок (2)'!G29,LEFT('[1] розрахунок (2)'!G29,LEN('[1] розрахунок (2)'!G29)-1)),2)","v":135368.89000000001},{"$f":"SUM(C29:G29)","v":2147151.12}]
[24,{"$f":"паспорт!S34","v":38.24},{"$f":"ROUND(IF(ISNUMBER('[1] розрахунок (2)'!C30),'[1] розрахунок (2)'!C30,LEFT('[1] розрахунок (2)'!C30,LEN('[1] розрахунок (2)'!C30)-1)),2)","v":748.39},{"$f":"ROUND(IF(ISNUMBER('[1] розрахунок (2)'!D30),'[1] розрахунок (2)'!D30,LEFT('[1] розрахунок (2)'!D30,LEN('[1] розрахунок (2)'!D30)-1)),2)","v":1697481.63},{"$f":"ROUND(IF(ISNUMBER('[1] розрахунок (2)'!E30),'[1] розрахунок (2)'!E30,LEFT('[1] розрахунок (2)'!E30,LEN('[1] розрахунок (2)'!E30)-1)),2)","v":66981.460000000006},{"$f":"ROUND(IF(ISNUMBER('[1] розрахунок (2)'!F30),'[1] розрахунок (2)'!F30,LEFT('[1] розрахунок (2)'!F30,LEN('[1] розрахунок (2)'!F30)-1)),2)","v":50498.239999999998},{"$f":"ROUND(IF(ISNUMBER('[1] розрахунок (2)'!G30),'[1] розрахунок (2)'!G30,LEFT('[1] розрахунок (2)'!G30,LEN('[1] розрахунок (2)'!G30)-1)),2)","v":124331.92},{"$f":"SUM(C30:G30)","v":1940041.6399999997}]
[25,{"$f":"паспорт!S35","v":38.24},{"$f":"ROUND(IF(ISNUMBER('[1] розрахунок (2)'!C31),'[1] розрахунок (2)'!C31,LEFT('[1] розрахунок (2)'!C31,LEN('[1] розрахунок (2)'!C31)-1)),2)","v":820.2},{"$f":"ROUND(IF(ISNUMBER('[1] розрахунок (2)'!D31),'[1] розрахунок (2)'!D31,LEFT('[1] розрахунок (2)'!D31,LEN('[1] розрахунок (2)'!D31)-1)),2)","v":1889153.37},{"$f":"ROUND(IF(ISNUMBER('[1] розрахунок (2)'!E31),'[1] розрахунок (2)'!E31,LEFT('[1] розрахунок (2)'!E31,LEN('[1] розрахунок (2)'!E31)-1)),2)","v":71897.27},{"$f":"ROUND(IF(ISNUMBER('[1] розрахунок (2)'!F31),'[1] розрахунок (2)'!F31,LEFT('[1] розрахунок (2)'!F31,LEN('[1] розрахунок (2)'!F31)-1)),2)","v":54471.96},{"$f":"ROUND(IF(ISNUMBER('[1] розрахунок (2)'!G31),'[1] розрахунок (2)'!G31,LEFT('[1] розрахунок (2)'!G31,LEN('[1] розрахунок (2)'!G31)-1)),2)","v":137903.5},{"$f":"SUM(C31:G31)","v":2154246.2999999998}]
[26,{"$f":"паспорт!S36","v":38.520000000000003},{"$f":"ROUND(IF(ISNUMBER('[1] розрахунок (2)'!C32),'[1] розрахунок (2)'!C32,LEFT('[1] розрахунок (2)'!C32,LEN('[1] розрахунок (2)'!C32)-1)),2)","v":833.43},{"$f":"ROUND(IF(ISNUMBER('[1] розрахунок (2)'!D32),'[1] розрахунок (2)'!D32,LEFT('[1] розрахунок (2)'!D32,LEN('[1] розрахунок (2)'!D32)-1)),2)","v":1880343.88},{"$f":"ROUND(IF(ISNUMBER('[1] розрахунок (2)'!E32),'[1] розрахунок (2)'!E32,LEFT('[1] розрахунок (2)'!E32,LEN('[1] розрахунок (2)'!E32)-1)),2)","v":75675.13},{"$f":"ROUND(IF(ISNUMBER('[1] розрахунок (2)'!F32),'[1] розрахунок (2)'!F32,LEFT('[1] розрахунок (2)'!F32,LEN('[1] розрахунок (2)'!F32)-1)),2)","v":56540.160000000003},{"$f":"ROUND(IF(ISNUMBER('[1] розрахунок (2)'!G32),'[1] розрахунок (2)'!G32,LEFT('[1] розрахунок (2)'!G32,LEN('[1] розрахунок (2)'!G32)-1)),2)","v":142306.79999999999},{"$f":"SUM(C32:G32)","v":2155699.4}]
[27,{"$f":"паспорт!S37","v":38.49},{"$f":"ROUND(IF(ISNUMBER('[1] розрахунок (2)'!C33),'[1] розрахунок (2)'!C33,LEFT('[1] розрахунок (2)'!C33,LEN('[1] розрахунок (2)'!C33)-1)),2)","v":788.73},{"$f":"ROUND(IF(ISNUMBER('[1] розрахунок (2)'!D33),'[1] розрахунок (2)'!D33,LEFT('[1] розрахунок (2)'!D33,LEN('[1] розрахунок (2)'!D33)-1)),2)","v":1787151.38},{"$f":"ROUND(IF(ISNUMBER('[1] розрахунок (2)'!E33),'[1] розрахунок (2)'!E33,LEFT('[1] розрахунок (2)'!E33,LEN('[1] розрахунок (2)'!E33)-1)),2)","v":71638.91},{"$f":"ROUND(IF(ISNUMBER('[1] розрахунок (2)'!F33),'[1] розрахунок (2)'!F33,LEFT('[1] розрахунок (2)'!F33,LEN('[1] розрахунок (2)'!F33)-1)),2)","v":55017.440000000002},{"$f":"ROUND(IF(ISNUMBER('[1] розрахунок (2)'!G33),'[1] розрахунок (2)'!G33,LEFT('[1] розрахунок (2)'!G33,LEN('[1] розрахунок (2)'!G33)-1)),2)","v":135635.82999999999},{"$f":"SUM(C33:G33)","v":2050232.2899999998}]
[28,{"$f":"паспорт!S38","v":38.46},{"$f":"ROUND(IF(ISNUMBER('[1] розрахунок (2)'!C34),'[1] розрахунок (2)'!C34,LEFT('[1] розрахунок (2)'!C34,LEN('[1] розрахунок (2)'!C34)-1)),2)","v":771.14},{"$f":"ROUND(IF(ISNUMBER('[1] розрахунок (2)'!D34),'[1] розрахунок (2)'!D34,LEFT('[1] розрахунок (2)'!D34,LEN('[1] розрахунок (2)'!D34)-1)),2)","v":1584866.56},{"$f":"ROUND(IF(ISNUMBER('[1] розрахунок (2)'!E34),'[1] розрахунок (2)'!E34,LEFT('[1] розрахунок (2)'!E34,LEN('[1] розрахунок (2)'!E34)-1)),2)","v":67494.45},{"$f":"ROUND(IF(ISNUMBER('[1] розрахунок (2)'!F34),'[1] розрахунок (2)'!F34,LEFT('[1] розрахунок (2)'!F34,LEN('[1] розрахунок (2)'!F34)-1)),2)","v":53464.17},{"$f":"ROUND(IF(ISNUMBER('[1] розрахунок (2)'!G34),'[1] розрахунок (2)'!G34,LEFT('[1] розрахунок (2)'!G34,LEN('[1] розрахунок (2)'!G34)-1)),2)","v":128978.97},{"$f":"SUM(C34:G34)","v":1835575.2899999998}]
[29,{"$f":"паспорт!S39","v":38.46},{"$f":"ROUND(IF(ISNUMBER('[1] розрахунок (2)'!C35),'[1] розрахунок (2)'!C35,LEFT('[1] розрахунок (2)'!C35,LEN('[1] розрахунок (2)'!C35)-1)),2)","v":0},{"$f":"ROUND(IF(ISNUMBER('[1] розрахунок (2)'!D35),'[1] розрахунок (2)'!D35,LEFT('[1] розрахунок (2)'!D35,LEN('[1] розрахунок (2)'!D35)-1)),2)","v":0},{"$f":"ROUND(IF(ISNUMBER('[1] розрахунок (2)'!E35),'[1] розрахунок (2)'!E35,LEFT('[1] розрахунок (2)'!E35,LEN('[1] розрахунок (2)'!E35)-1)),2)","v":0},{"$f":"ROUND(IF(ISNUMBER('[1] розрахунок (2)'!F35),'[1] розрахунок (2)'!F35,LEFT('[1] розрахунок (2)'!F35,LEN('[1] розрахунок (2)'!F35)-1)),2)","v":0},{"$f":"ROUND(IF(ISNUMBER('[1] розрахунок (2)'!G35),'[1] розрахунок (2)'!G35,LEFT('[1] розрахунок (2)'!G35,LEN('[1] розрахунок (2)'!G35)-1)),2)","v":0},{"$f":"SUM(C35:G35)","v":0}]
[30,{"$f":"паспорт!S40","v":38.46},{"$f":"ROUND(IF(ISNUMBER('[1] розрахунок (2)'!C36),'[1] розрахунок (2)'!C36,LEFT('[1] розрахунок (2)'!C36,LEN('[1] розрахунок (2)'!C36)-1)),2)","v":0},{"$f":"ROUND(IF(ISNUMBER('[1] розрахунок (2)'!D36),'[1] розрахунок (2)'!D36,LEFT('[1] розрахунок (2)'!D36,LEN('[1] розрахунок (2)'!D36)-1)),2)","v":0},{"$f":"ROUND(IF(ISNUMBER('[1] розрахунок (2)'!E36),'[1] розрахунок (2)'!E36,LEFT('[1] розрахунок (2)'!E36,LEN('[1] розрахунок (2)'!E36)-1)),2)","v":0},{"$f":"ROUND(IF(ISNUMBER('[1] розрахунок (2)'!F36),'[1] розрахунок (2)'!F36,LEFT('[1] розрахунок (2)'!F36,LEN('[1] розрахунок (2)'!F36)-1)),2)","v":0},{"$f":"ROUND(IF(ISNUMBER('[1] розрахунок (2)'!G36),'[1] розрахунок (2)'!G36,LEFT('[1] розрахунок (2)'!G36,LEN('[1] розрахунок (2)'!G36)-1)),2)","v":0},{"$f":"SUM(C36:G36)","v":0}]
[31,{"$f":"паспорт!S41","v":38.46},{"$f":"ROUND(IF(ISNUMBER('[1] розрахунок (2)'!C37),'[1] розрахунок (2)'!C37,LEFT('[1] розрахунок (2)'!C37,LEN('[1] розрахунок (2)'!C37)-1)),2)","v":0},{"$f":"ROUND(IF(ISNUMBER('[1] розрахунок (2)'!D37),'[1] розрахунок (2)'!D37,LEFT('[1] розрахунок (2)'!D37,LEN('[1] розрахунок (2)'!D37)-1)),2)","v":0},{"$f":"ROUND(IF(ISNUMBER('[1] розрахунок (2)'!E37),'[1] розрахунок (2)'!E37,LEFT('[1] розрахунок (2)'!E37,LEN('[1] розрахунок (2)'!E37)-1)),2)","v":0},{"$f":"ROUND(IF(ISNUMBER('[1] розрахунок (2)'!F37),'[1] розрахунок (2)'!F37,LEFT('[1] розрахунок (2)'!F37,LEN('[1] розрахунок (2)'!F37)-1)),2)","v":0},{"$f":"ROUND(IF(ISNUMBER('[1] розрахунок (2)'!G37),'[1] розрахунок (2)'!G37,LEFT('[1] розрахунок (2)'!G37,LEN('[1] розрахунок (2)'!G37)-1)),2)","v":0},{"$f":"SUM(C37:G37)","v":0}]
["Загальний обсяг газу, м3",null,{"$f":"SUM(C7:C37)","v":27070.540000000005},{"$f":"SUM(D7:D37)","v":58195859.920000009},2489015.34,{"$f":"SUM(F7:F37)","v":1861862.9799999995},4744526.03,{"$f":"SUM(H7:H37)","v":67318334.809999987}]
["Енергія, МДж",null,{"$f":"SUMPRODUCT(B7:B37,C7:C37)","v":1038649.9527000001},{"$f":"SUMPRODUCT(B7:B37,D7:D37)","v":2232961859.0663004},{"$f":"SUMPRODUCT(B7:B37,E7:E37)","v":95498219.367799997},{"$f":"SUMPRODUCT(B7:B37,F7:F37)","v":71436277.666799992},{"$f":"SUMPRODUCT(B7:B37,G7:G37)","v":182040094.2105},{"$f":"SUMPRODUCT(B7:B37,H7:H37)","v":2582975100.2641001}]
["Теплота згоряння (середньозважене значення за місяць), МДж/м³",null,{"$f":"C39/C38","v":38.368276092756183},{"$f":"D39/D38","v":38.369771700871539},{"$f":"E39/E38","v":38.367870954061701},{"$f":"F39/F38","v":38.368171253289546},38.368446723539208,38.369563174049354]
["Теплота згоряння (середньозважене значення за місяць), ккал/м³",null,{"$f":"C40*238.8459","v":9164.1054348228336},{"$f":"D40*238.8459","v":9164.4626546891941},9164.0086691067263,9164.0803943460687,9164.1461892857733,9164.4128489126742]
["Теплота згоряння (середньозважене значення за місяць), кВт*год./м³",null,{"$f":"C40/3.6","v":10.657854470210051},{"$f":"D40/3.6","v":10.658269916908761},10.657741931683805,10.657825348135985,10.65790186764978,10.658211992791488]

{"sheet":"додаток","index":2,"n_rows":20,"n_cols":6,"rows_kept":20,"cut":false,"hidden":false,"merged":[[14,0,14,5],[16,0,16,5],[18,0,18,5],[0,0,0,1],[10,0,10,1],[3,2,3,4],[3,1,4,1],[3,0,4,0],[5,0,9,0]]}
[]
["Додаток до Паспорту фізико-хімічних показників природного газу №664"]
[]
["Область","ГРС, прямий споживач","Cередньозважене значення вищої теплоти згоряння"]
[null,null," МДж/м³","ккал/м³","кВт*год./м³"]
["Вінницька область","ГРС-2 м. Харків\nПАТ \"Харківгаз\"\nс. Берізка",38.368276092756183,9164.1054348228336,10.657854470210051]
[null,"ГРС-2 м. Харків\nПАТ \"Харківміськгаз\"",38.369771700871539,9164.4626546891941,10.658269916908761]
[null,"ГРС Слатине\nПАТ \"Харківгаз\"",38.367870954061701,9164.0086691067263,10.657741931683805]
[null,"ГРС Золочів\nПАТ \"Харківгаз\"",38.368171253289546,9164.0803943460687,10.657825348135985]
[null,"ГРС Дергачи\nПАТ \"Харківгаз\"",38.368446723539208,9164.1461892857733,10.65790186764978]
["Середньозважене значення вищої теплоти згоряння по маршруту № 664",null,38.369563174049354,9164.4128489126742,10.658211992791488]
[]
[]
[]
["В.о. Начальника  Харківського ЛВУМГ                                                            Моторя О.А.                                          01.03.2017                                                                                 "]
["Підрозділу підприємства, якому підпорядкована лабораторія",null,null,"прізвище","підпис","дата"]
["Завідувач лабораторії  Харківського п/м  Харківського ЛВУМГ              Крупчицький Д.О.                                 01.03.2017                                                                                     "]
["Лабораторія, де здійснювалось вимірювання газу",null,null,"прізвище","підпис","дата"]
["Начальник служби ГВ та М                                                                                Щербак С.О.                                             01.03.2017"]
["Підрозділу, відповідального за облік газу за маршрутом",null,null,"прізвище","підпис","дата"]

{"sheet":"variablesList","index":3,"n_rows":3,"n_cols":4,"rows_kept":3,"cut":false,"hidden":true,"merged":[]}
[3,"x:\\gaysin","10, 11, 24, 25, 127, 128, 132, 180, 207, 215","x:\\"]
[null,"x:\\Illinci"]
[null,"x:\\Talne"]