{"text_format":"1","workbook":"xlsx","n_sheets":4,"sheets":["паспорт"," розрахунок","додаток","variablesList"],"not_rendered":{"charts":0,"images":0,"macros":1,"external_links":1,"defined_names":4,"comments":0,"pivot_tables":0},"unopened":[],"bounds":{"document_bytes":16777216,"sheet_cells":100000,"rows_first":2000,"rows_last":500,"rows_between":2000,"halvings":0,"cell_chars":16384,"cell_head_chars":4096},"cells_cut":0,"cells_raw":0,"read":"whole","date_system":"1900"}

{"sheet":"паспорт","index":0,"n_rows":51,"n_cols":31,"rows_kept":51,"cut":false,"hidden":false,"merged":[[0,6,0,24],[1,6,1,24],[0,25,0,27],[4,23,4,24],[8,12,9,12],[4,21,4,22],[8,14,8,16],[8,17,8,19],[8,20,8,22],[7,14,7,22],[2,6,2,24],[4,26,4,27],[8,7,9,7],[6,1,7,12],[7,13,9,13],[6,13,6,22],[8,3,9,3],[47,1,47,26],[43,20,43,27],[42,20,42,27],[41,20,41,27],[6,27,9,27],[8,8,9,8],[6,26,9,26],[6,24,9,24],[6,23,9,23],[8,1,9,1],[8,2,9,2],[8,5,9,5],[8,6,9,6],[8,4,9,4],[4,10,4,20],[6,0,9,0],[49,1,49,26],[8,11,9,11],[41,18,42,18],[41,19,42,19],[41,14,42,14],[42,7,42,13],[41,15,42,15],[41,16,42,16],[41,17,42,17],[8,9,9,9],[8,10,9,10],[6,25,9,25],[45,1,45,26],[41,0,41,13]]}
["ПАТ \"УКРТРАНСГАЗ\"",null,null,null,null,null,"ПАСПОРТ ФІЗИКО-ХІМІЧНИХ ПОКАЗНИКІВ ПРИРОДНОГО ГАЗУ  № 662"]
["Філія \"УМГ \"ХАРКІВТРАНСГАЗ\"",null,null,null,null,null,"переданого Харківським ЛВУМГ  та прийнятого ПАТ \"Харківгаз\",  ПАТ \"Харківміськгаз\", ДП \"Укравтогаз\""]
["Харківський п/м Харківського ЛВУМГ",null,null,null,null,null,"Маршрут № 662"]
["Вимірювальна хіміко-аналітична лабораторія"]
["Свідоцтво про атестацію № 100-359/2015 чинне до 20.12.18 р. ",null,null,null,null,null,null,null,null,null,"з газопроводу  ШХ ",null,null,null,null,null,null,null,null,null,null,"за період з",null,"01.02.2017 р.",null," по","28.02.2017 р."]
[]
["Число місяця","Компонентний склад, мол. % ",null,null,null,null,null,null,null,null,null,null,null,"Фізико-хімічні показники газу обчислені на основі компонентного складу, 101,325 кПа",null,null,null,null,null,null,null,null,null,"Температура точки роси за вологою (Р = 3.92 МПа), °С","Температура точки роси за вуглеводнями, °С","Вміст сірководню, г/м3","Вміст меркаптанової сірки, г/м3","Вміст механічних домішок, г/м3"]
[null,null,null,null,null,null,null,null,null,null,null,null,null,"Густина абсолютна, кг/м3,при 20 °С, ","Температура вимірювання/згоряння при  20/25°С"]
[null,"метан, С1","етан, С2","пропан, С3","ізо-бутан, і-С4","н-бутан, н-С4","нео-пентан, нео-С5","ізо-пентан, і-С5","н-пентан, н-С5","гексани та вищі, С6+","кисень, О2","азот, N2","діоксид вуглецю, CО2",null,"Теплота згоряння нижча",null,null,"Теплота згоряння вища",null,null,"Число Воббе вище"]
[null,null,null,null,null,null,null,null,null,null,null,null,null,null," ккал/м³"," МДж/м³","кВт⋅год/м³"," ккал/м³"," МДж/м³","кВт⋅год/м³"," ккал/м³"," МДж/м³","кВт⋅год/м³",null,null,null,null,null,null,null,"  "]
[1,93.000100000000003,3.5204,0.91979999999999995,0.1129,0.17599999999999999,5.1999999999999998E-3,4.9599999999999998E-2,4.0500000000000001E-2,7.4099999999999999E-2,null,1.5911999999999999,0.51029999999999998,0.72299999999999998,{"$f":"P11*238.8459","v":8252.1258449999987},34.549999999999997,{"$f":"P11/3.6","v":9.5972222222222214},{"$f":"S11*238.8459","v":9143.0210520000001},38.28,{"$f":"S11/3.6","v":10.633333333333333},{"$f":"V11*238.8459","v":11801.375919},49.41,{"$f":"V11/3.6","v":13.724999999999998},null,null,null,null,null,{"$f":"SUM(B11:M11)+$K$42+$N$42","v":100.00009999999999}]
[2,92.700199999999995,3.6739000000000002,0.94679999999999997,0.1145,0.183,5.3E-3,5.2900000000000003E-2,4.3299999999999998E-2,7.5200000000000003E-2,null,1.6761999999999999,0.52859999999999996,0.72519999999999996,{"$f":"P12*238.8459","v":8259.2912219999998},34.58,9.6055555555555543,{"$f":"S12*238.8459","v":9152.5748879999992},38.32,{"$f":"S12/3.6","v":10.644444444444444},{"$f":"V12*238.8459","v":11794.210542000001},49.38,{"$f":"V12/3.6","v":13.716666666666667},null,null,null,null,null,99.999899999999997]
[3,"","","","","","","","","",null,"","","",8259.2912219999998,34.58,9.6055555555555543,9152.5748879999992,38.32,10.644444444444444,11794.210542000001,49.38,{"$f":"V13/3.6","v":13.716666666666667},null,null,null,null,null,0,{"$f":"IF(AC13=100,\"ОК\",\" \")","v":" "}]
[4,"","","","","","","","","",null,"","","",8259.2912219999998,34.58,9.6055555555555543,9152.5748879999992,38.32,10.644444444444444,11794.210542000001,49.38,13.716666666666667,null,null,null,null,null,0,{"$f":"IF(AC14=100,\"ОК\",\" \")","v":" "}]
[5,92.1233,3.9437000000000002,1.0107999999999999,0.11890000000000001,0.19980000000000001,6.1999999999999998E-3,5.7599999999999998E-2,4.8000000000000001E-2,8.2600000000000007E-2,null,1.8144,0.59470000000000001,0.7298,8276.0104350000001,34.65,9.625,9169.2941009999995,38.39,10.66388888888889,11779.879788,49.32,13.7,null,null,null,null,null,100.00000000000001,"ОК"]
[6,92.543499999999995,3.7462,0.9637,0.1148,0.18709999999999999,5.8999999999999999E-3,5.5100000000000003E-2,4.53E-2,8.4400000000000003E-2,null,1.7082999999999999,0.54579999999999995,0.72670000000000001,8266.4565989999992,34.61,9.6138888888888889,9159.7402650000004,38.35,10.652777777777779,11791.822082999999,49.37,13.713888888888889,null,null,null,null,null,100.00009999999999," "]
[7,92.957899999999995,3.5360999999999998,0.91930000000000001,0.1125,0.1759,5.1999999999999998E-3,5.1700000000000003E-2,4.1700000000000001E-2,7.9699999999999993E-2,null,1.6138999999999999,0.50600000000000001,0.72340000000000004,8252.1258449999987,34.549999999999997,9.5972222222222214,9145.4095109999998,38.29,10.636111111111111,11801.375919,49.41,13.724999999999998,null,null,null,null,null,99.999900000000011," "]
[8,92.4739,3.8805000000000001,0.9879,0.11360000000000001,0.17469999999999999,4.7999999999999996E-3,4.9000000000000002E-2,3.9699999999999999E-2,7.3599999999999999E-2,null,1.7264999999999999,0.4758,0.72609999999999997,8273.6219760000004,34.64,9.6222222222222218,9166.9056419999997,38.380000000000003,10.661111111111111,11806.152837,49.43,13.730555555555554,-8.6,-2.5,1.1999999999999999E-3,2.0000000000000001E-4,"відсутні",100.00000000000001,"ОК"]
[9,92.547300000000007,3.7850000000000001,0.96550000000000002,0.1119,0.17460000000000001,5.3E-3,4.8899999999999999E-2,0.04,7.1099999999999997E-2,null,1.7447999999999999,0.50560000000000005,0.72570000000000001,8259.2912219999998,34.58,9.6055555555555543,9152.5748879999992,38.32,10.644444444444444,11791.822082999999,49.37,13.713888888888889,null,null,null,null,null,100.00000000000003,"ОК"]
[10,null,null,null,null,null,null,null,null,null,null,null,null,null,8259.2912219999998,34.58,{"$f":"P20/3.6","v":9.6055555555555543},9152.5748879999992,38.32,{"$f":"S20/3.6","v":10.644444444444444},11791.822082999999,49.37,13.713888888888889,null,null,null,null,null,0," "]
[11,null,null,null,null,null,null,null,null,null,null,null,null,null,8259.2912219999998,34.58,9.6055555555555543,9152.5748879999992,38.32,10.644444444444444,11791.822082999999,49.37,13.713888888888889,null,null,null,null,null,0," "]
[12,92.162599999999998,3.9226999999999999,1.0044,0.11849999999999999,0.19520000000000001,6.4000000000000003E-3,5.7500000000000002E-2,4.7699999999999999E-2,8.3199999999999996E-2,null,1.8209,0.58089999999999997,0.72940000000000005,8273.6219760000004,34.64,9.6222222222222218,9166.9056419999997,38.380000000000003,10.661111111111111,11779.879788,49.32,13.7,null,null,null,null,null,100.00000000000001,"ОК"]
[13,92.167000000000002,3.9156,0.99919999999999998,0.1171,0.19500000000000001,6.4000000000000003E-3,5.6599999999999998E-2,4.6800000000000001E-2,8.2600000000000007E-2,null,1.8220000000000001,0.5917,0.72940000000000005,8271.2335170000006,34.630000000000003,9.6194444444444454,9164.5171829999999,38.369999999999997,10.658333333333333,11777.491329,49.31,13.697222222222223,null,null,null,null,null,100,"ОК"]
[14,92.255700000000004,3.8694000000000002,0.99039999999999995,0.1163,0.19350000000000001,5.8999999999999999E-3,5.6599999999999998E-2,4.6699999999999998E-2,8.3099999999999993E-2,null,1.7990999999999999,0.58330000000000004,0.72870000000000001,8268.845057999999,34.619999999999997,9.6166666666666654,9162.1287240000001,38.36,10.655555555555555,11779.879788,49.32,13.7,null,null,null,null,null,99.999999999999986,"ОК"]
[15,92.062399999999997,4.0023,1.0207999999999999,0.12,0.19919999999999999,6.1000000000000004E-3,5.9299999999999999E-2,4.87E-2,8.7499999999999994E-2,null,1.8109999999999999,0.58279999999999998,0.73029999999999995,8285.5642709999993,34.69,9.6361111111111111,9178.8479370000005,38.43,10.674999999999999,11787.045165,49.35,13.708333333333334,-8.4,-3,null,null,null,100.00010000000002," "]
[16,92.139200000000002,3.9954000000000001,1.0098,0.11840000000000001,0.1988,5.8999999999999999E-3,5.8900000000000001E-2,4.82E-2,8.77E-2,null,1.776,0.56169999999999998,0.72970000000000002,8287.9527300000009,34.700000000000003,{"$f":"P26/3.6","v":9.6388888888888893},9181.2363960000002,38.44,{"$f":"S26/3.6","v":10.677777777777777},11796.599001,49.39,13.719444444444445,null,null,null,null,null,99.999999999999986,"ОК"]
[17,null,null,null,null,null,null,null,null,null,null,null,null,null,8287.9527300000009,34.700000000000003,9.6388888888888893,9181.2363960000002,38.44,10.677777777777777,11796.599001,49.39,13.719444444444445,null,null,null,null,null,0," "]
[18,null,null,null,null,null,null,null,null,null,null,null,null,null,8287.9527300000009,34.700000000000003,9.6388888888888893,9181.2363960000002,38.44,10.677777777777777,11796.599001,49.39,13.719444444444445,null,null,null,null,null,0," "]
[19,91.778800000000004,4.1429999999999998,1.0483,0.1231,0.2102,6.4000000000000003E-3,6.2300000000000001E-2,5.1200000000000002E-2,9.2100000000000001E-2,null,1.8812,0.60329999999999995,0.73260000000000003,8295.1181069999984,34.729999999999997,9.6472222222222204,9190.7902319999994,38.479999999999997,10.688888888888888,11782.268247,49.33,13.702777777777778,null,null,null,null,null,99.999899999999997," "]
[20,91.701899999999995,4.1492000000000004,1.0591999999999999,0.1229,0.21279999999999999,6.4000000000000003E-3,6.2700000000000006E-2,5.1700000000000003E-2,9.1600000000000001E-2,null,1.9174,0.62419999999999998,0.73319999999999996,8292.7296480000005,34.72,9.6444444444444439,9186.0133139999998,38.46,10.683333333333334,11775.102869999999,49.3,13.694444444444443,null,null,null,null,null,100.00000000000001,{"$f":"IF(AC30=100,\"ОК\",\" \")","v":"ОК"}]
[21,91.691299999999998,4.1451000000000002,1.0559000000000001,0.12230000000000001,0.21110000000000001,6.4999999999999997E-3,6.0900000000000003E-2,5.0700000000000002E-2,8.9700000000000002E-2,null,1.9248000000000001,0.64170000000000005,0.73329999999999995,8287.9527300000009,34.700000000000003,9.6388888888888893,9181.2363960000002,38.44,10.677777777777777,11767.937493000001,49.27,13.686111111111112,null,null,null,null,null,100,"ОК"]
[22,91.678600000000003,4.1638000000000002,1.0642,0.1239,0.21179999999999999,6.3E-3,6.2100000000000002E-2,5.1499999999999997E-2,9.3399999999999997E-2,4.1300000000000003E-2,1.9277,0.61670000000000003,0.73340000000000005,8295.1181069999984,34.729999999999997,9.6472222222222204,9188.4017729999996,38.47,10.68611111111111,11775.102869999999,49.3,13.694444444444443,-8.9,-3.4,1.2999999999999999E-3,2.0000000000000001E-4,"відсутні",100.04130000000001," "]
[23,91.653499999999994,4.1570999999999998,1.0639000000000001,0.1231,0.21129999999999999,6.0000000000000001E-3,6.2E-2,5.1400000000000001E-2,9.2100000000000001E-2,null,1.9390000000000001,0.64070000000000005,0.73360000000000003,8290.3411890000007,34.71,{"$f":"P33/3.6","v":9.6416666666666675},9183.624855,38.450000000000003,{"$f":"S33/3.6","v":10.680555555555555},11767.937493000001,49.27,13.686111111111112,null,null,null,null,null,100.00009999999999,{"$f":"IF(AC33=100,\"ОК\",\" \")","v":" "}]
[24,null,null,null,null,null,null,null,null,null,null,null,null,null,8290.3411890000007,34.71,9.6416666666666675,9183.624855,38.450000000000003,10.680555555555555,11767.937493000001,49.27,13.686111111111112,null,null,null,null,null,0," "]
[25,null,null,null,null,null,null,null,null,null,null,null,null,null,8290.3411890000007,34.71,9.6416666666666675,9183.624855,38.450000000000003,10.680555555555555,11767.937493000001,49.27,13.686111111111112,null,null,null,null,null,0," "]
[26,91.655100000000004,4.1622000000000003,1.0689,0.1246,0.2142,6.1000000000000004E-3,6.4799999999999996E-2,5.3499999999999999E-2,9.6500000000000002E-2,null,1.9260999999999999,0.628,0.73380000000000001,8297.506566,34.74,9.65,9190.7902319999994,38.479999999999997,{"$f":"S36/3.6","v":10.688888888888888},11775.102869999999,49.3,13.694444444444443,null,null,null,null,null,100.00000000000003,"ОК"]
[27,91.713099999999997,4.1140999999999996,1.0623,0.1235,0.21149999999999999,6.4999999999999997E-3,6.3100000000000003E-2,5.21E-2,9.4799999999999995E-2,null,1.9201999999999999,0.63880000000000003,0.73340000000000005,8290.3411890000007,34.71,9.6416666666666675,9183.624855,38.450000000000003,10.680555555555555,11770.325952000001,49.28,13.688888888888888,null,null,null,null,null,100,"ОК"]
[28,91.553700000000006,4.1654,1.0817000000000001,0.12529999999999999,0.217,7.1999999999999998E-3,6.3200000000000006E-2,5.2499999999999998E-2,9.3600000000000003E-2,null,1.9749000000000001,0.66549999999999998,0.73460000000000003,8290.3411890000007,34.71,9.6416666666666675,9186.0133139999998,38.46,10.683333333333334,11760.772116,49.24,13.677777777777777,null,null,null,null,null,99.999999999999986,"ОК"]
[29,null,null,null,null,null,null,null,null,null,null,null,null,null,8290.3411890000007,34.71,{"$f":"P39/3.6","v":9.6416666666666675},9186.0133139999998,38.46,{"$f":"S39/3.6","v":10.683333333333334},11760.772116,49.24,13.677777777777777,null,null,null,null,null,0," "]
[30,null,null,null,null,null,null,null,null,null,null,null,null,null,8290.3411890000007,34.71,{"$f":"P40/3.6","v":9.6416666666666675},9186.0133139999998,38.46,{"$f":"S40/3.6","v":10.683333333333334},11760.772116,49.24,13.677777777777777,null,null,null,null,null,0]
[31,null,null,null,null,null,null,null,null,null,null,null,null,null,8290.3411890000007,34.71,{"$f":"P41/3.6","v":9.6416666666666675},9186.0133139999998,38.46,{"$f":"S41/3.6","v":10.683333333333334},11760.772116,49.24,13.677777777777777,null,null,null,null,null,0," "]
["Рівень одоризації відповідає чинним нормативним документам",null,null,null,null,null,null,null,null,null,null,null,null,null,{"$f":"SUMPRODUCT(O11:O41,' розрахунок'!F7:F37)/' розрахунок'!F38","v":8276.0524047569688},{"$f":"SUMPRODUCT(P11:P41,' розрахунок'!F7:F37)/' розрахунок'!F38","v":34.650175718976001},{"$f":"SUMPRODUCT(Q11:Q41,' розрахунок'!F7:F37)/' розрахунок'!F38","v":9.6250488108266694},{"$f":"SUMPRODUCT(R11:R41,' розрахунок'!F7:F37)/' розрахунок'!F38","v":9169.3982706461011},{"$f":"SUMPRODUCT(S11:S41,' розрахунок'!F7:F37)/' розрахунок'!F38","v":38.390436137468143},{"$f":"SUMPRODUCT(T11:T41,' розрахунок'!F7:F37)/' розрахунок'!F38","v":10.664010038185594}]
[null,null,null,null,null,null,null,"Середньозважене значення теплоти згоряння:"]
[]
[]
[null,"В.о. Начальника  Харківського ЛВУМГ                                                                                                                 Моторя О.А.                                                                   01.03.2017                                                                           "]
[null,null,"Підрозділу підприємства, якому підпорядкована лабораторія",null,null,null,null,null,null,null,null,null,null,null,"прізвище",null,null,"підпис",null,null,null,"дата"]
[null,"Завідувач лабораторії  Харківського п/м  Харківського ЛВУМГ                                                                        Крупчицький Д.О.                                                          01.03.2017                                                                                                       "]
[null,null,"Лабораторія, де здійснювалось вимірювання газу",null,null,null,null,null,null,null,null,null,null,null,"прізвище",null,null,"підпис",null,null,null,"дата"]
[null,"Начальник служби ГВ та М                                                                                                                                      Щербак С.О.                                                                    01.03.2017"]
[null,null,"Підрозділу, відповідального за облік газу за маршрутом",null,null,null,null,null,null,null,null,null,null,null,"прізвище",null,null,"підпис",null,null,null,"дата"]

{"sheet":" розрахунок","index":1,"n_rows":42,"n_cols":6,"rows_kept":42,"cut":false,"hidden":false,"merged":[[3,5,5,5],[1,0,1,4],[0,0,0,1],[3,0,5,0],[3,1,5,1],[3,2,3,4],[4,2,4,4]]}
[]
["Додаток до Паспорту фізико-хімічних показників природного газу по маршруту № 830"]
[]
["Число місяця","Теплота згоряння вища, МДж/м3","Харківська область",null,null,"Загальний обсяг газу, м3"]
[null,null,"Обсяг газу переданого за добу,  м3 "]
[null,null,{"$f":"'[1] розрахунок (2)'!C6","v":"ПАТ \"Харківгаз\"\nсмт. Безлюдівка"},{"$f":"'[1] розрахунок (2)'!D6","v":"ПАТ \"Харківміськгаз\"\nГРС-1 м. Харків"},{"$f":"'[1] розрахунок (2)'!E6","v":"ДП \"Укравтогаз\"\nАГНКС-2 м. Харків"}]
[1,{"$f":"паспорт!S11","v":38.28},{"$f":"ROUND(IF(ISNUMBER('[1] розрахунок (2)'!C7),'[1] розрахунок (2)'!C7,LEFT('[1] розрахунок (2)'!C7,LEN('[1] розрахунок (2)'!C7)-1)),0)","v":66700},{"$f":"ROUND(IF(ISNUMBER('[1] розрахунок (2)'!D7),'[1] розрахунок (2)'!D7,LEFT('[1] розрахунок (2)'!D7,LEN('[1] розрахунок (2)'!D7)-1)),0)","v":1775149},{"$f":"ROUND(IF(ISNUMBER('[1] розрахунок (2)'!E7),'[1] розрахунок (2)'!E7,LEFT('[1] розрахунок (2)'!E7,LEN('[1] розрахунок (2)'!E7)-1)),0)","v":1163},{"$f":"SUM(C7:E7)","v":1843012}]
[2,{"$f":"паспорт!S12","v":38.32},{"$f":"ROUND(IF(ISNUMBER('[1] розрахунок (2)'!C8),'[1] розрахунок (2)'!C8,LEFT('[1] розрахунок (2)'!C8,LEN('[1] розрахунок (2)'!C8)-1)),0)","v":61528},{"$f":"ROUND(IF(ISNUMBER('[1] розрахунок (2)'!D8),'[1] розрахунок (2)'!D8,LEFT('[1] розрахунок (2)'!D8,LEN('[1] розрахунок (2)'!D8)-1)),0)","v":1667797},{"$f":"ROUND(IF(ISNUMBER('[1] розрахунок (2)'!E8),'[1] розрахунок (2)'!E8,LEFT('[1] розрахунок (2)'!E8,LEN('[1] розрахунок (2)'!E8)-1)),0)","v":1290},{"$f":"SUM(C8:E8)","v":1730615}]
[3,{"$f":"паспорт!S13","v":38.32},{"$f":"ROUND(IF(ISNUMBER('[1] розрахунок (2)'!C9),'[1] розрахунок (2)'!C9,LEFT('[1] розрахунок (2)'!C9,LEN('[1] розрахунок (2)'!C9)-1)),0)","v":56160},{"$f":"ROUND(IF(ISNUMBER('[1] розрахунок (2)'!D9),'[1] розрахунок (2)'!D9,LEFT('[1] розрахунок (2)'!D9,LEN('[1] розрахунок (2)'!D9)-1)),0)","v":1595975},{"$f":"ROUND(IF(ISNUMBER('[1] розрахунок (2)'!E9),'[1] розрахунок (2)'!E9,LEFT('[1] розрахунок (2)'!E9,LEN('[1] розрахунок (2)'!E9)-1)),0)","v":789},{"$f":"SUM(C9:E9)","v":1652924}]
[4,{"$f":"паспорт!S14","v":38.32},{"$f":"ROUND(IF(ISNUMBER('[1] розрахунок (2)'!C10),'[1] розрахунок (2)'!C10,LEFT('[1] розрахунок (2)'!C10,LEN('[1] розрахунок (2)'!C10)-1)),0)","v":53396},{"$f":"ROUND(IF(ISNUMBER('[1] розрахунок (2)'!D10),'[1] розрахунок (2)'!D10,LEFT('[1] розрахунок (2)'!D10,LEN('[1] розрахунок (2)'!D10)-1)),0)","v":1475060},{"$f":"ROUND(IF(ISNUMBER('[1] розрахунок (2)'!E10),'[1] розрахунок (2)'!E10,LEFT('[1] розрахунок (2)'!E10,LEN('[1] розрахунок (2)'!E10)-1)),0)","v":307},{"$f":"SUM(C10:E10)","v":1528763}]
[5,{"$f":"паспорт!S15","v":38.39},{"$f":"ROUND(IF(ISNUMBER('[1] розрахунок (2)'!C11),'[1] розрахунок (2)'!C11,LEFT('[1] розрахунок (2)'!C11,LEN('[1] розрахунок (2)'!C11)-1)),0)","v":55514},{"$f":"ROUND(IF(ISNUMBER('[1] розрахунок (2)'!D11),'[1] розрахунок (2)'!D11,LEFT('[1] розрахунок (2)'!D11,LEN('[1] розрахунок (2)'!D11)-1)),0)","v":1509907},{"$f":"ROUND(IF(ISNUMBER('[1] розрахунок (2)'!E11),'[1] розрахунок (2)'!E11,LEFT('[1] розрахунок (2)'!E11,LEN('[1] розрахунок (2)'!E11)-1)),0)","v":155},{"$f":"SUM(C11:E11)","v":1565576}]
[6,{"$f":"паспорт!S16","v":38.35},{"$f":"ROUND(IF(ISNUMBER('[1] розрахунок (2)'!C12),'[1] розрахунок (2)'!C12,LEFT('[1] розрахунок (2)'!C12,LEN('[1] розрахунок (2)'!C12)-1)),0)","v":60693},{"$f":"ROUND(IF(ISNUMBER('[1] розрахунок (2)'!D12),'[1] розрахунок (2)'!D12,LEFT('[1] розрахунок (2)'!D12,LEN('[1] розрахунок (2)'!D12)-1)),0)","v":1698846},{"$f":"ROUND(IF(ISNUMBER('[1] розрахунок (2)'!E12),'[1] розрахунок (2)'!E12,LEFT('[1] розрахунок (2)'!E12,LEN('[1] розрахунок (2)'!E12)-1)),0)","v":1000},{"$f":"SUM(C12:E12)","v":1760539}]
[7,{"$f":"паспорт!S17","v":38.29},{"$f":"ROUND(IF(ISNUMBER('[1] розрахунок (2)'!C13),'[1] розрахунок (2)'!C13,LEFT('[1] розрахунок (2)'!C13,LEN('[1] розрахунок (2)'!C13)-1)),0)","v":67265},{"$f":"ROUND(IF(ISNUMBER('[1] розрахунок (2)'!D13),'[1] розрахунок (2)'!D13,LEFT('[1] розрахунок (2)'!D13,LEN('[1] розрахунок (2)'!D13)-1)),0)","v":1881516},{"$f":"ROUND(IF(ISNUMBER('[1] розрахунок (2)'!E13),'[1] розрахунок (2)'!E13,LEFT('[1] розрахунок (2)'!E13,LEN('[1] розрахунок (2)'!E13)-1)),0)","v":999},{"$f":"SUM(C13:E13)","v":1949780}]
[8,{"$f":"паспорт!S18","v":38.380000000000003},{"$f":"ROUND(IF(ISNUMBER('[1] розрахунок (2)'!C14),'[1] розрахунок (2)'!C14,LEFT('[1] розрахунок (2)'!C14,LEN('[1] розрахунок (2)'!C14)-1)),0)","v":72213},{"$f":"ROUND(IF(ISNUMBER('[1] розрахунок (2)'!D14),'[1] розрахунок (2)'!D14,LEFT('[1] розрахунок (2)'!D14,LEN('[1] розрахунок (2)'!D14)-1)),0)","v":1999926},{"$f":"ROUND(IF(ISNUMBER('[1] розрахунок (2)'!E14),'[1] розрахунок (2)'!E14,LEFT('[1] розрахунок (2)'!E14,LEN('[1] розрахунок (2)'!E14)-1)),0)","v":742},{"$f":"SUM(C14:E14)","v":2072881}]
[9,{"$f":"паспорт!S19","v":38.32},{"$f":"ROUND(IF(ISNUMBER('[1] розрахунок (2)'!C15),'[1] розрахунок (2)'!C15,LEFT('[1] розрахунок (2)'!C15,LEN('[1] розрахунок (2)'!C15)-1)),0)","v":71380},{"$f":"ROUND(IF(ISNUMBER('[1] розрахунок (2)'!D15),'[1] розрахунок (2)'!D15,LEFT('[1] розрахунок (2)'!D15,LEN('[1] розрахунок (2)'!D15)-1)),0)","v":1899812},{"$f":"ROUND(IF(ISNUMBER('[1] розрахунок (2)'!E15),'[1] розрахунок (2)'!E15,LEFT('[1] розрахунок (2)'!E15,LEN('[1] розрахунок (2)'!E15)-1)),0)","v":691},{"$f":"SUM(C15:E15)","v":1971883}]
[10,{"$f":"паспорт!S20","v":38.32},{"$f":"ROUND(IF(ISNUMBER('[1] розрахунок (2)'!C16),'[1] розрахунок (2)'!C16,LEFT('[1] розрахунок (2)'!C16,LEN('[1] розрахунок (2)'!C16)-1)),0)","v":65866},{"$f":"ROUND(IF(ISNUMBER('[1] розрахунок (2)'!D16),'[1] розрахунок (2)'!D16,LEFT('[1] розрахунок (2)'!D16,LEN('[1] розрахунок (2)'!D16)-1)),0)","v":1782340},{"$f":"ROUND(IF(ISNUMBER('[1] розрахунок (2)'!E16),'[1] розрахунок (2)'!E16,LEFT('[1] розрахунок (2)'!E16,LEN('[1] розрахунок (2)'!E16)-1)),0)","v":1230},{"$f":"SUM(C16:E16)","v":1849436}]
[11,{"$f":"паспорт!S21","v":38.32},{"$f":"ROUND(IF(ISNUMBER('[1] розрахунок (2)'!C17),'[1] розрахунок (2)'!C17,LEFT('[1] розрахунок (2)'!C17,LEN('[1] розрахунок (2)'!C17)-1)),0)","v":60752},{"$f":"ROUND(IF(ISNUMBER('[1] розрахунок (2)'!D17),'[1] розрахунок (2)'!D17,LEFT('[1] розрахунок (2)'!D17,LEN('[1] розрахунок (2)'!D17)-1)),0)","v":1669449},{"$f":"ROUND(IF(ISNUMBER('[1] розрахунок (2)'!E17),'[1] розрахунок (2)'!E17,LEFT('[1] розрахунок (2)'!E17,LEN('[1] розрахунок (2)'!E17)-1)),0)","v":303},{"$f":"SUM(C17:E17)","v":1730504}]
[12,{"$f":"паспорт!S22","v":38.380000000000003},{"$f":"ROUND(IF(ISNUMBER('[1] розрахунок (2)'!C18),'[1] розрахунок (2)'!C18,LEFT('[1] розрахунок (2)'!C18,LEN('[1] розрахунок (2)'!C18)-1)),0)","v":56651},{"$f":"ROUND(IF(ISNUMBER('[1] розрахунок (2)'!D18),'[1] розрахунок (2)'!D18,LEFT('[1] розрахунок (2)'!D18,LEN('[1] розрахунок (2)'!D18)-1)),0)","v":1573191},{"$f":"ROUND(IF(ISNUMBER('[1] розрахунок (2)'!E18),'[1] розрахунок (2)'!E18,LEFT('[1] розрахунок (2)'!E18,LEN('[1] розрахунок (2)'!E18)-1)),0)","v":255},{"$f":"SUM(C18:E18)","v":1630097}]
[13,{"$f":"паспорт!S23","v":38.369999999999997},{"$f":"ROUND(IF(ISNUMBER('[1] розрахунок (2)'!C19),'[1] розрахунок (2)'!C19,LEFT('[1] розрахунок (2)'!C19,LEN('[1] розрахунок (2)'!C19)-1)),0)","v":56675},{"$f":"ROUND(IF(ISNUMBER('[1] розрахунок (2)'!D19),'[1] розрахунок (2)'!D19,LEFT('[1] розрахунок (2)'!D19,LEN('[1] розрахунок (2)'!D19)-1)),0)","v":1546415},{"$f":"ROUND(IF(ISNUMBER('[1] розрахунок (2)'!E19),'[1] розрахунок (2)'!E19,LEFT('[1] розрахунок (2)'!E19,LEN('[1] розрахунок (2)'!E19)-1)),0)","v":965},{"$f":"SUM(C19:E19)","v":1604055}]
[14,{"$f":"паспорт!S24","v":38.36},{"$f":"ROUND(IF(ISNUMBER('[1] розрахунок (2)'!C20),'[1] розрахунок (2)'!C20,LEFT('[1] розрахунок (2)'!C20,LEN('[1] розрахунок (2)'!C20)-1)),0)","v":58181},{"$f":"ROUND(IF(ISNUMBER('[1] розрахунок (2)'!D20),'[1] розрахунок (2)'!D20,LEFT('[1] розрахунок (2)'!D20,LEN('[1] розрахунок (2)'!D20)-1)),0)","v":1567046},{"$f":"ROUND(IF(ISNUMBER('[1] розрахунок (2)'!E20),'[1] розрахунок (2)'!E20,LEFT('[1] розрахунок (2)'!E20,LEN('[1] розрахунок (2)'!E20)-1)),0)","v":1168},{"$f":"SUM(C20:E20)","v":1626395}]
[15,{"$f":"паспорт!S25","v":38.43},{"$f":"ROUND(IF(ISNUMBER('[1] розрахунок (2)'!C21),'[1] розрахунок (2)'!C21,LEFT('[1] розрахунок (2)'!C21,LEN('[1] розрахунок (2)'!C21)-1)),0)","v":56303},{"$f":"ROUND(IF(ISNUMBER('[1] розрахунок (2)'!D21),'[1] розрахунок (2)'!D21,LEFT('[1] розрахунок (2)'!D21,LEN('[1] розрахунок (2)'!D21)-1)),0)","v":1604100},{"$f":"ROUND(IF(ISNUMBER('[1] розрахунок (2)'!E21),'[1] розрахунок (2)'!E21,LEFT('[1] розрахунок (2)'!E21,LEN('[1] розрахунок (2)'!E21)-1)),0)","v":994},{"$f":"SUM(C21:E21)","v":1661397}]
[16,{"$f":"паспорт!S26","v":38.44},{"$f":"ROUND(IF(ISNUMBER('[1] розрахунок (2)'!C22),'[1] розрахунок (2)'!C22,LEFT('[1] розрахунок (2)'!C22,LEN('[1] розрахунок (2)'!C22)-1)),0)","v":57955},{"$f":"ROUND(IF(ISNUMBER('[1] розрахунок (2)'!D22),'[1] розрахунок (2)'!D22,LEFT('[1] розрахунок (2)'!D22,LEN('[1] розрахунок (2)'!D22)-1)),0)","v":1703478},{"$f":"ROUND(IF(ISNUMBER('[1] розрахунок (2)'!E22),'[1] розрахунок (2)'!E22,LEFT('[1] розрахунок (2)'!E22,LEN('[1] розрахунок (2)'!E22)-1)),0)","v":1468},{"$f":"SUM(C22:E22)","v":1762901}]
[17,{"$f":"паспорт!S27","v":38.44},{"$f":"ROUND(IF(ISNUMBER('[1] розрахунок (2)'!C23),'[1] розрахунок (2)'!C23,LEFT('[1] розрахунок (2)'!C23,LEN('[1] розрахунок (2)'!C23)-1)),0)","v":59157},{"$f":"ROUND(IF(ISNUMBER('[1] розрахунок (2)'!D23),'[1] розрахунок (2)'!D23,LEFT('[1] розрахунок (2)'!D23,LEN('[1] розрахунок (2)'!D23)-1)),0)","v":1632726},{"$f":"ROUND(IF(ISNUMBER('[1] розрахунок (2)'!E23),'[1] розрахунок (2)'!E23,LEFT('[1] розрахунок (2)'!E23,LEN('[1] розрахунок (2)'!E23)-1)),0)","v":1162},{"$f":"SUM(C23:E23)","v":1693045}]
[18,{"$f":"паспорт!S28","v":38.44},{"$f":"ROUND(IF(ISNUMBER('[1] розрахунок (2)'!C24),'[1] розрахунок (2)'!C24,LEFT('[1] розрахунок (2)'!C24,LEN('[1] розрахунок (2)'!C24)-1)),0)","v":53816},{"$f":"ROUND(IF(ISNUMBER('[1] розрахунок (2)'!D24),'[1] розрахунок (2)'!D24,LEFT('[1] розрахунок (2)'!D24,LEN('[1] розрахунок (2)'!D24)-1)),0)","v":1610531},{"$f":"ROUND(IF(ISNUMBER('[1] розрахунок (2)'!E24),'[1] розрахунок (2)'!E24,LEFT('[1] розрахунок (2)'!E24,LEN('[1] розрахунок (2)'!E24)-1)),0)","v":493},{"$f":"SUM(C24:E24)","v":1664840}]
[19,{"$f":"паспорт!S29","v":38.479999999999997},{"$f":"ROUND(IF(ISNUMBER('[1] розрахунок (2)'!C25),'[1] розрахунок (2)'!C25,LEFT('[1] розрахунок (2)'!C25,LEN('[1] розрахунок (2)'!C25)-1)),0)","v":47231},{"$f":"ROUND(IF(ISNUMBER('[1] розрахунок (2)'!D25),'[1] розрахунок (2)'!D25,LEFT('[1] розрахунок (2)'!D25,LEN('[1] розрахунок (2)'!D25)-1)),0)","v":1581150},{"$f":"ROUND(IF(ISNUMBER('[1] розрахунок (2)'!E25),'[1] розрахунок (2)'!E25,LEFT('[1] розрахунок (2)'!E25,LEN('[1] розрахунок (2)'!E25)-1)),0)","v":454},{"$f":"SUM(C25:E25)","v":1628835}]
[20,{"$f":"паспорт!S30","v":38.46},{"$f":"ROUND(IF(ISNUMBER('[1] розрахунок (2)'!C26),'[1] розрахунок (2)'!C26,LEFT('[1] розрахунок (2)'!C26,LEN('[1] розрахунок (2)'!C26)-1)),0)","v":42285},{"$f":"ROUND(IF(ISNUMBER('[1] розрахунок (2)'!D26),'[1] розрахунок (2)'!D26,LEFT('[1] розрахунок (2)'!D26,LEN('[1] розрахунок (2)'!D26)-1)),0)","v":1391472},{"$f":"ROUND(IF(ISNUMBER('[1] розрахунок (2)'!E26),'[1] розрахунок (2)'!E26,LEFT('[1] розрахунок (2)'!E26,LEN('[1] розрахунок (2)'!E26)-1)),0)","v":1072},{"$f":"SUM(C26:E26)","v":1434829}]
[21,{"$f":"паспорт!S31","v":38.44},{"$f":"ROUND(IF(ISNUMBER('[1] розрахунок (2)'!C27),'[1] розрахунок (2)'!C27,LEFT('[1] розрахунок (2)'!C27,LEN('[1] розрахунок (2)'!C27)-1)),0)","v":42664},{"$f":"ROUND(IF(ISNUMBER('[1] розрахунок (2)'!D27),'[1] розрахунок (2)'!D27,LEFT('[1] розрахунок (2)'!D27,LEN('[1] розрахунок (2)'!D27)-1)),0)","v":1411625},{"$f":"ROUND(IF(ISNUMBER('[1] розрахунок (2)'!E27),'[1] розрахунок (2)'!E27,LEFT('[1] розрахунок (2)'!E27,LEN('[1] розрахунок (2)'!E27)-1)),0)","v":1197},{"$f":"SUM(C27:E27)","v":1455486}]
[22,{"$f":"паспорт!S32","v":38.47},{"$f":"ROUND(IF(ISNUMBER('[1] розрахунок (2)'!C28),'[1] розрахунок (2)'!C28,LEFT('[1] розрахунок (2)'!C28,LEN('[1] розрахунок (2)'!C28)-1)),0)","v":40751},{"$f":"ROUND(IF(ISNUMBER('[1] розрахунок (2)'!D28),'[1] розрахунок (2)'!D28,LEFT('[1] розрахунок (2)'!D28,LEN('[1] розрахунок (2)'!D28)-1)),0)","v":1429682},{"$f":"ROUND(IF(ISNUMBER('[1] розрахунок (2)'!E28),'[1] розрахунок (2)'!E28,LEFT('[1] розрахунок (2)'!E28,LEN('[1] розрахунок (2)'!E28)-1)),0)","v":1408},{"$f":"SUM(C28:E28)","v":1471841}]
[23,{"$f":"паспорт!S33","v":38.450000000000003},{"$f":"ROUND(IF(ISNUMBER('[1] розрахунок (2)'!C29),'[1] розрахунок (2)'!C29,LEFT('[1] розрахунок (2)'!C29,LEN('[1] розрахунок (2)'!C29)-1)),0)","v":41914},{"$f":"ROUND(IF(ISNUMBER('[1] розрахунок (2)'!D29),'[1] розрахунок (2)'!D29,LEFT('[1] розрахунок (2)'!D29,LEN('[1] розрахунок (2)'!D29)-1)),0)","v":1440686},{"$f":"ROUND(IF(ISNUMBER('[1] розрахунок (2)'!E29),'[1] розрахунок (2)'!E29,LEFT('[1] розрахунок (2)'!E29,LEN('[1] розрахунок (2)'!E29)-1)),0)","v":1031},{"$f":"SUM(C29:E29)","v":1483631}]
[24,{"$f":"паспорт!S34","v":38.450000000000003},{"$f":"ROUND(IF(ISNUMBER('[1] розрахунок (2)'!C30),'[1] розрахунок (2)'!C30,LEFT('[1] розрахунок (2)'!C30,LEN('[1] розрахунок (2)'!C30)-1)),0)","v":38796},{"$f":"ROUND(IF(ISNUMBER('[1] розрахунок (2)'!D30),'[1] розрахунок (2)'!D30,LEFT('[1] розрахунок (2)'!D30,LEN('[1] розрахунок (2)'!D30)-1)),0)","v":1398310},{"$f":"ROUND(IF(ISNUMBER('[1] розрахунок (2)'!E30),'[1] розрахунок (2)'!E30,LEFT('[1] розрахунок (2)'!E30,LEN('[1] розрахунок (2)'!E30)-1)),0)","v":1160},{"$f":"SUM(C30:E30)","v":1438266}]
[25,{"$f":"паспорт!S35","v":38.450000000000003},{"$f":"ROUND(IF(ISNUMBER('[1] розрахунок (2)'!C31),'[1] розрахунок (2)'!C31,LEFT('[1] розрахунок (2)'!C31,LEN('[1] розрахунок (2)'!C31)-1)),0)","v":41746},{"$f":"ROUND(IF(ISNUMBER('[1] розрахунок (2)'!D31),'[1] розрахунок (2)'!D31,LEFT('[1] розрахунок (2)'!D31,LEN('[1] розрахунок (2)'!D31)-1)),0)","v":1353976},{"$f":"ROUND(IF(ISNUMBER('[1] розрахунок (2)'!E31),'[1] розрахунок (2)'!E31,LEFT('[1] розрахунок (2)'!E31,LEN('[1] розрахунок (2)'!E31)-1)),0)","v":673},{"$f":"SUM(C31:E31)","v":1396395}]
[26,{"$f":"паспорт!S36","v":38.479999999999997},{"$f":"ROUND(IF(ISNUMBER('[1] розрахунок (2)'!C32),'[1] розрахунок (2)'!C32,LEFT('[1] розрахунок (2)'!C32,LEN('[1] розрахунок (2)'!C32)-1)),0)","v":43266},{"$f":"ROUND(IF(ISNUMBER('[1] розрахунок (2)'!D32),'[1] розрахунок (2)'!D32,LEFT('[1] розрахунок (2)'!D32,LEN('[1] розрахунок (2)'!D32)-1)),0)","v":1421115},{"$f":"ROUND(IF(ISNUMBER('[1] розрахунок (2)'!E32),'[1] розрахунок (2)'!E32,LEFT('[1] розрахунок (2)'!E32,LEN('[1] розрахунок (2)'!E32)-1)),0)","v":433},{"$f":"SUM(C32:E32)","v":1464814}]
[27,{"$f":"паспорт!S37","v":38.450000000000003},{"$f":"ROUND(IF(ISNUMBER('[1] розрахунок (2)'!C33),'[1] розрахунок (2)'!C33,LEFT('[1] розрахунок (2)'!C33,LEN('[1] розрахунок (2)'!C33)-1)),0)","v":42258},{"$f":"ROUND(IF(ISNUMBER('[1] розрахунок (2)'!D33),'[1] розрахунок (2)'!D33,LEFT('[1] розрахунок (2)'!D33,LEN('[1] розрахунок (2)'!D33)-1)),0)","v":1436835},{"$f":"ROUND(IF(ISNUMBER('[1] розрахунок (2)'!E33),'[1] розрахунок (2)'!E33,LEFT('[1] розрахунок (2)'!E33,LEN('[1] розрахунок (2)'!E33)-1)),0)","v":1019},{"$f":"SUM(C33:E33)","v":1480112}]
[28,{"$f":"паспорт!S38","v":38.46},{"$f":"ROUND(IF(ISNUMBER('[1] розрахунок (2)'!C34),'[1] розрахунок (2)'!C34,LEFT('[1] розрахунок (2)'!C34,LEN('[1] розрахунок (2)'!C34)-1)),0)","v":40256},{"$f":"ROUND(IF(ISNUMBER('[1] розрахунок (2)'!D34),'[1] розрахунок (2)'!D34,LEFT('[1] розрахунок (2)'!D34,LEN('[1] розрахунок (2)'!D34)-1)),0)","v":1369613},{"$f":"ROUND(IF(ISNUMBER('[1] розрахунок (2)'!E34),'[1] розрахунок (2)'!E34,LEFT('[1] розрахунок (2)'!E34,LEN('[1] розрахунок (2)'!E34)-1)),0)","v":1296},{"$f":"SUM(C34:E34)","v":1411165}]
[29,{"$f":"паспорт!S39","v":38.46},{"$f":"ROUND(IF(ISNUMBER('[1] розрахунок (2)'!C35),'[1] розрахунок (2)'!C35,LEFT('[1] розрахунок (2)'!C35,LEN('[1] розрахунок (2)'!C35)-1)),0)","v":0},{"$f":"ROUND(IF(ISNUMBER('[1] розрахунок (2)'!D35),'[1] розрахунок (2)'!D35,LEFT('[1] розрахунок (2)'!D35,LEN('[1] розрахунок (2)'!D35)-1)),0)","v":0},{"$f":"ROUND(IF(ISNUMBER('[1] розрахунок (2)'!E35),'[1] розрахунок (2)'!E35,LEFT('[1] розрахунок (2)'!E35,LEN('[1] розрахунок (2)'!E35)-1)),0)","v":0},{"$f":"SUM(C35:E35)","v":0}]
[30,{"$f":"паспорт!S40","v":38.46},{"$f":"ROUND(IF(ISNUMBER('[1] розрахунок (2)'!C36),'[1] розрахунок (2)'!C36,LEFT('[1] розрахунок (2)'!C36,LEN('[1] розрахунок (2)'!C36)-1)),0)","v":0},{"$f":"ROUND(IF(ISNUMBER('[1] розрахунок (2)'!D36),'[1] розрахунок (2)'!D36,LEFT('[1] розрахунок (2)'!D36,LEN('[1] розрахунок (2)'!D36)-1)),0)","v":0},{"$f":"ROUND(IF(ISNUMBER('[1] розрахунок (2)'!E36),'[1] розрахунок (2)'!E36,LEFT('[1] розрахунок (2)'!E36,LEN('[1] розрахунок (2)'!E36)-1)),0)","v":0},{"$f":"SUM(C36:E36)","v":0}]
[31,{"$f":"паспорт!S41","v":38.46},{"$f":"ROUND(IF(ISNUMBER('[1] розрахунок (2)'!C37),'[1] розрахунок (2)'!C37,LEFT('[1] розрахунок (2)'!C37,LEN('[1] розрахунок (2)'!C37)-1)),0)","v":0},{"$f":"ROUND(IF(ISNUMBER('[1] розрахунок (2)'!D37),'[1] розрахунок (2)'!D37,LEFT('[1] розрахунок (2)'!D37,LEN('[1] розрахунок (2)'!D37)-1)),0)","v":0},{"$f":"ROUND(IF(ISNUMBER('[1] розрахунок (2)'!E37),'[1] розрахунок (2)'!E37,LEFT('[1] розрахунок (2)'!E37,LEN('[1] розрахунок (2)'!E37)-1)),0)","v":0},{"$f":"SUM(C37:E37)","v":0}]
["Загальний обсяг газу, м3",null,{"$f":"SUM(C7:C37)","v":1511372},{"$f":"SUM(D7:D37)","v":44427728},24917,{"$f":"SUM(F7:F37)","v":45964017}]
["Енергія, МДж",null,{"$f":"SUMPRODUCT(B7:B37,C7:C37)","v":58015073.790000007},{"$f":"SUMPRODUCT(B7:B37,D7:D37)","v":1705606829.7100003},{"$f":"SUMPRODUCT(B7:B37,E7:E37)","v":956755.76000000013},{"$f":"SUMPRODUCT(B7:B37,F7:F37)","v":1764578659.26}]
["Теплота згоряння (середньозважене значення за місяць), МДж/м³",null,{"$f":"C39/C38","v":38.38570106499261},{"$f":"D39/D38","v":38.390593138366206},{"$f":"E39/E38","v":38.397710799855524},{"$f":"F39/F38","v":38.390436137468143}]
["Теплота згоряння (середньозважене значення за місяць), ккал/м³",null,{"$f":"C40*238.8459","v":9168.2673179991179},{"$f":"D40*238.8459","v":9169.4357696669013},9171.1357939312129,9169.3982706461029]
["Теплота згоряння (середньозважене значення за місяць), кВт*год./м³",null,{"$f":"C40/3.6","v":10.662694740275725},{"$f":"D40/3.6","v":10.664053649546169},10.666030777737646,10.664010038185594]

{"sheet":"додаток","index":2,"n_rows":18,"n_cols":6,"rows_kept":18,"cut":false,"hidden":false,"merged":[[12,0,12,5],[14,0,14,5],[16,0,16,5],[0,0,0,1],[8,0,8,1],[3,2,3,4],[3,1,4,1],[3,0,4,0],[5,0,7,0]]}
[]
["Додаток до Паспорту фізико-хімічних показників природного газу №662"]
[]
["Область","ГРС, прямий споживач","Cередньозважене значення вищої теплоти згоряння"]
[null,null," МДж/м³","ккал/м³","кВт*год./м³"]
["Харківська область",{"$f":"'[1] розрахунок'!C6","v":"ПАТ \"Харківгаз\"\nсмт. Безлюдівка"},38.38570106499261,9168.2673179991179,10.662694740275725]
[null,{"$f":"'[1] розрахунок'!D6","v":"ПАТ \"Харківміськгаз\"\nГРС-1 м. Харків"},38.390593138366206,9169.4357696669013,10.664053649546169]
[null,{"$f":"'[1] розрахунок'!E6","v":"ДП \"Укравтогаз\"\nАГНКС-2 м. Харків"},38.397710799855524,9171.1357939312129,10.666030777737646]
["Середньозважене значення вищої теплоти згоряння по маршруту № 662",null,38.390436137468143,9169.3982706461029,10.664010038185594]
[]
[]
[]
["В.о. Начальника  Харківського ЛВУМГ                                                            Моторя О.А.                                          01.03.2017                                                                                 "]
["Підрозділу підприємства, якому підпорядкована лабораторія",null,null,"прізвище","підпис","дата"]
["Завідувач лабораторії  Харківського п/м  Харківського ЛВУМГ              Крупчицький Д.О.                                 01.03.2017                                                                                     "]
["Лабораторія, де здійснювалось вимірювання газу",null,null,"прізвище","підпис","дата"]
["Начальник служби ГВ та М                                                                                Щербак С.О.                                             01.03.2017"]
["Підрозділу, відповідального за облік газу за маршрутом",null,null,"прізвище","підпис","дата"]

{"sheet":"variablesList","index":3,"n_rows":3,"n_cols":4,"rows_kept":3,"cut":false,"hidden":true,"merged":[]}
[3,"x:\\gaysin","10, 11, 24, 25, 127, 128, 132, 180, 207, 215","x:\\"]
[null,"x:\\Illinci"]
[null,"x:\\Talne"]