{"text_format":"1","workbook":"xlsx","n_sheets":4,"sheets":["паспорт"," розрахунок","додаток","variablesList"],"not_rendered":{"charts":0,"images":0,"macros":1,"external_links":0,"defined_names":3,"comments":0,"pivot_tables":0},"unopened":[],"bounds":{"document_bytes":16777216,"sheet_cells":100000,"rows_first":2000,"rows_last":500,"rows_between":2000,"halvings":0,"cell_chars":16384,"cell_head_chars":4096},"cells_cut":0,"cells_raw":0,"read":"whole","date_system":"1900"}

{"sheet":"паспорт","index":0,"n_rows":51,"n_cols":31,"rows_kept":51,"cut":false,"hidden":false,"merged":[[0,6,0,24],[1,6,1,24],[0,25,0,27],[4,23,4,24],[8,12,9,12],[4,21,4,22],[8,14,8,16],[8,17,8,19],[8,20,8,22],[7,14,7,22],[2,6,2,24],[4,26,4,27],[8,7,9,7],[6,1,7,12],[7,13,9,13],[6,13,6,22],[47,1,47,26],[43,20,43,27],[42,20,42,27],[41,20,41,27],[6,27,9,27],[8,8,9,8],[6,26,9,26],[6,24,9,24],[6,23,9,23],[8,1,9,1],[8,2,9,2],[8,5,9,5],[8,6,9,6],[8,4,9,4],[6,0,9,0],[49,1,49,26],[8,11,9,11],[41,18,42,18],[41,19,42,19],[41,14,42,14],[42,7,42,13],[41,15,42,15],[41,16,42,16],[41,17,42,17],[8,9,9,9],[8,10,9,10],[6,25,9,25],[45,1,45,26],[41,0,41,13],[8,3,9,3]]}
["ПАТ \"УКРТРАНСГАЗ\"",null,null,null,null,null,"ПАСПОРТ ФІЗИКО-ХІМІЧНИХ ПОКАЗНИКІВ ПРИРОДНОГО ГАЗУ  № 689"]
["Філія \"УМГ \"ХАРКІВТРАНСГАЗ\"",null,null,null,null,null,"переданого Сєвєродонецьким ЛВУМГ та прийнятого  ПрАТ\"АЗОТ\",ПАТ \"Луганськгаз\""]
["Сєвєродонецьке ЛВУМГ",null,null,null,null,null,"Маршрут № 689"]
["Вимірювальна хіміко-аналітична лабораторія"]
["Свідоцтво № РЬ089/2014 чинно до 06.06.2017 р.",null,null,null,null,null,null,null,null,null,"по газопроводу  \"Луганськ-Лисичанськ-Рубіжне\"",null,null,null,null,null,null,null,null,null,null,"за період з",null,"01.02.2017 р.",null," по","28.02.2017 р."]
[]
["Число місяця","Компонентний склад, мол. % ",null,null,null,null,null,null,null,null,null,null,null,"Фізико-хімічні показники газу обчислені на основі компонентного складу, 101,325 кПа",null,null,null,null,null,null,null,null,null,"Температура точки роси за вологою (Р = 3.92 МПа), °С","Температура точки роси за вуглеводнями, °С","Вміст сірководню, г/м3","Вміст меркаптанової сірки, г/м3","Вміст механічних домішок, г/м3"]
[null,null,null,null,null,null,null,null,null,null,null,null,null,"Густина абсолютна, кг/м3,при 20 °С, ","Температура вимірювання/згоряння при  20/25°С"]
[null,"метан, С1","етан, С2","пропан, С3","ізо-бутан, і-С4","н-бутан, н-С4","нео-пентан, нео-С5","ізо-пентан, і-С5","н-пентан, н-С5","гексани та вищі, С6+","кисень, О2","азот, N2","діоксид вуглецю, CО2",null,"Теплота згоряння нижча",null,null,"Теплота згоряння вища",null,null,"Число Воббе вище"]
[null,null,null,null,null,null,null,null,null,null,null,null,null,null," ккал/м³"," МДж/м³","кВт⋅год/м³"," ккал/м³"," МДж/м³","кВт⋅год/м³"," ккал/м³"," МДж/м³","кВт⋅год/м³",null,null,null,null,null,null,null,"  "]
[1,null,null,null,null,null,null,null,null,null,null,null,null,null,{"$f":"P11*238.8459","v":8157.3279072900004},34.153100000000002,{"$f":"P11/3.6","v":9.4869722222222226},{"$f":"S11*238.8459","v":9037.3795104299988},37.837699999999998,{"$f":"S11/3.6","v":10.510472222222221},{"$f":"V11/0.0041868","v":11702.421897391803},48.995699999999999,{"$f":"V11/3.6","v":13.609916666666667},null,null,null,null,null,{"$f":"SUM(B11:M11)+$K$42+$N$42","v":0}]
[2,null,null,null,null,null,null,null,null,null,null,null,null,null,{"$f":"P12*238.8459","v":8157.3279072900004},34.153100000000002,{"$f":"P12/3.6","v":9.4869722222222226},{"$f":"S12*238.8459","v":9037.3795104299988},37.837699999999998,{"$f":"S12/3.6","v":10.510472222222221},{"$f":"V12/0.0041868","v":11702.421897391803},48.995699999999999,{"$f":"V12/3.6","v":13.609916666666667},null,null,null,null,null,0]
[3,93.26,3.2989000000000002,0.81059999999999999,8.0299999999999996E-2,0.1003,4.7000000000000002E-3,1.9400000000000001E-2,1.6899999999999998E-2,4.4999999999999998E-2,1.2800000000000001E-2,2.1236999999999999,0.22739999999999999,0.71579999999999999,{"$f":"P13*238.8459","v":8159.6447125199993},34.162799999999997,{"$f":"P13/3.6","v":9.4896666666666665},{"$f":"S13*238.8459","v":9040.43673795},37.850499999999997,{"$f":"S13/3.6","v":10.514027777777777},{"$f":"V13/0.0041868","v":11726.760294258145},49.0976,{"$f":"V13/3.6","v":13.638222222222222},null,null,null,null,null,100.00000000000001,{"$f":"IF(AC13=100,\"ОК\",\" \")","v":"ОК"}]
[4,null,null,null,null,null,null,null,null,null,null,null,null,null,{"$f":"P14*238.8459","v":8159.6447125199993},34.162799999999997,{"$f":"P14/3.6","v":9.4896666666666665},{"$f":"S14*238.8459","v":9040.43673795},37.850499999999997,{"$f":"S14/3.6","v":10.514027777777777},{"$f":"V14/0.0041868","v":11726.760294258145},49.0976,{"$f":"V14/3.6","v":13.638222222222222},null,null,null,null,null,0,{"$f":"IF(AC14=100,\"ОК\",\" \")","v":" "}]
[5,null,null,null,null,null,null,null,null,null,null,null,null,null,8159.6447125199993,34.162799999999997,9.4896666666666665,9040.43673795,37.850499999999997,10.514027777777777,11726.760294258145,49.0976,13.638222222222222,null,null,null,null,null,0," "]
[6,null,null,null,null,null,null,null,null,null,null,null,null,null,8159.6447125199993,34.162799999999997,9.4896666666666665,9040.43673795,37.850499999999997,10.514027777777777,11726.760294258145,49.0976,13.638222222222222,null,null,null,null,null,0," "]
[7,null,null,null,null,null,null,null,null,null,null,null,null,null,8159.6447125199993,34.162799999999997,9.4896666666666665,9040.43673795,37.850499999999997,10.514027777777777,11726.760294258145,49.0976,13.638222222222222,null,null,null,null,null,0," "]
[8,null,null,null,null,null,null,null,null,null,null,null,null,null,8159.6447125199993,34.162799999999997,9.4896666666666665,9040.43673795,37.850499999999997,10.514027777777777,11726.760294258145,49.0976,13.638222222222222,null,null,null,null,null,0," "]
[9,93.079300000000003,3.3883000000000001,0.83260000000000001,8.2199999999999995E-2,0.104,2.3999999999999998E-3,1.9800000000000002E-2,1.7500000000000002E-2,2.64E-2,1.1599999999999999E-2,2.1385999999999998,0.29730000000000001,0.71699999999999997,{"$f":"P19*238.8459","v":8156.2769853299997},34.148699999999998,{"$f":"P19/3.6","v":9.4857499999999995},{"$f":"S19*238.8459","v":9036.5913189600014},37.834400000000002,{"$f":"S19/3.6","v":10.509555555555556},{"$f":"V19/0.0041868","v":11712.023502436228},49.035899999999998,{"$f":"V19/3.6","v":13.621083333333333},null,null,null,null,null,100,"ОК"]
[10,null,null,null,null,null,null,null,null,null,null,null,null,null,{"$f":"P20*238.8459","v":8156.2769853299997},34.148699999999998,{"$f":"P20/3.6","v":9.4857499999999995},{"$f":"S20*238.8459","v":9036.5913189600014},37.834400000000002,{"$f":"S20/3.6","v":10.509555555555556},{"$f":"V20/0.0041868","v":11712.023502436228},49.035899999999998,{"$f":"V20/3.6","v":13.621083333333333},null,null,null,null,null,0," "]
[11,null,null,null,null,null,null,null,null,null,null,null,null,null,8156.2769853299997,34.148699999999998,9.4857499999999995,9036.5913189600014,37.834400000000002,10.509555555555556,11712.023502436228,49.035899999999998,13.621083333333333,null,null,null,null,null,0," "]
[12,null,null,null,null,null,null,null,null,null,null,null,null,null,8156.2769853299997,34.148699999999998,9.4857499999999995,9036.5913189600014,37.834400000000002,10.509555555555556,11712.023502436228,49.035899999999998,13.621083333333333,null,null,null,null,null,0," "]
[13,null,null,null,null,null,null,null,null,null,null,null,null,null,8156.2769853299997,34.148699999999998,9.4857499999999995,9036.5913189600014,37.834400000000002,10.509555555555556,11712.023502436228,49.035899999999998,13.621083333333333,null,null,null,null,null,0," "]
[14,null,null,null,null,null,null,null,null,null,null,null,null,null,8156.2769853299997,34.148699999999998,9.4857499999999995,9036.5913189600014,37.834400000000002,10.509555555555556,11712.023502436228,49.035899999999998,13.621083333333333,null,null,null,null,null,0," "]
[15,94.128600000000006,2.5375999999999999,0.63429999999999997,6.6799999999999998E-2,9.3399999999999997E-2,4.4999999999999997E-3,2.18E-2,1.8700000000000001E-2,3.1300000000000001E-2,1.34E-2,2.1869999999999998,0.2626,0.70940000000000003,{"$f":"P25*238.8459","v":8075.1171485100003},33.808900000000001,{"$f":"P25/3.6","v":9.3913611111111113},{"$f":"S25*238.8459","v":8949.6275267700003},37.470300000000002,{"$f":"S25/3.6","v":10.408416666666668},{"$f":"V25/0.0041868","v":11661.889748734116},48.826000000000001,{"$f":"V25/3.6","v":13.562777777777777},null,null,null,null,null,100,"ОК"]
[16,null,null,null,null,null,null,null,null,null,null,null,null,null,{"$f":"P26*238.8459","v":8075.1171485100003},33.808900000000001,{"$f":"P26/3.6","v":9.3913611111111113},{"$f":"S26*238.8459","v":8949.6275267700003},37.470300000000002,{"$f":"S26/3.6","v":10.408416666666668},{"$f":"V26/0.0041868","v":11661.889748734116},48.826000000000001,{"$f":"V26/3.6","v":13.562777777777777},null,null,null,null,null,0," "]
[17,null,null,null,null,null,null,null,null,null,null,null,null,null,8075.1171485100003,33.808900000000001,9.3913611111111113,8949.6275267700003,37.470300000000002,10.408416666666668,11661.889748734116,48.826000000000001,13.562777777777777,null,null,null,null,null,0," "]
[18,null,null,null,null,null,null,null,null,null,null,null,null,null,8075.1171485100003,33.808900000000001,9.3913611111111113,8949.6275267700003,37.470300000000002,10.408416666666668,11661.889748734116,48.826000000000001,13.562777777777777,null,null,null,null,null,0," "]
[19,null,null,null,null,null,null,null,null,null,null,null,null,null,8075.1171485100003,33.808900000000001,9.3913611111111113,8949.6275267700003,37.470300000000002,10.408416666666668,11661.889748734116,48.826000000000001,13.562777777777777,null,null,null,null,null,0," "]
[20,null,null,null,null,null,null,null,null,null,null,null,null,null,8075.1171485100003,33.808900000000001,9.3913611111111113,8949.6275267700003,37.470300000000002,10.408416666666668,11661.889748734116,48.826000000000001,13.562777777777777,null,null,null,null,null,0,{"$f":"IF(AC30=100,\"ОК\",\" \")","v":" "}]
[21,null,null,null,null,null,null,null,null,null,null,null,null,null,8075.1171485100003,33.808900000000001,9.3913611111111113,8949.6275267700003,37.470300000000002,10.408416666666668,11661.889748734116,48.826000000000001,13.562777777777777,null,null,null,null,null,0," "]
[22,null,null,null,null,null,null,null,null,null,null,null,null,null,8075.1171485100003,33.808900000000001,9.3913611111111113,8949.6275267700003,37.470300000000002,10.408416666666668,11661.889748734116,48.826000000000001,13.562777777777777,null,null,null,null,null,0," "]
[23,94.696200000000005,2.6320999999999999,0.67249999999999999,8.3799999999999999E-2,9.4100000000000003E-2,2.0999999999999999E-3,1.9599999999999999E-2,1.52E-2,1.9699999999999999E-2,1.2200000000000001E-2,1.5091000000000001,0.24340000000000001,0.70650000000000002,{"$f":"P33*238.8459","v":8139.4144647900002},34.078099999999999,{"$f":"P33/3.6","v":9.4661388888888887},{"$f":"S33*238.8459","v":9020.63641284},37.767600000000002,{"$f":"S33/3.6","v":10.491},{"$f":"V33/0.0041868","v":11777.777777777777},49.311199999999999,{"$f":"V33/3.6","v":13.697555555555555},null,null,null,null,null,99.999999999999986,{"$f":"IF(AC33=100,\"ОК\",\" \")","v":"ОК"}]
[24,null,null,null,null,null,null,null,null,null,null,null,null,null,{"$f":"P34*238.8459","v":8139.4144647900002},34.078099999999999,{"$f":"P34/3.6","v":9.4661388888888887},{"$f":"S34*238.8459","v":9020.63641284},37.767600000000002,{"$f":"S34/3.6","v":10.491},{"$f":"V34/0.0041868","v":11777.777777777777},49.311199999999999,{"$f":"V34/3.6","v":13.697555555555555},null,null,null,null,null,0," "]
[25,null,null,null,null,null,null,null,null,null,null,null,null,null,8139.4144647900002,34.078099999999999,9.4661388888888887,9020.63641284,37.767600000000002,10.491,11777.777777777777,49.311199999999999,13.697555555555555,null,null,null,null,null,0," "]
[26,null,null,null,null,null,null,null,null,null,null,null,null,null,8139.4144647900002,34.078099999999999,9.4661388888888887,9020.63641284,37.767600000000002,10.491,11777.777777777777,49.311199999999999,13.697555555555555,null,null,null,null,null,0," "]
[27,null,null,null,null,null,null,null,null,null,null,null,null,null,8139.4144647900002,34.078099999999999,9.4661388888888887,9020.63641284,37.767600000000002,10.491,11777.777777777777,49.311199999999999,13.697555555555555,null,null,null,null,null,0," "]
[28,null,null,null,null,null,null,null,null,null,null,null,null,null,8139.4144647900002,34.078099999999999,9.4661388888888887,9020.63641284,37.767600000000002,10.491,11777.777777777777,49.311199999999999,13.697555555555555,null,null,null,null,null,0," "]
[29,null,null,null,null,null,null,null,null,null,null,null,null,null,null,null,null,null,null,null,null,null,null,null,null,null,null,null,0," "]
[30,null,null,null,null,null,null,null,null,null,null,null,null,null,null,null,null,null,null,null,null,null,null,null,null,null,null,null,0]
[31,null,null,null,null,null,null,null,null,null,null,null,null,null,null,null,null,null,null,null,null,null,null,null,null,null,null,null,0," "]
["Рівень одоризації відповідає чинним нормативним документам",null,null,null,null,null,null,null,null,null,null,null,null,null,{"$f":"SUMPRODUCT(O11:O41,' розрахунок'!E7:E37)/' розрахунок'!E38","v":8137.5201344955995},{"$f":"SUMPRODUCT(P11:P41,' розрахунок'!E7:E37)/' розрахунок'!E38","v":34.070168818035398},{"$f":"SUMPRODUCT(Q11:Q41,' розрахунок'!E7:E37)/' розрахунок'!E38","v":9.4639357827876101},{"$f":"SUMPRODUCT(R11:R41,' розрахунок'!E7:E37)/' розрахунок'!E38","v":9016.8070099092329},{"$f":"SUMPRODUCT(S11:S41,' розрахунок'!E7:E37)/' розрахунок'!E38","v":37.75156705603586},{"$f":"SUMPRODUCT(T11:T41,' розрахунок'!E7:E37)/' розрахунок'!E38","v":10.486546404454403}]
[null,null,null,null,null,null,null,"Середньозважене значення теплоти згоряння:"]
[]
[]
[null,"Начальник управління Сєвєродонецького  ЛВУМГ                                                                                                                 Головко Ю.О.                                                                                       "]
[null,null,"Підрозділу підприємства, якому підпорядкована лабораторія",null,null,null,null,null,null,null,null,null,null,null,"прізвище",null,null,"підпис",null,null,null,"дата"]
[null,"Інженер ІІ кат.вимірювальної хіміко-аналітичної лабораторії                                                                                                 Єрьоменко М.О.                                                                                                       "]
[null,null,"Лабораторія, де здійснювалось вимірювання газу",null,null,null,null,null,null,null,null,null,null,null,"прізвище",null,null,"підпис",null,null,null,"дата"]
[null,"Начальник служби метрології                                                                                                                                                          Ісаєв В.С."]
[null,null,"Підрозділу, відповідального за облік газу за маршрутом",null,null,null,null,null,null,null,null,null,null,null,"прізвище",null,null,"підпис",null,null,null,"дата"]

{"sheet":" розрахунок","index":1,"n_rows":42,"n_cols":5,"rows_kept":42,"cut":false,"hidden":true,"merged":[[3,4,5,4],[1,0,1,2],[0,0,0,1],[3,0,5,0],[3,1,5,1],[3,2,3,3],[4,2,4,3]]}
[]
["Додаток до Паспорту фізико-хімічних показників природного газу по маршруту № 689"]
[]
["Число місяця","Теплота згоряння вища, МДж/м3","Луганська область",null,"Загальний обсяг газу, м3"]
[null,null,"Обсяг газу переданого за добу,  м3 "]
[null,null," ПрАТ\" АЗОТ\"","ГРС м. Сєвєродонецьк СХК-1"]
[1,37.837699999999998,141785.04999999999,507086.44,{"$f":"D7+C7","v":648871.49}]
[2,37.837699999999998,146914.20000000001,573260.13,720174.33000000007]
[3,37.850499999999997,133471.81,616233.93999999994,749705.75]
[4,37.850499999999997,152716.64000000001,619519.81000000006,772236.45000000007]
[5,37.850499999999997,199357.45,545486.38,744843.83000000007]
[6,37.850499999999997,222420.3,631608.31000000006,854028.6100000001]
[7,37.850499999999997,206890.36,640936.18999999994,847826.54999999993]
[8,37.850499999999997,203762.94,647855.75,851618.69]
[9,37.834400000000002,202280.33,639604,841884.33]
[10,37.834400000000002,184946.83,485015.81,669962.64]
[11,37.834400000000002,168948.8,402094.56,571043.36]
[12,37.834400000000002,164614.06,400711.03,565325.09000000008]
[13,37.834400000000002,167703.20000000001,400978.63,568681.83000000007]
[14,37.834400000000002,185338.2,406739,592077.19999999995]
[15,37.470300000000002,175689.36,386758.03,562447.39]
[16,37.470300000000002,181231.97,380294.25,561526.22]
[17,37.470300000000002,166177.06,380343.41,546520.47]
[18,37.470300000000002,145282.70000000001,240578.14,385860.84]
[19,37.470300000000002,142244.51999999999,207053.22,349297.74]
[20,37.470300000000002,123619.39,201772.5,325391.89]
[21,37.470300000000002,119161.61,193111.36,312272.96999999997]
[22,37.470300000000002,119980.09,184349.34,304329.43]
[23,37.767600000000002,122383.69,188105.27,310488.95999999996]
[24,37.767600000000002,134567.28,186446.52,321013.8]
[25,37.767600000000002,142300.88,187775.59,330076.46999999997]
[26,37.767600000000002,141813.81,180057.64,321871.45]
[27,37.767600000000002,157713.75,186310.53,344024.28]
[28,37.767600000000002,140125.76999999999,182869.98,322995.75]
[29]
[30]
[31]
["Загальний обсяг газу, м3",null,{"$f":"SUM(C7:C37)","v":4493442.05},{"$f":"SUM(D7:D37)","v":10802955.76},{"$f":"SUM(E7:E37)","v":15296397.810000002}]
["Енергія, МДж",null,{"$f":"SUMPRODUCT(B7:B37,C7:C37)","v":169542377.41450095},{"$f":"SUMPRODUCT(B7:B37,D7:D37)","v":407920610.22551394},{"$f":"SUMPRODUCT(B7:B37,E7:E37)","v":577462987.64001513}]
["Теплота згоряння (середньозважене значення за місяць), МДж/м³",null,{"$f":"C39/C38","v":37.731070196955351},{"$f":"D39/D38","v":37.760092634639648},{"$f":"E39/E38","v":37.75156705603586}]
["Теплота згоряння (середньозважене значення за місяць), ккал/м³",null,{"$f":"C40*238.8459","v":9011.9114191549779},{"$f":"C40*238.8459","v":9011.9114191549779},{"$f":"E40*238.8459","v":9016.8070099092347}]
["Теплота згоряння (середньозважене значення за місяць), кВт*год./м³",null,{"$f":"C40/3.6","v":10.480852832487598},{"$f":"C40/3.6","v":10.480852832487598},{"$f":"E40/3.6","v":10.486546404454405}]

{"sheet":"додаток","index":2,"n_rows":17,"n_cols":6,"rows_kept":17,"cut":false,"hidden":false,"merged":[[0,0,0,1],[7,0,7,1],[3,2,3,4],[3,1,4,1],[3,0,4,0],[5,0,6,0]]}
[]
["Додаток до Паспорту фізико-хімічних показників природного газу №689"]
[]
["Область","ГРС, прямий споживач","Cередньозважене значення вищої теплоти згоряння"]
[null,null," МДж/м³","ккал/м³","кВт*год./м³"]
["Луганська область","  ПрАТ\" АЗОТ\"",37.729999999999997,9012,10.48]
[null,"ГРС м. Сєвєродонецьк СХК-1",37.76,9012,10.48]
["Середньозважене значення вищої теплоти згоряння по маршруту № 689",null,37.75,9012,10.48]
[]
[]
[]
["Начальник управління Сєвєродонецького  ЛВУМГ                                        Головко Ю.О.                                                                                     "]
["Підрозділу підприємства, якому підпорядкована лабораторія",null,null,"прізвище","підпис","дата"]
["Інженер ІІ кат.вимірювальної хіміко-аналітичної лабораторії                       Єрьоменко М.О.                                                                                                       "]
["Лабораторія, де здійснювалось вимірювання газу",null,null,"прізвище","підпис","дата"]
["Начальник служби метрології                                                                               Ісаєв В.С."]
["Підрозділу, відповідального за облік газу за маршрутом",null,null,"прізвище","підпис","дата"]

{"sheet":"variablesList","index":3,"n_rows":3,"n_cols":4,"rows_kept":3,"cut":false,"hidden":true,"merged":[]}
[3,"x:\\gaysin","10, 11, 24, 25, 127, 128, 132, 180, 207, 215","x:\\"]
[null,"x:\\Illinci"]
[null,"x:\\Talne"]