{"text_format":"1","workbook":"xlsx","n_sheets":5,"sheets":["паспорт"," розрахунок","додаток","variablesList","Лист1"],"not_rendered":{"charts":0,"images":0,"macros":1,"external_links":0,"defined_names":3,"comments":0,"pivot_tables":0},"unopened":[],"bounds":{"document_bytes":16777216,"sheet_cells":100000,"rows_first":2000,"rows_last":500,"rows_between":2000,"halvings":0,"cell_chars":16384,"cell_head_chars":4096},"cells_cut":0,"cells_raw":0,"read":"whole","date_system":"1900"}

{"sheet":"паспорт","index":0,"n_rows":51,"n_cols":31,"rows_kept":51,"cut":false,"hidden":false,"merged":[[4,7,4,20],[6,0,9,0],[8,1,9,1],[8,2,9,2],[8,5,9,5],[8,6,9,6],[8,4,9,4],[49,1,49,26],[8,11,9,11],[41,18,42,18],[41,19,42,19],[41,14,42,14],[42,7,42,13],[41,15,42,15],[41,16,42,16],[41,17,42,17],[8,9,9,9],[8,10,9,10],[6,25,9,25],[45,1,45,26],[41,0,41,13],[8,3,9,3],[47,1,47,26],[43,20,43,27],[42,20,42,27],[41,20,41,27],[6,27,9,27],[8,8,9,8],[6,26,9,26],[6,24,9,24],[6,23,9,23],[0,6,0,24],[0,25,0,27],[4,23,4,24],[8,12,9,12],[4,21,4,22],[8,14,8,16],[8,17,8,19],[8,20,8,22],[7,14,7,22],[2,6,2,24],[4,26,4,27],[8,7,9,7],[6,1,7,12],[7,13,9,13],[6,13,6,22],[1,5,1,25]]}
["ПАТ \"УКРТРАНСГАЗ\"",null,null,null,null,null,"ПАСПОРТ ФІЗИКО-ХІМІЧНИХ ПОКАЗНИКІВ ПРИРОДНОГО ГАЗУ  № 678"]
["Філія \"УМГ \"ХАРКІВТРАНСГАЗ\"",null,null,null,null,"переданого Краматорським ЛВУМГ та прийнятого  ПАТ \"ЗАПОРІЖГАЗ\", "]
["Сєвєродонецьке ЛВУМГ",null,null,null,null,null,"Маршрут № 678"]
["Вимірювальна хіміко-аналітична лабораторія"]
["Свідоцтво № РЬ089/2014 чинно до 06.06.2017 р.",null,null,null,null,null,null,"по газопроводу  \"Маріуполь-Бердянськ\"",null,null,null,null,null,null,null,null,null,null,null,null,null,"за період з",null,"01.02.2017 р.",null," по","28.02.2017 р."]
[]
["Число місяця","Компонентний склад, мол. % ",null,null,null,null,null,null,null,null,null,null,null,"Фізико-хімічні показники газу обчислені на основі компонентного складу, 101,325 кПа",null,null,null,null,null,null,null,null,null,"Температура точки роси за вологою (Р = 3.92 МПа), °С","Температура точки роси за вуглеводнями, °С","Вміст сірководню, г/м3","Вміст меркаптанової сірки, г/м3","Вміст механічних домішок, г/м3"]
[null,null,null,null,null,null,null,null,null,null,null,null,null,"Густина абсолютна, кг/м3,при 20 °С, ","Температура вимірювання/згоряння при  20/25°С"]
[null,"метан, С1","етан, С2","пропан, С3","ізо-бутан, і-С4","н-бутан, н-С4","нео-пентан, нео-С5","ізо-пентан, і-С5","н-пентан, н-С5","гексани та вищі, С6+","кисень, О2","азот, N2","діоксид вуглецю, CО2",null,"Теплота згоряння нижча",null,null,"Теплота згоряння вища",null,null,"Число Воббе вище"]
[null,null,null,null,null,null,null,null,null,null,null,null,null,null," ккал/м³"," МДж/м³","кВт⋅год/м³"," ккал/м³"," МДж/м³","кВт⋅год/м³"," ккал/м³"," МДж/м³","кВт⋅год/м³",null,null,null,null,null,null,null,"  "]
[1,92.861961359999995,3.5235588600000001,0.80750436000000003,7.1971980000000005E-2,9.2121300000000003E-2,1.6887989999999999E-2,2.089651E-2,0,2.5430080000000001E-2,null,2.3210241800000002,0.25866686999999999,0.71743566000000003,8146.6656997256732,34.10845947,9.4745720749999993,9030.0667965596676,37.807083130000002,10.501967536111112,11700.204583855973,48.986415860000001,13.607337738888889,null,null,null,null,null,{"$f":"SUM(B11:M11)+$K$42+$N$42","v":100.00002348999999}]
[2,92.942985530000001,3.5319623899999999,0.83410108000000005,7.9537010000000005E-2,0.10159016999999999,1.699082E-2,2.0877670000000001E-2,0,2.6544729999999999E-2,null,2.2095537200000002,0.23580187999999999,0.71731126000000001,8164.7524392568776,34.184185030000002,9.4956069527777789,9049.8637157271314,37.889968869999997,10.524991352777777,11726.87594183265,49.098083500000001,13.638356527777777,null,null,null,null,null,99.999944999999997]
[3,93.093780519999996,3.4195697300000001,0.84183507999999996,8.4850010000000003E-2,0.10532047,1.691863E-2,2.0879539999999999E-2,0,2.6619710000000001E-2,null,2.1561458099999999,0.23407653,0.71661651000000004,8164.7670160221542,34.18424606,9.495623905555556,9050.0559627920429,37.890773770000003,10.525214936111112,11732.811919273876,49.122936250000002,13.645260069444445,null,null,null,null,null,99.999996029999991,{"$f":"IF(AC13=100,\"ОК\",\" \")","v":" "}]
[4,93.311271669999996,3.2155747400000001,0.79687673000000003,8.3285040000000005E-2,0.10533313,1.714179E-2,2.119909E-2,0,2.776255E-2,null,2.1571188000000001,0.2644029,0.71526831000000002,8144.1163732351051,34.097785950000002,9.4716072083333334,9027.8409175753386,37.79776382,10.499378838888889,11715.013096532826,49.04841614,13.624560038888889,null,null,null,null,null,99.999966439999994,{"$f":"IF(AC14=100,\"ОК\",\" \")","v":" "}]
[5,93.798439029999997,2.7312364599999999,0.69265133000000001,7.6183070000000006E-2,0.10204934,1.7777520000000002E-2,2.1635450000000001E-2,0,2.9826390000000001E-2,null,2.1970439000000002,0.33314147999999999,0.71210348999999995,8091.1663557682377,33.876094819999999,9.4100263388888887,8970.7853731564537,37.55888367,10.433023241666666,11666.833727361085,48.846698760000002,13.568527433333333,null,null,null,null,null,99.999983969999988," "]
[6,93.608451840000001,2.79252601,0.76698339000000004,9.4233949999999997E-2,0.13402786999999999,1.7981270000000001E-2,2.1858900000000001E-2,0,3.0262569999999999E-2,null,2.17308068,0.36055616000000001,0.71444087999999994,8113.4643115622102,33.969451900000003,9.4359588611111125,8994.6695977222262,37.658882140000003,10.460800594444445,11678.745772527849,48.896572110000001,13.582381141666666,null,null,null,null,null,99.999962640000021," "]
[7,93.174125669999995,3.17898726,0.83899188000000002,9.6441059999999995E-2,0.13334297000000001,1.7468419999999998E-2,2.1451169999999999E-2,0,2.9544979999999998E-2,null,2.18508053,0.32457182000000001,0.71717995000000001,8148.3430810429463,34.115482329999999,9.4765228694444446,9032.096783690653,37.815582280000001,10.504328411111111,11704.916922701532,49.006145480000001,13.612818188888889,null,null,null,null,null,100.00000575999999," "]
[8,93.589286799999996,2.91803408,0.74087358000000003,8.3104579999999997E-2,0.11419047,1.8548720000000001E-2,2.2635490000000001E-2,0,2.987476E-2,null,2.2160017500000002,0.26745954,0.71347260000000001,8116.5439141661218,33.98234558,9.4395404388888888,8998.1163829051256,37.673313139999998,10.464809205555555,11691.138893941017,48.948459630000002,13.596794341666667,-19.2,-17.3,2.9999999999999997E-4,4.0000000000000001E-3,"відс.",100.00000976999999," "]
[9,93.465286250000005,3.0500330899999999,0.75811291000000003,7.6224710000000001E-2,9.7940769999999996E-2,1.8084650000000001E-2,2.21231E-2,0,2.9213019999999999E-2,null,2.1557009200000001,0.32726159999999999,0.71439909999999995,8122.2858221482193,34.006385799999997,9.4462182777777759,9004.2600965678757,37.699035639999998,10.471954344444443,11691.543432018765,48.950153350000001,13.597264819444444,null,null,null,null,null,99.999981020000007," "]
[10,93.282135010000005,3.20453382,0.80645644999999999,8.2525860000000006E-2,0.10701379,1.743776E-2,2.1286090000000001E-2,0,2.9404130000000001E-2,null,2.1018221399999999,0.34734786000000001,0.71608269000000002,8143.2079825659293,34.093982699999998,9.4705507499999992,9026.7821925197859,37.79333115,10.498147541666667,11707.002486884987,49.014877319999997,13.615243699999999,null,null,null,null,null,99.999962910000008," "]
[11,93.562286380000003,2.9551596600000001,0.75982159000000005,8.1342700000000004E-2,0.10962956,1.760343E-2,2.1302729999999999E-2,0,3.0280899999999999E-2,null,2.0949869200000002,0.36758626,0.71432757000000002,8121.3227644294529,34.002353669999998,9.4450982416666651,9003.3006836375425,37.695018769999997,10.470838547222222,11690.886510255405,48.947402949999997,13.596500819444444,null,null,null,null,null,100.00000012999999," "]
[12,93.502868649999996,3.0032129300000001,0.76492488000000003,8.2088809999999998E-2,0.11112291000000001,1.756688E-2,2.1389620000000002E-2,0,3.0601980000000001E-2,null,2.1105146399999999,0.35567766000000001,0.71465825999999999,8125.1959564207045,34.01856995,9.4496027638888886,9007.4390112970086,37.712345120000002,10.475651422222223,11693.547905630712,48.95854568,13.599596022222222,null,null,null,null,null,99.999968960000004," "]
[13,93.690414430000004,2.8596622900000002,0.73498850999999998,8.0943379999999995E-2,0.11058227,1.7907860000000001E-2,2.1656269999999998E-2,0,3.046598E-2,null,2.0918946300000001,0.36147319999999999,0.71341889999999997,8113.3212667527005,33.968853000000003,9.4357924999999998,8994.7570654792653,37.659248349999999,10.460902319444443,11687.222879268355,48.932064060000002,13.592240016666667,null,null,null,null,null,99.999988819999984," "]
[14,93.955131530000003,2.5861411099999998,0.67219072999999996,7.6582949999999997E-2,0.10835999,1.8308189999999998E-2,2.1975890000000001E-2,0,3.1452430000000003E-2,null,2.1203923200000001,0.40949833000000002,0.71170734999999996,8081.5603653775142,33.835876460000001,9.3988545722222216,8960.4951298660326,37.515800480000003,10.42105568888889,11656.701108033909,48.804275509999997,13.556743197222222,null,null,null,null,null,100.00003346999999," "]
[15,93.697181700000002,2.8446621900000002,0.70295410999999997,7.6794829999999994E-2,0.11303253000000001,2.0413540000000001E-2,2.267856E-2,4.8624799999999998E-3,3.0634359999999999E-2,null,2.24874163,0.23805034,0.71246606000000001,8107.4754894656098,33.944377899999999,9.4289938611111115,8988.4056155949893,37.632656099999998,10.453515583333333,11686.800117248436,48.93029404,13.591748344444444,null,null,null,null,null,100.00000626999999," "]
[16,93.610794069999997,3.1428661299999998,0.71999943,8.1936079999999994E-2,0.12449652999999999,2.1032579999999999E-2,2.2784860000000001E-2,6.3349499999999998E-3,3.1335969999999998E-2,null,2.0204663300000001,0.21793264000000001,0.71341306000000004,8151.9821132907573,34.130718229999999,9.4807550638888891,9036.8400984609816,37.835441590000002,10.509844886111111,11741.90858989052,49.161022189999997,13.655839497222221,null,null,null,null,null,99.999979570000008," "]
[17,94.175430300000002,2.7717924100000002,0.67348218000000004,8.1115789999999993E-2,0.12061442,2.00135E-2,2.2350419999999999E-2,1.164902E-2,3.4358930000000003E-2,null,1.8421376899999999,0.24701327000000001,0.71023725999999998,8135.9335604702856,34.063526150000001,9.4620905972222218,9020.1209571147501,37.765441889999998,10.490400525,11746.398610972359,49.179821009999998,13.661061391666665,null,null,null,null,null,99.999957929999979," "]
[18,93.97641754,2.5420804000000001,0.65729510999999996,8.1219440000000004E-2,0.10281654,1.8597220000000001E-2,2.2652209999999999E-2,1.4091799999999999E-3,3.6633939999999997E-2,null,1.7301292399999999,0.83075374000000002,0.71444189999999996,8076.656691858384,33.81534576,9.3931515999999995,8955.152292779032,37.493431090000001,10.414841969444444,11627.525071030752,48.682121279999997,13.522811466666665,null,null,null,null,null,100.00000456000002," "]
[19,94.189300000000003,2.7538999999999998,0.66710000000000003,7.6100000000000001E-2,0.10489999999999999,4.7000000000000002E-3,2.1399999999999999E-2,1.8599999999999998E-2,3.1800000000000002E-2,1.09E-2,1.9175,0.20469999999999999,0.70930000000000004,8123.0296360500006,34.009500000000003,9.4470833333333335,9001.95866346,37.689399999999999,10.469277777777778,11730.104302440001,49.111600000000003,13.642111111111111,null,null,null,null,null,100.00090000000003," "]
[20,null,null,null,null,null,null,null,null,null,null,1.9175,0.20469999999999999,0.70930000000000004,8123.0296360500006,34.009500000000003,9.4470833333333335,9001.95866346,37.689399999999999,10.469277777777778,11730.104302440001,49.111600000000003,13.642111111111111,null,null,null,null,null,2.1221999999999999,{"$f":"IF(AC30=100,\"ОК\",\" \")","v":" "}]
[21,null,null,null,null,null,null,null,null,null,null,1.9175,0.20469999999999999,0.70930000000000004,8123.0296360500006,34.009500000000003,9.4470833333333335,9001.95866346,37.689399999999999,10.469277777777778,11730.104302440001,49.111600000000003,13.642111111111111,null,null,null,null,null,2.1221999999999999," "]
[22,null,null,null,null,null,null,null,null,null,null,1.9175,0.20469999999999999,0.70930000000000004,8123.0296360500006,34.009500000000003,9.4470833333333335,9001.95866346,37.689399999999999,10.469277777777778,11730.104302440001,49.111600000000003,13.642111111111111,null,null,null,null,null,2.1221999999999999," "]
[23,null,null,null,null,null,null,null,null,null,null,1.9175,0.20469999999999999,0.70930000000000004,8123.0296360500006,34.009500000000003,9.4470833333333335,9001.95866346,37.689399999999999,10.469277777777778,11730.104302440001,49.111600000000003,13.642111111111111,null,null,null,null,null,2.1221999999999999,{"$f":"IF(AC33=100,\"ОК\",\" \")","v":" "}]
[24,94.067230219999999,3.1374304300000002,0.79271119999999995,9.1909350000000001E-2,0.10214504000000001,1.506503E-2,1.8512870000000001E-2,5.4099999999999999E-6,2.3972899999999998E-3,null,1.45979226,0.31283933000000003,0.71109915000000001,8182.6769976450623,34.259231569999997,9.5164532138888873,9071.1612583035785,37.979137420000001,10.549760394444444,11805.713747474358,49.428161619999997,13.730044894444443,null,null,null,null,null,100.00003842999999," "]
[25,94.061737059999999,3.0333688300000001,0.76569675999999998,8.6892559999999994E-2,9.6458699999999994E-2,1.5069290000000001E-2,1.8391669999999999E-2,5.4099999999999999E-6,2.3571899999999999E-3,null,1.55393004,0.36609519000000001,0.71106756000000004,8159.0050640921281,34.160121920000002,9.4889227555555564,9045.349093517596,37.871067050000001,10.519740847222222,11772.430358736507,49.288810730000002,13.69133631388889,null,null,null,null,null,100.00000269999998," "]
[26,94.770553590000006,2.6643672,0.71746767,8.3377610000000005E-2,8.3048979999999994E-2,1.392557E-2,1.796087E-2,5.4099999999999999E-6,2.1993300000000002E-3,null,1.2970997099999999,0.34999517000000002,0.70652985999999995,8148.1781675028324,34.114791869999998,9.4763310749999992,9034.6005527142534,37.826065059999998,10.507240294444443,11796.087713135707,49.387859339999999,13.718849816666665,null,null,null,null,null,100.00000111," "]
[27,94.536880490000001,2.8757600800000001,0.75191825999999995,8.1087889999999996E-2,7.9153459999999995E-2,1.268292E-2,1.644108E-2,5.4099999999999999E-6,1.8958499999999999E-3,null,1.2844928499999999,0.35974824,0.70804471000000002,8164.0025825538269,34.181045529999999,9.4947348694444447,9051.5656981721077,37.897094729999999,10.526970758333333,11805.586189433003,49.427627559999998,13.729896544444443,null,null,null,null,null,100.00006653000003," "]
[28,94.459716799999995,2.9302811599999998,0.75355870000000003,7.9155970000000006E-2,7.7990199999999996E-2,1.2175679999999999E-2,1.56858E-2,0,1.74698E-3,null,1.3361221599999999,0.33360571,0.70824664999999998,8164.6421927663559,34.183723450000002,9.4954787361111119,9052.1643057089823,37.899600980000002,10.52766693888889,11804.678711155166,49.423828129999997,13.728841147222221,null,null,null,null,null,100.00003915999999," "]
[29,96.188199999999995,2.0720999999999998,0.65939999999999999,0.1046,0.1031,4.1000000000000003E-3,2.0500000000000001E-2,1.4500000000000001E-2,4.7000000000000002E-3,7.6E-3,0.63660000000000005,0.1845,0.69820000000000004,{"$f":"P39*238.8459","v":8179.0151150099991},34.243899999999996,{"$f":"P39/3.6","v":9.5121944444444431},{"$f":"S39*238.8459","v":9065.9932492500011},37.957500000000003,{"$f":"S39/3.6","v":10.543750000000001},11908,49.854900000000001,{"$f":"V39/3.6","v":13.848583333333334},-20.6,-2,null,null,null,99.999899999999997," "]
[30,null,null,null,null,null,null,null,null,null,null,null,null,null,8178.0836160000008,34.24,{"$f":"P40/3.6","v":9.5111111111111111},9066.5903639999997,37.96,{"$f":"S40/3.6","v":10.544444444444444},null,null,null,null,null,null,null,null,0]
[31,null,null,null,null,null,null,null,null,null,null,null,null,null,8179.0151150099991,34.243899999999996,{"$f":"P41/3.6","v":9.5121944444444431},9065.9932492500011,37.957500000000003,{"$f":"S41/3.6","v":10.543750000000001},null,null,null,null,null,null,null,null,0," "]
["Рівень одоризації відповідає чинним нормативним документам",null,null,null,null,null,null,null,null,null,null,null,null,null,{"$f":"SUMPRODUCT(O11:O38,' розрахунок'!M7:M34)/' розрахунок'!M38","v":8132.9343603389543},{"$f":"SUMPRODUCT(P11:P38,' розрахунок'!M7:M34)/' розрахунок'!M38","v":34.050969099067466},{"$f":"SUMPRODUCT(Q11:Q38,' розрахунок'!M7:M34)/' розрахунок'!M38","v":9.4586025275187389},{"$f":"SUMPRODUCT(R11:R38,' розрахунок'!M7:M34)/' розрахунок'!M38","v":9015.5982326397298},{"$f":"SUMPRODUCT(S11:S38,' розрахунок'!M7:M34)/' розрахунок'!M38","v":37.746506147435362},{"$f":"SUMPRODUCT(T11:T38,' розрахунок'!M7:M34)/' розрахунок'!M38","v":10.485140596509819}]
[null,null,null,null,null,null,null,"Середньозважене значення теплоти згоряння:"]
[]
[]
[null,"Начальник управління Северодонецького ЛВУМГ                                                                                                      Головко Ю.О."]
[null,null,"Підрозділу підприємства, якому підпорядкована лабораторія",null,null,null,null,null,null,null,null,null,null,null,"прізвище",null,null,"підпис",null,null,null,"дата"]
[null,"Інженер ІІ кат. ВХАЛ                                                                                                                                                               Єрьоменко М.О."]
[null,null,"Лабораторія, де здійснювалось вимірювання газу",null,null,null,null,null,null,null,null,null,null,null,"прізвище",null,null,"підпис",null,null,null,"дата"]
[null,"Начальник служби метрології                                                                                                                                             Левкович А.М."]
[null,null,"Підрозділу, відповідального за облік газу за маршрутом",null,null,null,null,null,null,null,null,null,null,null,"прізвище",null,null,"підпис",null,null,null,"дата"]

{"sheet":" розрахунок","index":1,"n_rows":42,"n_cols":13,"rows_kept":42,"cut":false,"hidden":true,"merged":[[3,12,5,12],[1,0,1,9],[0,0,0,1],[3,0,5,0],[3,1,5,1],[3,2,3,11],[4,2,4,11]]}
[]
["Додаток до Паспорту фізико-хімічних показників природного газу по маршруту № 678"]
[]
["Число місяця","Теплота згоряння вища, МДж/м3","Запорізька область",null,null,null,null,null,null,null,null,null,"Загальний обсяг газу, м3"]
[null,null,"Обсяг газу переданого за добу,  м3 "]
[null,null,"ГРС м. Бердянськ","АГНКС м.Бердянськ","ГРС с. Червоне Поле","ГРС к-п Україна","ГРС с. Осипенко","ГРС с. Андріївка","ГРС с. Дмитрівка","ГРС с. Маринівка","ГРС к-п Росія","ТОВ ВТФ \"АЛЕКС І К\""]
[1,{"$f":"паспорт!S11","v":37.807083130000002},{"$f":"Лист1!C3","v":481129.59},{"$f":"Лист1!W3","v":1198.9100000000001},{"$f":"Лист1!O3","v":7615.57},{"$f":"Лист1!Q3","v":12095.2},{"$f":"Лист1!M3","v":25810.42},{"$f":"Лист1!G3","v":17440.419999999998},{"$f":"Лист1!I3","v":17097.810000000001},{"$f":"Лист1!K3","v":72748.929999999993},{"$f":"Лист1!E3","v":13164.69},{"$f":"Лист1!Y3-Лист1!AA3","v":371.96000000000004},{"$f":"SUM(C7:L7)","v":648673.5}]
[2,{"$f":"паспорт!S12","v":37.889968869999997},{"$f":"Лист1!C4","v":449560.47},{"$f":"Лист1!W4","v":1397.64},{"$f":"Лист1!O4","v":6883.83},{"$f":"Лист1!Q4","v":11113.38},{"$f":"Лист1!M4","v":23860.39},{"$f":"Лист1!G4","v":16171},{"$f":"Лист1!I4","v":16125.53},{"$f":"Лист1!K4","v":67203.679999999993},{"$f":"Лист1!E4","v":12085.97},{"$f":"Лист1!Y4-Лист1!AA4","v":239.60999999999999},604641.49999999988]
[3,{"$f":"паспорт!S13","v":37.890773770000003},{"$f":"Лист1!C5","v":423909.63},{"$f":"Лист1!W5","v":1356.39},{"$f":"Лист1!O5","v":6581.23},{"$f":"Лист1!Q5","v":10601.82},{"$f":"Лист1!M5","v":23037.63},{"$f":"Лист1!G5","v":15893.95},{"$f":"Лист1!I5","v":15467.49},{"$f":"Лист1!K5","v":64608.18},{"$f":"Лист1!E5","v":11778.37},{"$f":"Лист1!Y5-Лист1!AA5","v":454.68},573689.37000000011]
[4,{"$f":"паспорт!S14","v":37.79776382},{"$f":"Лист1!C6","v":397925.31},{"$f":"Лист1!W6","v":1010.79},{"$f":"Лист1!O6","v":6004.5},{"$f":"Лист1!Q6","v":9816.67},{"$f":"Лист1!M6","v":21670.560000000001},{"$f":"Лист1!G6","v":14470.11},{"$f":"Лист1!I6","v":14314.24},{"$f":"Лист1!K6","v":59312.37},{"$f":"Лист1!E6","v":10971},{"$f":"Лист1!Y6-Лист1!AA6","v":209.08},535704.62999999989]
[5,{"$f":"паспорт!S15","v":37.55888367},{"$f":"Лист1!C7","v":384335.41},{"$f":"Лист1!W7","v":826.49},{"$f":"Лист1!O7","v":5715.66},{"$f":"Лист1!Q7","v":9215.5},{"$f":"Лист1!M7","v":19910.78},{"$f":"Лист1!G7","v":13723.88},{"$f":"Лист1!I7","v":13540.69},{"$f":"Лист1!K7","v":56389.89},{"$f":"Лист1!E7","v":10032.299999999999},{"$f":"Лист1!Y7-Лист1!AA7","v":0},513690.6]
[6,{"$f":"паспорт!S16","v":37.658882140000003},{"$f":"Лист1!C8","v":403955.25},{"$f":"Лист1!W8","v":1217.75},{"$f":"Лист1!O8","v":5863.38},{"$f":"Лист1!Q8","v":9513.64},{"$f":"Лист1!M8","v":20146.240000000002},{"$f":"Лист1!G8","v":13959.82},{"$f":"Лист1!I8","v":13616.08},{"$f":"Лист1!K8","v":56669.26},{"$f":"Лист1!E8","v":10315.18},{"$f":"Лист1!Y8-Лист1!AA8","v":157.61000000000001},535414.21000000008]
[7,{"$f":"паспорт!S17","v":37.815582280000001},{"$f":"Лист1!C9","v":500163.19},{"$f":"Лист1!W9","v":1585.95},{"$f":"Лист1!O9","v":7121.02},{"$f":"Лист1!Q9","v":11121.18},{"$f":"Лист1!M9","v":23774.05},{"$f":"Лист1!G9","v":16651.689999999999},{"$f":"Лист1!I9","v":16049.96},{"$f":"Лист1!K9","v":65656.070000000007},{"$f":"Лист1!E9","v":12496.38},{"$f":"Лист1!Y9-Лист1!AA9","v":447.90999999999997},655067.39999999991]
[8,{"$f":"паспорт!S18","v":37.673313139999998},{"$f":"Лист1!C10","v":535653.93999999994},{"$f":"Лист1!W10","v":1432.4},{"$f":"Лист1!O10","v":7753.53},{"$f":"Лист1!Q10","v":12037.82},{"$f":"Лист1!M10","v":26059.06},{"$f":"Лист1!G10","v":17602.669999999998},{"$f":"Лист1!I10","v":17510.29},{"$f":"Лист1!K10","v":72749.36},{"$f":"Лист1!E10","v":13617.25},{"$f":"Лист1!Y10-Лист1!AA10","v":311.45999999999998},704727.78]
[9,{"$f":"паспорт!S19","v":37.699035639999998},{"$f":"Лист1!C11","v":533481.56000000006},{"$f":"Лист1!W11","v":1249.4100000000001},{"$f":"Лист1!O11","v":7717.68},{"$f":"Лист1!Q11","v":12029.15},{"$f":"Лист1!M11","v":25942.71},{"$f":"Лист1!G11","v":18126.099999999999},{"$f":"Лист1!I11","v":17367.05},{"$f":"Лист1!K11","v":72772.039999999994},{"$f":"Лист1!E11","v":13434.92},{"$f":"Лист1!Y11-Лист1!AA11","v":301.40999999999997},702422.03000000026]
[10,{"$f":"паспорт!S20","v":37.79333115},{"$f":"Лист1!C12","v":533283.25},{"$f":"Лист1!W12","v":1076.95},{"$f":"Лист1!O12","v":7680.79},{"$f":"Лист1!Q12","v":12057.83},{"$f":"Лист1!M12","v":26132.03},{"$f":"Лист1!G12","v":18107.54},{"$f":"Лист1!I12","v":17359.23},{"$f":"Лист1!K12","v":72501.19},{"$f":"Лист1!E12","v":13320.5},{"$f":"Лист1!Y12-Лист1!AA12","v":230.89000000000001},701750.20000000007]
[11,{"$f":"паспорт!S21","v":37.695018769999997},{"$f":"Лист1!C13","v":497728.53},{"$f":"Лист1!W13","v":972.54},{"$f":"Лист1!O13","v":7406.93},{"$f":"Лист1!Q13","v":12031.47},{"$f":"Лист1!M13","v":25868.1},{"$f":"Лист1!G13","v":17142.13},{"$f":"Лист1!I13","v":17246.84},{"$f":"Лист1!K13","v":71982.12},{"$f":"Лист1!E13","v":13155.19},{"$f":"Лист1!Y13-Лист1!AA13","v":256.56},663790.40999999992]
[12,{"$f":"паспорт!S22","v":37.712345120000002},{"$f":"Лист1!C14","v":464983.84},{"$f":"Лист1!W14","v":562.94000000000005},{"$f":"Лист1!O14","v":6958.9},{"$f":"Лист1!Q14","v":11334.66},{"$f":"Лист1!M14","v":24592.67},{"$f":"Лист1!G14","v":16713.25},{"$f":"Лист1!I14","v":16257.29},{"$f":"Лист1!K14","v":68539.63},{"$f":"Лист1!E14","v":12215.05},{"$f":"Лист1!Y14-Лист1!AA14","v":174.37},622332.60000000009]
[13,{"$f":"паспорт!S23","v":37.659248349999999},{"$f":"Лист1!C15","v":447309.53},{"$f":"Лист1!W15","v":1131.8499999999999},{"$f":"Лист1!O15","v":6663.2},{"$f":"Лист1!Q15","v":10796.51},{"$f":"Лист1!M15","v":22973.69},{"$f":"Лист1!G15","v":15839.99},{"$f":"Лист1!I15","v":15619.9},{"$f":"Лист1!K15","v":64958.71},{"$f":"Лист1!E15","v":11534.96},{"$f":"Лист1!Y15-Лист1!AA15","v":268.52},597096.86]
[14,{"$f":"паспорт!S24","v":37.515800480000003},{"$f":"Лист1!C16","v":"475279,38*"},{"$f":"Лист1!W16","v":1242.98},{"$f":"Лист1!O16","v":7039.07},{"$f":"Лист1!Q16","v":11189.63},{"$f":"Лист1!M16","v":24618.81},{"$f":"Лист1!G16","v":16331.52},{"$f":"Лист1!I16","v":16328.05},{"$f":"Лист1!K16","v":68025.509999999995},{"$f":"Лист1!E16","v":12421.3},{"$f":"Лист1!Y16-Лист1!AA16","v":129.48999999999998},157326.35999999999]
[15,{"$f":"паспорт!S25","v":37.632656099999998},{"$f":"Лист1!C17","v":428212.38},{"$f":"Лист1!W17","v":1308.28},{"$f":"Лист1!O17","v":6481.11},{"$f":"Лист1!Q17","v":10529.28},{"$f":"Лист1!M17","v":22626.53},{"$f":"Лист1!G17","v":15389.43},{"$f":"Лист1!I17","v":15356.44},{"$f":"Лист1!K17","v":64135.38},{"$f":"Лист1!E17","v":11274.92},{"$f":"Лист1!Y17-Лист1!AA17","v":382.88},575696.63000000012]
[16,{"$f":"паспорт!S26","v":37.835441590000002},{"$f":"Лист1!C18","v":441647},{"$f":"Лист1!W18","v":1215.54},{"$f":"Лист1!O18","v":6555.41},{"$f":"Лист1!Q18","v":10659.84},{"$f":"Лист1!M18","v":22312.18},{"$f":"Лист1!G18","v":15458.53},{"$f":"Лист1!I18","v":15212.71},{"$f":"Лист1!K18","v":62777.36},{"$f":"Лист1!E18","v":11240.23},{"$f":"Лист1!Y18-Лист1!AA18","v":419.84999999999997},587498.65]
[17,{"$f":"паспорт!S27","v":37.765441889999998},{"$f":"Лист1!C19","v":426372.81},{"$f":"Лист1!W19","v":1028.44},{"$f":"Лист1!O19","v":6583.62},{"$f":"Лист1!Q19","v":10588.34},{"$f":"Лист1!M19","v":22073.97},{"$f":"Лист1!G19","v":15531.3},{"$f":"Лист1!I19","v":15075.22},{"$f":"Лист1!K19","v":63123.59},{"$f":"Лист1!E19","v":11154.39},{"$f":"Лист1!Y19-Лист1!AA19","v":259.66999999999996},571791.35000000009]
[18,{"$f":"паспорт!S28","v":37.493431090000001},{"$f":"Лист1!C20","v":399893.72},{"$f":"Лист1!W20","v":866.36},{"$f":"Лист1!O20","v":6115.67},{"$f":"Лист1!Q20","v":10106.74},{"$f":"Лист1!M20","v":20867.13},{"$f":"Лист1!G20","v":14601.9},{"$f":"Лист1!I20","v":14345.11},{"$f":"Лист1!K20","v":59134.16},{"$f":"Лист1!E20","v":10489.05},{"$f":"Лист1!Y20-Лист1!AA20","v":158.76999999999998},536578.61]
[19,{"$f":"паспорт!S29","v":37.689399999999999},{"$f":"Лист1!C21","v":375352.28},{"$f":"Лист1!W21","v":615.5},{"$f":"Лист1!O21","v":5636.28},{"$f":"Лист1!Q21","v":9409.56},{"$f":"Лист1!M21","v":19471.95},{"$f":"Лист1!G21","v":13718.98},{"$f":"Лист1!I21","v":13242.75},{"$f":"Лист1!K21","v":54667.55},{"$f":"Лист1!E21","v":9821.26},{"$f":"Лист1!Y21-Лист1!AA21","v":96.899999999999991},502033.01000000007]
[20,{"$f":"паспорт!S30","v":37.689399999999999},{"$f":"Лист1!C22","v":360547.25},{"$f":"Лист1!W22","v":1209.29},{"$f":"Лист1!O22","v":5296.3},{"$f":"Лист1!Q22","v":8670.76},{"$f":"Лист1!M22","v":18419.04},{"$f":"Лист1!G22","v":12655.21},{"$f":"Лист1!I22","v":12709.32},{"$f":"Лист1!K22","v":53503.75},{"$f":"Лист1!E22","v":9389.35},{"$f":"Лист1!Y22-Лист1!AA22","v":288.83999999999997},482689.11]
[21,{"$f":"паспорт!S31","v":37.689399999999999},{"$f":"Лист1!C23","v":362526.28},{"$f":"Лист1!W23","v":1401.12},{"$f":"Лист1!O23","v":5462.98},{"$f":"Лист1!Q23","v":8814.83},{"$f":"Лист1!M23","v":18595.25},{"$f":"Лист1!G23","v":12618.43},{"$f":"Лист1!I23","v":12592.14},{"$f":"Лист1!K23","v":52389.27},{"$f":"Лист1!E23","v":9431.14},{"$f":"Лист1!Y23-Лист1!AA23","v":266.65999999999997},484098.10000000003]
[22,{"$f":"паспорт!S32","v":37.689399999999999},{"$f":"Лист1!C24","v":370704.03},{"$f":"Лист1!W24","v":1130.58},{"$f":"Лист1!O24","v":5386.15},{"$f":"Лист1!Q24","v":8798.77},{"$f":"Лист1!M24","v":18546.759999999998},{"$f":"Лист1!G24","v":12530.44},{"$f":"Лист1!I24","v":12809.97},{"$f":"Лист1!K24","v":52982.82},{"$f":"Лист1!E24","v":9458.84},{"$f":"Лист1!Y24-Лист1!AA24","v":198.9},492547.26000000013]
[23,{"$f":"паспорт!S33","v":37.689399999999999},{"$f":"Лист1!C25","v":368008.31},{"$f":"Лист1!W25","v":1092.42},{"$f":"Лист1!O25","v":5445.94},{"$f":"Лист1!Q25","v":"8838,84*"},{"$f":"Лист1!M25","v":18766.34},{"$f":"Лист1!G25","v":12883.9},{"$f":"Лист1!I25","v":12882.29},{"$f":"Лист1!K25","v":53172.94},{"$f":"Лист1!E25","v":9615.4500000000007},{"$f":"Лист1!Y25-Лист1!AA25","v":339.01},482206.60000000003]
[24,{"$f":"паспорт!S34","v":37.979137420000001},{"$f":"Лист1!C26","v":338021.41},{"$f":"Лист1!W26","v":1132.42},{"$f":"Лист1!O26","v":4996.6499999999996},{"$f":"Лист1!Q26","v":8299.31},{"$f":"Лист1!M26","v":17514.45},{"$f":"Лист1!G26","v":12038.79},{"$f":"Лист1!I26","v":12735.42},{"$f":"Лист1!K26","v":48023.5},{"$f":"Лист1!E26","v":8726.49},{"$f":"Лист1!Y26-Лист1!AA26","v":271.2},451759.63999999996]
[25,{"$f":"паспорт!S35","v":37.871067050000001},{"$f":"Лист1!C27","v":355473.22},{"$f":"Лист1!W27","v":1158.81},{"$f":"Лист1!O27","v":5133.08},{"$f":"Лист1!Q27","v":8440.57},{"$f":"Лист1!M27","v":18061.07},{"$f":"Лист1!G27","v":12551.83},{"$f":"Лист1!I27","v":12366.54},{"$f":"Лист1!K27","v":50066.26},{"$f":"Лист1!E27","v":8890.5499999999993},{"$f":"Лист1!Y27-Лист1!AA27","v":170.99},472312.92]
[26,{"$f":"паспорт!S36","v":37.826065059999998},{"$f":"Лист1!C28","v":356419.75},{"$f":"Лист1!W28","v":716.11},{"$f":"Лист1!O28","v":5264.02},{"$f":"Лист1!Q28","v":8504.16},{"$f":"Лист1!M28","v":18162.91},{"$f":"Лист1!G28","v":12477.75},{"$f":"Лист1!I28","v":12396.96},{"$f":"Лист1!K28","v":50340.63},{"$f":"Лист1!E28","v":9008.39},{"$f":"Лист1!Y28-Лист1!AA28","v":0.08},473290.76]
[27,{"$f":"паспорт!S37","v":37.897094729999999},{"$f":"Лист1!C29","v":347670.09},{"$f":"Лист1!W29","v":1190.92},{"$f":"Лист1!O29","v":5260.77},{"$f":"Лист1!Q29","v":8573.3700000000008},{"$f":"Лист1!M29","v":17922.14},{"$f":"Лист1!G29","v":12126.85},{"$f":"Лист1!I29","v":12096.72},{"$f":"Лист1!K29","v":49628.53},{"$f":"Лист1!E29","v":8839.49},{"$f":"Лист1!Y29-Лист1!AA29","v":453.16999999999996},463762.05]
[28,{"$f":"паспорт!S38","v":37.899600980000002},{"$f":"Лист1!C30","v":310346.34000000003},{"$f":"Лист1!W30","v":1135.23},{"$f":"Лист1!O30","v":4840.16},{"$f":"Лист1!Q30","v":7720.43},{"$f":"Лист1!M30","v":17366.04},{"$f":"Лист1!G30","v":11501.23},{"$f":"Лист1!I30","v":11209.49},{"$f":"Лист1!K30","v":45628.75},{"$f":"Лист1!E30","v":8331.0400000000009},{"$f":"Лист1!Y30-Лист1!AA30","v":423.66},418502.36999999988]
[29,37.957500000000003,104484.13,2550.58,172597.3,6731.51,28282.91,71078.45,3780.78,16478.54,null,null,405984.2]
[30,37.96,93755.22,2251.65,156928.03,6054.5,26299.84,60324.38,3142.81,15516.28,null,null,364272.71]
[31,37.957500000000003,92050.880000000005,3124.98,157999.45000000001,6122.1,23698.82,60708.33,3145.17,14948.5,null,null,361798.23]
["Загальний обсяг газу, м3",null,{"$f":"SUM(C7:C34)","v":11294614.369999999},{"$f":"SUM(D7:D34)","v":31464.01},175463.42999999993,274070.42,605102.9,414258.63999999996,408931.52999999985,1693691.43,{"$f":"SUM(K7:K34)","v":306213.64999999991},7284.1299999999983,{"$f":"SUM(M7:M34)","v":15211094.51}]
["Енергія, МДж",null,{"$f":"SUMPRODUCT(B7:B34,C7:C34)","v":426357986.67625087},{"$f":"SUMPRODUCT(B7:B34,D7:D34)","v":1187722.4016396012},{"$f":"SUMPRODUCT(B7:B34,E7:E34)","v":6621965.622268985},{"$f":"SUMPRODUCT(B7:B34,F7:F34)","v":10343833.605301533},{"$f":"SUMPRODUCT(B7:B34,G7:G34)","v":22836626.448140748},{"$f":"SUMPRODUCT(B7:B34,H7:H34)","v":15634162.215459485},{"$f":"SUMPRODUCT(B7:B34,I7:I34)","v":15433177.833405467},{"$f":"SUMPRODUCT(B7:B34,J7:J34)","v":63918691.091589734},{"$f":"SUMPRODUCT(B7:B34,K7:K34)","v":11556396.485907815},{"$f":"SUMPRODUCT(B7:B34,L7:L34)","v":275110.05097092228},{"$f":"SUMPRODUCT(B7:B34,M7:M34)","v":574165672.43093526}]
["Теплота згоряння (середньозважене значення за місяць), МДж/м³",null,{"$f":"C39/C38","v":37.748786519769503},{"$f":"D39/D38","v":37.748602344062348},{"$f":"E39/E38","v":37.739861931736932},{"$f":"F39/F38","v":37.741517692064448},37.740071065831522,37.740099314427063,37.740249164463968,37.739277627206121,{"$f":"K39/K38","v":37.739651664476156},37.768415853495526,37.746506147435362]
["Теплота згоряння (середньозважене значення за місяць), ккал/м³",null,{"$f":"C40*238.8459","v":9016.1428902222142},{"$f":"D40*238.8459","v":9016.0989006096806},9014.0112889614466,9014.4067605270557,9014.0612397824898,9014.0679868437146,9014.1037779106446,9013.8717302199111,{"$f":"K40*238.8459","v":9013.9610674883061},9020.8312761024063,9015.5982326397316]
["Теплота згоряння (середньозважене значення за місяць), кВт*год./м³",null,{"$f":"C40/3.6","v":10.485774033269307},{"$f":"D40/3.6","v":10.485722873350651},10.483294981038037,10.483754914462347,10.483353073842089,10.483360920674183,10.483402545684436,10.483132674223922,{"$f":"K40/3.6","v":10.483236573465598},10.491226625970979,10.485140596509822]

{"sheet":"додаток","index":2,"n_rows":25,"n_cols":6,"rows_kept":25,"cut":false,"hidden":false,"merged":[[0,0,0,1],[15,0,15,1],[3,2,3,4],[3,1,4,1],[3,0,4,0],[5,0,14,0]]}
[]
["Додаток до Паспорту фізико-хімічних показників природного газу № 678"]
[]
["Область","ГРС, прямий споживач","Cередньозважене значення вищої теплоти згоряння"]
[null,null," МДж/м³","ккал/м³","кВт*год./м³"]
["Запорізька область",{"$f":"' розрахунок'!C6","v":"ГРС м. Бердянськ"},37.748786519769503,9016.1428902222142,10.485774033269307]
[null,{"$f":"' розрахунок'!D6","v":"АГНКС м.Бердянськ"},37.742950346801813,9014.7489442371916,10.484152874111615]
[null,{"$f":"' розрахунок'!E6","v":"ГРС с. Червоне Поле"},37.739861931736932,9014.0112889614466,10.483294981038037]
[null,{"$f":"' розрахунок'!F6","v":"ГРС к-п Україна"},37.741517692064448,9014.4067605270557,10.483754914462347]
[null,{"$f":"' розрахунок'!G6","v":"ГРС с. Осипенко"},37.740071065831522,9014.0612397824898,10.483353073842089]
[null,{"$f":"' розрахунок'!H6","v":"ГРС с. Андріївка"},37.740099314427063,9014.0679868437146,10.483360920674183]
[null,{"$f":"' розрахунок'!I6","v":"ГРС с. Дмитрівка"},37.740249164463968,9014.1037779106446,10.483402545684436]
[null,{"$f":"' розрахунок'!J6","v":"ГРС с. Маринівка"},37.739277627206121,9013.8717302199111,10.483132674223922]
[null,{"$f":"' розрахунок'!K6","v":"ГРС к-п Росія"},37.739651664476156,9013.9610674883061,10.483236573465598]
[null,{"$f":"' розрахунок'!L6","v":"ТОВ ВТФ \"АЛЕКС І К\""},37.768415853495526,9020.8312761024063,10.491226625970979]
["Середньозважене значення вищої теплоти згоряння по маршруту № 678",null,37.744088118027307,9015.0206962295379,10.484468921674253]
[]
[]
[]
["Начальник управління Северодонецького ЛВУМГ                                  Головко Ю.О.                                                                                       "]
["Підрозділу підприємства, якому підпорядкована лабораторія",null,null,"прізвище","підпис","дата"]
["Інженер ІІ кат. ВХАЛ                                                                                        Єрьоменко М.О.                                                                                                       "]
["Лабораторія, де здійснювалось вимірювання газу",null,null,"прізвище","підпис","дата"]
["Начальник служби метрології                                                                        Левкович А.М."]
["Підрозділу, відповідального за облік газу за маршрутом",null,null,"прізвище","підпис","дата"]

{"sheet":"variablesList","index":3,"n_rows":3,"n_cols":4,"rows_kept":3,"cut":false,"hidden":true,"merged":[]}
[3,"x:\\gaysin","10, 11, 24, 25, 127, 128, 132, 180, 207, 215","x:\\"]
[null,"x:\\Illinci"]
[null,"x:\\Talne"]

{"sheet":"Лист1","index":4,"n_rows":31,"n_cols":191,"rows_kept":31,"cut":false,"hidden":false,"merged":[]}
[" подобъектов объекта ПАО ЗАПОРОЖГАЗ (осн.) за 2/17.",null,null,null,null,null,null,null,null,null,null,null,null,null,null,null,null,null,null,null," подобъектов объекта АГНКС 3 (осн.) за 2/17.",null,null,null,null,null,null,null,null,null,null,null,null,null,null,null,null,null,null,null,null,null,null,null,null,null,null,null,null,null,null,null,null,null,null,null,null,null,null,null,null,null,null,null,null,null,null,null,null,null,null,null,null,null,null,null,null,null,null,null,null,null,null,null,null,null,null,null,null,null,null,null,null,null,null,null,null,null,null,null,null,null,null,null,null,null,"Славянск УГГ (осн.) за 2/17.",null,null,null,null,null,null,null,null,null,null,null,null,null,null,null,null,null,null,"ХАРЬКОВГАЗ (осн.) за 2/17.",null,null,null,null,null,null,null,null,null,null,null,null,null,null,null,null," АГНКС 1 (осн.) за 2/17.",null,null,null,null,null,null,null,null,null,null,null,null,null,null,"Кнауф (осн.) за 2/17.",null,null,null,null,null,null,"ЗЦМ (осн.) за 2/17.",null,null,null,null,"Mashzavod (осн.) за 2/17.",null,null,"ГРС 1 Курахово (осн.) за 2/17.",null,null,null,null,null,null,"НКМЗ (осн.) за 2/17.",null,null,null,null,"Шидловка (Флоутек) (осн.) за 2/17."]
["День",null,"Бердянск",null,"Россия",null,"Андреевка",null,"Дмитровка",null,"Мариновка",null,"Осипенко",null,"Червоне Поле",null,"Украина",null,"ПАО ЗАПОРОЖГАЗ",null,"День",null,"АГНКС Бердянск",null,"АГНКС Алекс & К",null,"АГНКС обратный",null,"АГНКС 3",null,null,null,null,null,null,null,null,null,null,null,null,null,null,null,null,null,null,null,null,null,null,null,null,null,null,null,null,null,null,null,null,null,null,null,null,null,null,null,null,null,null,null,null,null,null,null,null,null,null,null,null,null,null,null,null,null,null,null,null,null,null,null,null,null,null,null,null,null,null,"Ольгинка",null,"Новотроицкое (УЗ)",null,"Чермалык",null,"Покровск УГГ","День",null,"liman",null,"malinovka",null,"Правдинская ПТФ",null,"ray-aleks",null,"SLTES1",null,"SLTES2",null,"SLAVGRSBYT",null,"Slaviansk",null,"Славянск УГГ","День",null,"Ду80",null,"Ду150",null,"bragkovka",null,"Govten",null,"IZIUM",null,"Петровское",null,"Stepok",null,"ПАО ХАРЬКОВГАЗ","День",null,"DrugAGNKS1",null,"DrugAGNKS2",null,"Slav.AGNKS1",null,"KramatAGNKS1",null,"Константиновка",null,"AGNKS",null,"АГНКС 1","День",null,"Кнауф 1",null,"Кнауф 2",null,"Покровское Кнауф","День",null,"ART3",null,"ГРС Артемовск ЗЦМ","День",null,"Mashzavod","День",null,"Курахово-1 (перепад)",null,"Курахово-1 (счетчик)",null,"ГРС 1 Курахово","День",null,"NKMZ",null,"ГРС НКМЗ","День",null,"SMIZ",null,"Shidlovka",null,"ГРС Шидловка (Флоутек)"]
[1," B",481129.59," B",13164.69," B",17440.419999999998,null,17097.810000000001,null,72748.929999999993," B",25810.42," B",7615.57," B",12095.2," B",647102.63,null,1,null,1198.9100000000001,"A",407.92,"A",35.96,"A",1642.79,null,null,null,null,null,null,null,null,null,null,null,null,null,null,null,null,null,null,null,null,null,null,null,null,null,null,null,null,null,null,null,null,null,null,null,null,null,null,null,null,null,null,null,null,null,null,null,null,null,null,null,null,null,null,null,null,null,null,null,null,null,null,null,null,null,null,null,null,null,null,7468.16,null,22300.639999999999,null,8432.68,null,1098619.8600000001,1,"A",163466.94,null,4452.74,null,13352.87,null,2333.62,"A",102614.02,null,0,null,14975.53,null,765505.25,"A",1066700.95,1,null,0,null,67802.320000000007,null,9187.3700000000008,null,6577.76,null,335646.22,null,20390.419999999998,null,10589.57,null,450193.66,1,"A",1584.2,"A",1.71,"A",730.22,"A",2684.53,"A",2740.47,"A",2661.1,"A",10402.23,1,null,0.32,null,123422.39,null,123422.71,1,null,7730.79,null,7730.79,1,null,34181.42,1,"A",889.19,null,7.31,"A",896.49,1,"A",84971.74,"A",84971.74,1,"A",4126.13,null,0,"A",4126.13]
[2," B",449560.47," B",12085.97," B",16171,null,16125.53,null,67203.679999999993," B",23860.39," B",6883.83," B",11113.38," B",603004.25,null,2,null,1397.64,"AB",263.7,"AB",24.09,"AB",1685.44,null,null,null,null,null,null,null,null,null,null,null,null,null,null,null,null,null,null,null,null,null,null,null,null,null,null,null,null,null,null,null,null,null,null,null,null,null,null,null,null,null,null,null,null,null,null,null,null,null,null,null,null,null,null,null,null,null,null,null,null,null,null,null,null,null,null,null,null,null,null,6877.63," B",19717.68," B",7699.05,"AB",1019948.59,2,"AB",151350.38," B",4106.76," B",13283.9," B",2256.81,"AB",64324.08," B",0," B",14133.67," B",701031.69,"AB",950487.28,2," B",0," B",61485.21," B",8317.99," B",5904.82," B",304756.63," B",18309.849999999999," B",9706.89," B",408481.39,2,"AB",1708.27,"AB",0.81,"AB",741.36,"AB",2989.43,"AB",2637.44,"AB",2809.09,"AB",10886.4,2,"AB",132075.97,"AB",736.74,"AB",132812.70000000001,2," B",8734.31," B",8734.31,2,"AB",27287.37,2,"AB",728.85," B",0,"AB",728.85,2,"AB",104713.02,"AB",104713.02,2," B",4366.45," B",0," B",4366.45]
[3," B",423909.63," B",11778.37," B",15893.95,null,15467.49,null,64608.18," B",23037.63," B",6581.23," B",10601.82," B",571878.29,null,3,null,1356.39,"AB",491.92,"AB",37.24,"AB",1885.55,null,null,null,null,null,null,null,null,null,null,null,null,null,null,null,null,null,null,null,null,null,null,null,null,null,null,null,null,null,null,null,null,null,null,null,null,null,null,null,null,null,null,null,null,null,null,null,null,null,null,null,null,null,null,null,null,null,null,null,null,null,null,null,null,null,null,null,null,null,null,6533.1,null,18600.57,null,7103.26,"A",938777.59,3,"A",139973.63,null,3941.75,null,11560.05,null,2195.5300000000002,"A",37725.43,null,0,null,13722.9,null,669781.5,"A",878900.78,3,null,0,null,59417.72,null,8109.28,null,5822.25,null,286266.56,null,17706.77,null,9425.08,null,386747.67,3,"A",1764.71,"A",0.64,"A",337.51,"A",2177.0300000000002,"A",3317.51,"A",2911.59,"A",10508.99,3,null,71265.45,null,0.11,null,71265.55,3,"A",6355.84,"A",6355.84,3,null,25828.59,3,"A",689.76,null,0,"A",689.76,3,"A",101416.46,"A",101416.46,3,"A",3670.61,"A",9.15,"A",3679.76]
[4," B",397925.31," B",10971," B",14470.11,null,14314.24,null,59312.37," B",21670.560000000001," B",6004.5," B",9816.67," B",534484.77,null,4,null,1010.79,"AB",243.84,"AB",34.76,"AB",1289.3900000000001,null,null,null,null,null,null,null,null,null,null,null,null,null,null,null,null,null,null,null,null,null,null,null,null,null,null,null,null,null,null,null,null,null,null,null,null,null,null,null,null,null,null,null,null,null,null,null,null,null,null,null,null,null,null,null,null,null,null,null,null,null,null,null,null,null,null,null,null,null,null,5974.22,null,15456.64,null,6734.38,"A",827924.07,4,"A",114539.31,null,3578.79,null,10742.21,null,1996.35,"A",27997.599999999999,null,0,null,12580.99,null,575078.81000000006,"A",746514.06,4,null,0,null,53401.4,null,7500.14,null,5280.29,null,259105.48,null,16218.04,null,8662.32,null,350167.67,4,"A",1273.8499999999999,"A",0.56999999999999995,"A",219.09,"A",942.25,"A",2681.2,"A",2138.91,"A",7255.87,4,null,12567.21,null,0,null,12567.21,4,null,563.54,null,563.54,4,"A",12937.09,4,"A",3541.84,null,0,"A",3541.84,4,"A",114267.99,"A",114267.99,4,null,4336.99,null,0,null,4336.99]
[5," B",384335.41," B",10032.299999999999," B",13723.88,null,13540.69,null,56389.89," B",19910.78," B",5715.66," B",9215.5," B",512864.11,null,5,null,826.49," B",0," B",0," B",826.49,null,null,null,null,null,null,null,null,null,null,null,null,null,null,null,null,null,null,null,null,null,null,null,null,null,null,null,null,null,null,null,null,null,null,null,null,null,null,null,null,null,null,null,null,null,null,null,null,null,null,null,null,null,null,null,null,null,null,null,null,null,null,null,null,null,null,null,null,null,null,5623.21,null,16443.2,null,6284.01,"A",849581.9,5,"A",121261.67,null,3477.3,null,10700.88,null,2323.19,"A",19616.05,null,0,null,12480.69,null,599734.56000000006,"A",769594.34,5,null,0,null,52633.82,null,7082.02,null,5012.4799999999996,null,253749.45,null,16165.64,null,8723.25,null,343366.67,5,"A",804.8,"A",0.37,"A",161.51,"A",1008.38,"A",2213.8000000000002,"A",1814.39,"A",6003.25,5,null,36767.919999999998,null,0,null,36767.919999999998,5,"A",1659.93,"A",1659.93,5,null,12967.46,5,"A",90548.800000000003,null,0,"A",90548.800000000003,5,"A",112956.15,"A",112956.15,5,null,4514.95,null,0,null,4514.95]
[6," B",403955.25," B",10315.18," B",13959.82,null,13616.08,null,56669.26," B",20146.240000000002," B",5863.38," B",9513.64," B",534038.87,null,6,null,1217.75,"AB",170.03,"AB",12.42,"AB",1400.19,null,null,null,null,null,null,null,null,null,null,null,null,null,null,null,null,null,null,null,null,null,null,null,null,null,null,null,null,null,null,null,null,null,null,null,null,null,null,null,null,null,null,null,null,null,null,null,null,null,null,null,null,null,null,null,null,null,null,null,null,null,null,null,null,null,null,null,null,null,null,5917.56,null,18565.849999999999,null,6748.94,"A",978288.06,6,"A",154951.13,null,3836.91,null,12953.53,null,2132.5100000000002,"A",54372.29,null,0,null,13549.58,null,710755.75,"A",952551.7,6,null,0,null,59487.4,null,8037.03,null,5716.18,null,290614.53000000003,null,18105.7,null,9532.6200000000008,null,391493.46,6,"A",2306.71,"A",0.4,"A",699.76,"A",2919.05,"A",3064.24,"A",3089.53,"A",12079.69,6,null,49968.32,null,0,null,49968.32,6,"A",9074.92,"A",9074.92,6,null,25120.55,6,"A",20404.169999999998,null,0,"A",20404.169999999998,6,"A",100805.34,"A",100805.34,6,"A",3676.49,null,0,"A",3676.49]
[7," B",500163.19," B",12496.38," B",16651.689999999999,null,16049.96,null,65656.070000000007," B",23774.05," B",7121.02," B",11121.18," B",653033.55000000005,null,7,null,1585.95,"AB",483.83,"AB",35.92,"AB",2105.6999999999998,null,null,null,null,null,null,null,null,null,null,null,null,null,null,null,null,null,null,null,null,null,null,null,null,null,null,null,null,null,null,null,null,null,null,null,null,null,null,null,null,null,null,null,null,null,null,null,null,null,null,null,null,null,null,null,null,null,null,null,null,null,null,null,null,null,null,null,null,null,null,7179.43,null,22563.58,null,7797.14,"A",1117871.04,7,"A",176076.61,null,4296.5600000000004,null,14853.72,null,2409.4299999999998,"A",114292.56,"A",131395.14000000001,null,15180.3,null,771824.63,"A",1230328.95,7,null,0,null,67315.63,null,9179.7199999999993,null,6501.91,null,334202.90999999997,null,20127.310000000001,null,10566.81,null,447894.29,7,"A",2254.71,"A",3.82,"A",722.76,"A",3379.05,"A",3421.57,"A",3044.27,"A",12826.18,7,null,60222.89,null,0,null,60222.89,7,null,9040.7199999999993,null,9040.7199999999993,7,null,32733.01,7,"A",103843.78,null,0,"A",103843.78,7,"A",109775.12,"A",109775.12,7,"A",4453.3999999999996,null,0,"A",4453.3999999999996]
[8," B",535653.93999999994," B",13617.25," B",17602.669999999998,null,17510.29,null,72749.36," B",26059.06," B",7753.53," B",12037.82," B",702983.92,null,8,null,1432.4,"AB",349.14,"AB",37.68,"AB",1819.23,null,null,null,null,null,null,null,null,null,null,null,null,null,null,null,null,null,null,null,null,null,null,null,null,null,null,null,null,null,null,null,null,null,null,null,null,null,null,null,null,null,null,null,null,null,null,null,null,null,null,null,null,null,null,null,null,null,null,null,null,null,null,null,null,null,null,null,null,null,null,7604.62," B",23090.69," B",8538.3799999999992,"AB",1170237.1599999999,8," B",188049.66," B",4592.5600000000004," B",15894.7," B",2536.69,"AB",49194.02,"AB",198824.88," B",15994.3," B",824243.13,"AB",1299329.93,8," B",0," B",70600.77," B",9664.64," B",6931.18," B",354245.34," B",21491.1," B",11118.05," B",474051.09,8,"AB",3062.52,"AB",16.190000000000001,"AB",457.56,"AB",3620.98,"AB",3483.87,"AB",3036.21,"AB",13677.33,8," B",85760.49," B",0.01," B",85760.5,8,"ABC",10292.74,"ABC",10292.74,8," B",35295.93,8,"AB",36263.18," B",0,"AB",36263.18,8,"AB",126175.06,"AB",126175.06,8,"AB",3405.11," B",0,"AB",3405.11]
[9," B",533481.56000000006," B",13434.92," B",18126.099999999999,null,17367.05,null,72772.039999999994," B",25942.71," B",7717.68," B",12029.15," B",700871.22,null,9,null,1249.4100000000001,"AB",349.96,"AB",48.55,"AB",1647.92,null,null,null,null,null,null,null,null,null,null,null,null,null,null,null,null,null,null,null,null,null,null,null,null,null,null,null,null,null,null,null,null,null,null,null,null,null,null,null,null,null,null,null,null,null,null,null,null,null,null,null,null,null,null,null,null,null,null,null,null,null,null,null,null,null,null,null,null,null,null,7553.07,null,22442.080000000002,null,8810.43,"A",1153037.31,9,null,182721.53,null,4541.8100000000004,null,14781.7,null,2497.6,"A",24234.03,"A",33609.58,null,15593.8,null,806750.38,"A",1084730.43,9,"A",0,"A",69934.559999999998,null,9343.89,null,6838.53,null,350379.06,null,21091.24,null,11008.69,"A",468595.96,9,"A",2594.69,"A",43.62,"A",775.81,"A",3430.02,"A",3279.1,"A",2687.28,"A",12810.51,9,null,57323.46,null,0,null,57323.46,9,null,10422.08,null,10422.08,9,null,36316.42,9,"A",19258.02,null,0,"A",19258.02,9,"A",122398.23,"A",122398.23,9,null,4694.1099999999997,null,0,null,4694.1099999999997]
[10," B",533283.25," B",13320.5," B",18107.54,null,17359.23,null,72501.19," B",26132.03," B",7680.79," B",12057.83," B",700442.35,null,10,null,1076.95,"AB",279.41000000000003,"AB",48.52,"AB",1404.88,null,null,null,null,null,null,null,null,null,null,null,null,null,null,null,null,null,null,null,null,null,null,null,null,null,null,null,null,null,null,null,null,null,null,null,null,null,null,null,null,null,null,null,null,null,null,null,null,null,null,null,null,null,null,null,null,null,null,null,null,null,null,null,null,null,null,null,null,null,null,7533,null,22594.11,null,8806.75,"A",1135706.7,10,null,170924.52,null,4322.84,null,14012.61,null,2347.16,"A",17899.080000000002,"A",35232.480000000003,null,15000.22,null,753400.56,"A",1013139.48,10,null,0,null,66937.95,null,8880.15,null,6280.07,null,324903.09000000003,null,19842.46,null,10395.370000000001,null,437239.08,10,"A",1957.63,"A",30.83,"A",520.14,"A",3056.78,"A",3676.88,"A",2762.7,"A",12004.94,10,null,61350.63,null,0,null,61350.63,10,"A",7384.39,"A",7384.39,10,null,33244.33,10,"A",4013.37,null,0,"A",4013.37,10,"A",106749.32,"A",106749.32,10,"A",1307,null,0,"A",1307]
[11," B",497728.53," B",13155.19," B",17142.13,null,17246.84,null,71982.12," B",25868.1," B",7406.93," B",12031.47," B",662561.30000000005,null,11,null,972.54,"AB",294.95999999999998,"AB",38.4,"AB",1305.9000000000001,null,null,null,null,null,null,null,null,null,null,null,null,null,null,null,null,null,null,null,null,null,null,null,null,null,null,null,null,null,null,null,null,null,null,null,null,null,null,null,null,null,null,null,null,null,null,null,null,null,null,null,null,null,null,null,null,null,null,null,null,null,null,null,null,null,null,null,null,null,null,7210.81,null,21217.040000000001,null,8373.0499999999993,"A",1038369.01,11,null,151513.19,null,4009.99,null,12232.95,null,2271.0500000000002,"A",12260.17,null,0,null,14199.63,null,688754.69,"A",885241.67,11,null,0,null,60147.55,"A",7986.8,null,5477.79,null,287253.65999999997,null,17753.46,null,9286.25,"A",387905.51,11,"A",372.08,"A",10.29,"A",176.95,"A",1631.93,"A",2996.81,"A",2116.83,"A",7304.88,11,null,11933.33,null,0,null,11933.33,11,null,6000.08,null,6000.08,11,null,21350.54,11,"A",45568.17,null,0,"A",45568.17,11,"A",117351.54,"A",117351.54,11,"A",1432.8,null,0,"A",1432.8]
[12," B",464983.84," B",12215.05," B",16713.25,null,16257.29,null,68539.63," B",24592.67," B",6958.9," B",11334.66," B",621595.29,null,12,null,562.94000000000005,"AB",211.1,"AB",36.729999999999997,"AB",810.77,null,null,null,null,null,null,null,null,null,null,null,null,null,null,null,null,null,null,null,null,null,null,null,null,null,null,null,null,null,null,null,null,null,null,null,null,null,null,null,null,null,null,null,null,null,null,null,null,null,null,null,null,null,null,null,null,null,null,null,null,null,null,null,null,null,null,null,null,null,null,6658.3,null,19517.28,null,7801.83,"A",992517.4,12,null,143172.14000000001,null,3888.93,null,11334.82,null,2170.09,"A",14607.7,null,0,null,13598.14,null,658447.25,"A",847219.06,12,null,0,null,57397.21,null,7687.84,null,5208.03,null,273531.25,null,16434.5,null,8690.5,null,368949.34,12,"A",491.41,"A",3.68,"A",118.24,"A",1213.0999999999999,"A",2500.86,"A",1621.24,"A",5948.52,12,null,11746.07,null,0,null,11746.07,12,null,4690.8500000000004,null,4690.8500000000004,12,null,17529.5,12,"A",34068.239999999998,null,0,"A",34068.239999999998,12,"A",112512.53,"A",112512.53,12,"A",1298.21,null,0,"A",1298.21]
[13,null,447309.53,null,11534.96,null,15839.99,null,15619.9,null,64958.71,null,22973.69,null,6663.2,null,10796.51,null,595696.48,null,13,null,1131.8499999999999,"A",292.27,"A",23.75,"A",1447.87,null,null,null,null,null,null,null,null,null,null,null,null,null,null,null,null,null,null,null,null,null,null,null,null,null,null,null,null,null,null,null,null,null,null,null,null,null,null,null,null,null,null,null,null,null,null,null,null,null,null,null,null,null,null,null,null,null,null,null,null,null,null,null,null,null,null,null,null,null,null,6378.97,null,18904.54,null,7477.21,"A",963618.48,13,"A",138933.84,null,3685.49,null,11834.47,"A",2056.79,"A",38955.65,null,0,null,13045.64,null,641269.18999999994,"A",849781.07,13,null,0,null,56768.2,null,7555.5,null,5079.8500000000004,null,265832.15999999997,null,16442.27,null,8653.4,null,360331.37,13,"A",1652.58,"A",5.72,"A",350.55,"A",2448.83,"A",2521.9899999999998,"A",2689.8,"A",9669.4699999999993,13,null,46254.68,null,0,null,46254.69,13,null,11390.14,null,11390.14,13,null,25282.26,13,"A",60257.66,null,0,"A",60257.66,13,"A",117195.34,"A",117195.34,13,null,1297.6199999999999,null,0,null,1297.6199999999999]
[14,"A C","475279,38*"," B",12421.3," B",16331.52,null,16328.05,null,68025.509999999995," B",24618.81," B",7039.07," B",11189.63,"ABC","631233,26*",null,14,null,1242.98,"AB",141.76,"AB",12.27,"AB",1397.01,null,null,null,null,null,null,null,null,null,null,null,null,null,null,null,null,null,null,null,null,null,null,null,null,null,null,null,null,null,null,null,null,null,null,null,null,null,null,null,null,null,null,null,null,null,null,null,null,null,null,null,null,null,null,null,null,null,null,null,null,null,null,null,null,null,null,null,null,null,null,6601.59,null,19328.13,null,7676.69,"A",974075.57,14,"A",134597.91,"A",3840.54,null,11544.26,null,2082.83,"A",78609.98,null,0,null,13207.1,null,648565.93999999994,"A",892448.55,14,null,0,null,58457.16,null,8049.53,null,5427.86,"ABC",277665.06,null,17625.98,null,9168.89,"ABC","376394,47*",14,"A",3159.51,"A",5.75,"A",742.05,"A",2546.08,"A",2249.58,"A",2333.38,"A",11036.35,14,null,128219.78,null,18.899999999999999,null,128238.68,14,null,8429.2800000000007,null,8429.2800000000007,14,null,26646.19,14,"A",268.97000000000003,null,0,"A",268.97000000000003,14,"A",102700.65,"A",102700.65,14,null,1287.97,null,0,null,1287.97]
[15," B",428212.38," B",11274.92," B",15389.43,null,15356.44,null,64135.38," B",22626.53," B",6481.11," B",10529.28," B",574005.47,null,15,null,1308.28,"AB",420.44,"AB",37.56,"AB",1766.28,null,null,null,null,null,null,null,null,null,null,null,null,null,null,null,null,null,null,null,null,null,null,null,null,null,null,null,null,null,null,null,null,null,null,null,null,null,null,null,null,null,null,null,null,null,null,null,null,null,null,null,null,null,null,null,null,null,null,null,null,null,null,null,null,null,null,null,null,null,null,6201.94,null,17525.29,null,7201.82,"A",896361.59,15,"A",124581.37,null,3653.11,null,11442.23,null,1964.47,"A",12565.29,null,0,null,12596.76,"A C",592538.63,"A C","759341,86*",15,null,0,null,55370.9,null,7676.31,null,5303.73,null,267355.15999999997,null,16576.8,null,8680.68,null,360963.58,15,"A",1949.16,"A",5.59,"A",427.06,"A",4698.76,"A",2001.21,"A",1797.87,"A",10879.66,15,null,130244.2,null,20.53,null,130264.73,15,null,4813.43,null,4813.43,15,null,22802.01,15,"A",3838.99,null,0,"A",3838.99,15,"A",108764.16,"A",108764.16,15,"A",1206.92,"A",15.29,"A",1222.21]
[16," B",441647," B",11240.23," B",15458.53,null,15212.71,null,62777.36," B",22312.18," B",6555.41," B",10659.84," B",585863.27,null,16,null,1215.54,"AB",456.84,"AB",36.99,"AB",1709.37,null,null,null,null,null,null,null,null,null,null,null,null,null,null,null,null,null,null,null,null,null,null,null,null,null,null,null,null,null,null,null,null,null,null,null,null,null,null,null,null,null,null,null,null,null,null,null,null,null,null,null,null,null,null,null,null,null,null,null,null,null,null,null,null,null,null,null,null,null,null,6579.55," B",20216.32," B",7396.64,"ABC","1013924,18*",16," B",150093.35999999999," B",3721.22," B",12627.02," B",2058.36,"AB",18670.63," B",0," B",13027.76," B",674265.5,"AB",874463.85,16," B",0," B",56889.07," B",7727.5," B",5395.75," B",274561.96999999997," B",17076.28," B",8786.7999999999993," B",370437.36,16,"AB",1712.12,"AB",29.56,"AB",256.41000000000003,"AB",2648.03,"AB",2229.63,"AB",1979.4,"AB",8855.14,16," B",117153.64," B",2.92," B",117156.56,16," B",8657.52," B",8657.52,16," B",27378.49,16,"AB",303.89999999999998," B",0,"AB",303.89999999999998,16,"AB",105339.63,"AB",105339.63,16,"AB",1123.21,"AB",0.22,"AB",1123.44]
[17," B",426372.81," B",11154.39," B",15531.3,null,15075.22,null,63123.59," B",22073.97," B",6583.62," B",10588.34," B",570503.23,null,17,null,1028.44,"AB",285.2,"AB",25.53,"AB",1339.17,null,null,null,null,null,null,null,null,null,null,null,null,null,null,null,null,null,null,null,null,null,null,null,null,null,null,null,null,null,null,null,null,null,null,null,null,null,null,null,null,null,null,null,null,null,null,null,null,null,null,null,null,null,null,null,null,null,null,null,null,null,null,null,null,null,null,null,null,null,null,6462.44,null,19072.400000000001,null,7313.9,"AB",954949.93,17,"A",137545.53,null,3847.7,null,11664.3,"A",2064.37,null,24352.3,null,0,null,13376.93,null,655817.5,"A",848668.63,17,null,0,null,58184.44,null,7952.62,null,5630,null,282334.34000000003,null,17749.04,null,9064.07,null,380914.51,17,"A C",1788.71,"A",100.36,"A",462.99,"A",2483.75,"A",2317.5300000000002,"A",1779.37,"A C",8932.7199999999993,17,null,113698.46,null,7.87,null,113706.33,17,null,6727.04,null,6727.04,17,null,29198.98,17,"A",88244.7,null,0,"A",88244.7,17,"A",116653.25,"A",116653.25,17,null,1319.17,null,0,null,1319.17]
[18," B",399893.72," B",10489.05," B",14601.9,null,14345.11,null,59134.16," B",20867.13," B",6115.67," B",10106.74," B",535553.48,null,18,null,866.36,"AB",171.95,"AB",13.18,"AB",1051.49,null,null,null,null,null,null,null,null,null,null,null,null,null,null,null,null,null,null,null,null,null,null,null,null,null,null,null,null,null,null,null,null,null,null,null,null,null,null,null,null,null,null,null,null,null,null,null,null,null,null,null,null,null,null,null,null,null,null,null,null,null,null,null,null,null,null,null,null,null,null,6010.36,null,16603.240000000002,null,6901.8,"A",854291.05,18,"A",116184.25,null,3622.99,null,10264.040000000001,null,1952.08,"A",9607.9,null,0,null,12565.84,null,613463.5,"A",767660.6,18,null,0,null,53000.72,"A",7332.05,null,5113.12,null,254805.92,null,16150.22,null,8371.4699999999993,"A",344773.5,18,"A",1441.75,"A",49.75,"A",291.89,"A",1458.98,"A",1868.24,"A",1337.6,"A",6448.21,18,"A",6693.06,null,0,"A",6693.06,18,"A",1064.5999999999999,"A",1064.5999999999999,18,null,17263.68,18,"A",2480.91,null,0,"A",2480.91,18,"A",100269.6,"A",100269.6,18,null,1266.3499999999999,null,0,null,1266.3499999999999]
[19," B",375352.28," B",9821.26," B",13718.98,null,13242.75,null,54667.55," B",19471.95," B",5636.28," B",9409.56," B",501320.61,null,19,null,615.5,"AB",109.13,"AB",12.23,"AB",736.86,null,null,null,null,null,null,null,null,null,null,null,null,null,null,null,null,null,null,null,null,null,null,null,null,null,null,null,null,null,null,null,null,null,null,null,null,null,null,null,null,null,null,null,null,null,null,null,null,null,null,null,null,null,null,null,null,null,null,null,null,null,null,null,null,null,null,null,null,null,null,5518.05,null,14755.4,null,6293.53,"A",797276.62,19,null,108064.38,"A",3274.21,null,9419.49,null,1803.18,"A",8800.59,null,0,null,11849.94,null,556225.75,"A",699437.55,19,null,0,null,49240.71,null,6876.13,null,4684.97,null,239424.19,null,15017.99,null,8020.47,null,323264.46000000002,19,"A",1068.25,"A",37.82,"A",209.35,"A",1270.72,"A",1333.21,"A",1263.29,"A",5182.6400000000003,19,null,2094.61,null,0,null,2094.61,19,"A",7196.73,"A",7196.73,19,null,13680.66,19,"A",39332.629999999997,null,0,"A",39332.629999999997,19,"A",106545.12,"A",106545.12,19,null,1255.76,null,0,null,1255.76]
[20,null,360547.25,null,9389.35,"A",12655.21,null,12709.32,null,53503.75,null,18419.04,null,5296.3,null,8670.76,"A",481190.99,null,20,null,1209.29,"A",314.39,"A",25.55,"A",1549.22,null,null,null,null,null,null,null,null,null,null,null,null,null,null,null,null,null,null,null,null,null,null,null,null,null,null,null,null,null,null,null,null,null,null,null,null,null,null,null,null,null,null,null,null,null,null,null,null,null,null,null,null,null,null,null,null,null,null,null,null,null,null,null,null,null,null,null,null,null,null,4784.63,null,13486.65,null,5540.83,"A",735329.5,20,"A",106817.87,"A",3024.43,null,9273.89,"A",1658.34,"A",8951.5,null,0,null,11041.4,null,555207.75,"A",695975.18,20,null,0,null,45508.05,null,6409.49,null,4403.1000000000004,null,218279.78,null,14071.12,null,7502.93,null,296174.46999999997,20,"A",1571.38,"A",22.42,"A",373.77,"A",2524.5500000000002,"A",1718.58,"A",1608.6,"A",7819.31,20,"A",103489.73,null,13.85,"A",103503.57,20,null,6509.02,null,6509.02,20,null,21149.7,20,"A",51708.480000000003,null,0,"A",51708.480000000003,20,"A",108473.1,"A",108473.1,20,"A",961.93,"A",1.23,"A",963.17]
[21,null,362526.28,null,9431.14,null,12618.43,null,12592.14,null,52389.27,null,18595.25,null,5462.98,null,8814.83,null,482430.32,null,21,null,1401.12,"A",292.33999999999997,"A",25.68,"A",1719.14,null,null,null,null,null,null,null,null,null,null,null,null,null,null,null,null,null,null,null,null,null,null,null,null,null,null,null,null,null,null,null,null,null,null,null,null,null,null,null,null,null,null,null,null,null,null,null,null,null,null,null,null,null,null,null,null,null,null,null,null,null,null,null,null,null,null,null,null,null,null,4924.82,null,14339.72,null,5896.31,"A",744767.91,21,"A",102794.82,null,3078.19,null,8877.77,null,1656.2,"A",4024.01,null,0,null,10783.65,null,536679.31000000006,"A",667893.94999999995,21,null,0,null,45190.3,null,6407.35,null,4337.6899999999996,null,214596.5,null,14028.45,null,7583.67,null,292143.96000000002,21,"A",2044.93,"A",8.8699999999999992,"A",550.13,"A",1916.4,"A",2120.66,"A",1758.18,"A",8399.18,21,null,130458.14,null,26.92,null,130485.06,21,null,3810.48,null,3810.48,21,null,20222.11,21,"ABC",81527.740000000005,"ABC",0,"ABC",81527.740000000005,21,"A",101377.01,"A",101377.01,21,null,0,"A",0.09,"A",0.09]
[22,null,370704.03,null,9458.84,null,12530.44,null,12809.97,null,52982.82,"A",18546.759999999998,null,5386.15,null,8798.77,"A",491217.77,null,22,null,1130.58,"A",211.74,"A",12.84,"A",1355.16,null,null,null,null,null,null,null,null,null,null,null,null,null,null,null,null,null,null,null,null,null,null,null,null,null,null,null,null,null,null,null,null,null,null,null,null,null,null,null,null,null,null,null,null,null,null,null,null,null,null,null,null,null,null,null,null,null,null,null,null,null,null,null,null,null,null,null,null,null,null,5051.24,null,14700.74,null,5849.99,"ABC","748291,11*",22,"A",102911.37,null,2988.78,null,8917.2999999999993,null,3062.6,null,0,null,0,null,10580.65,null,552439.68999999994,"A",680900.39,22,null,0,null,44614.89,null,6274.16,null,4222.17,null,209605.22,null,13417.69,null,7366.89,null,285501.01,22,"A",1850.17,"A",25.08,"A",853.08,"A",1992.04,"A",1966.69,"A",2028.44,"A",8715.5,22,"A",5737.3,"A",147183.53,"A",152920.82999999999,22,null,3412.11,null,3412.11,22,null,19047.919999999998,22,"A",99906.57,null,0,"A",99906.57,22,"A",111528.38,"A",111528.38,22,"A",1140.0899999999999,null,0,"A",1140.0899999999999]
[23,null,368008.31,null,9615.4500000000007,null,12883.9,null,12882.29,null,53172.94,null,18766.34,null,5445.94,"A C","8838,84*","A C","489614,00*",null,23,null,1092.42,"A",376.09,"A",37.08,"A",1505.59,null,null,null,null,null,null,null,null,null,null,null,null,null,null,null,null,null,null,null,null,null,null,null,null,null,null,null,null,null,null,null,null,null,null,null,null,null,null,null,null,null,null,null,null,null,null,null,null,null,null,null,null,null,null,null,null,null,null,null,null,null,null,null,null,null,null,null,null,null,null,5139.7299999999996,null,14387.92,null,5979.96,"A",745919.45,23,"A",103318.35,null,3095.2,null,9378.75,null,3442.81,"A",2136.69,null,0,null,10573.93,null,548427.68999999994,"A",680373.41,23,null,0,null,45354.29,null,6603.41,null,4361.2299999999996,null,213479.77,null,13894.66,null,7479.2,null,291172.56,23,"A",1660.33,"A",1.91,"A",462.17,"A",2098.94,"A",1835.79,"A",1703.92,"A",7763.06,23,null,0.02,null,117590.2,null,117590.22,23,null,4492.01,null,4492.01,23,null,19309.37,23,"A",40624.32,"A",0,"A",40624.32,23,"ABC",100012.16,"ABC",100012.16,23,"A",1093.97,null,0,"A",1093.97]
[24," B",338021.41," B",8726.49," B",12038.79,null,12735.42,null,48023.5," B",17514.45," B",4996.6499999999996," B",8299.31," B",450356.02,null,24,null,1132.42,"AB",296.51,"AB",25.31,"AB",1454.24,null,null,null,null,null,null,null,null,null,null,null,null,null,null,null,null,null,null,null,null,null,null,null,null,null,null,null,null,null,null,null,null,null,null,null,null,null,null,null,null,null,null,null,null,null,null,null,null,null,null,null,null,null,null,null,null,null,null,null,null,null,null,null,null,null,null,null,null,null,null,4789.1499999999996," B",12268.52," B",5630.57,"AB",655920.46,24," B",88078.05," B",2891.96," B",8072.55," B",3099.83,"AB",37571.919999999998," B",0," B",9927.2900000000009," B",483851.53,"AB",633493.14,24," B",0," B",39780.78," B",6063.57," B",3999.86," B",188907.34," B",12596.79," B",6976.43," B",258324.78,24,"AB",1628.05,"AB",2.08,"AB",402,"ABC",2150.69,"AB",1852.1,"AB",1844.12,"ABC",7879.03,24," B",0," B",98923.49," B",98923.5,24,"AB",2341.0300000000002,"AB",2341.0300000000002,24," B",18453.87,24,"AB",5595.81," B",0,"AB",5595.81,24,"AB",92020.65,"AB",92020.65,24,"AB",1144.83,"AB",0.28999999999999998,"AB",1145.1199999999999]
[25," B",355473.22," B",8890.5499999999993," B",12551.83,null,12366.54,null,50066.26," B",18061.07," B",5133.08," B",8440.57," B",470983.11,null,25,null,1158.81,"AB",183.84,"AB",12.85,"AB",1355.5,null,null,null,null,null,null,null,null,null,null,null,null,null,null,null,null,null,null,null,null,null,null,null,null,null,null,null,null,null,null,null,null,null,null,null,null,null,null,null,null,null,null,null,null,null,null,null,null,null,null,null,null,null,null,null,null,null,null,null,null,null,null,null,null,null,null,null,null,null,null,5093.3900000000003,null,14664.34,null,5801.53,"A",763682.11,25,"A",106490.81,null,3039.47,null,9613.94,null,2567.09,null,113014.34,null,0,null,10235.709999999999,null,549342.18999999994,"A",794303.55,25,null,0,null,44620.14,null,6094.1,null,4256.5,null,203892.44,null,13348.64,null,7163.11,null,279374.93,25,"A",1668.02,"A",8.6999999999999993,"A",147.76,"A",1151.95,"A",2135.66,"A",1502.4,"A",6614.48,25,null,0,"A",3406.31,"A",3406.31,25,"A",1289.67,"A",1289.67,25,null,11980.84,25,"A",39302.46,null,0,"A",39302.46,25,"A",106434.78,"A",106434.78,25,"A",442.93,"A",1.27,"A",444.2]
[26," B",356419.75," B",9008.39,null,12477.75,null,12396.96,null,50340.63," B",18162.91," B",5264.02," B",8504.16," B",472574.55,null,26,null,716.11,"AB",0.08," B",0,"AB",716.19,null,null,null,null,null,null,null,null,null,null,null,null,null,null,null,null,null,null,null,null,null,null,null,null,null,null,null,null,null,null,null,null,null,null,null,null,null,null,null,null,null,null,null,null,null,null,null,null,null,null,null,null,null,null,null,null,null,null,null,null,null,null,null,null,null,null,null,null,null,null,5288.24,null,15066.76,null,6029.92,"A",784558.82,26,"A",111099.6,null,3216.14,null,9808.42,null,1656.28,null,118342.62,null,0,null,10748.09,null,558620.5,"A",813491.65,26,null,0,null,46118.81,null,6694.84,null,4392.54,null,216285.77,null,13933.13,null,7494.69,null,294919.78000000003,26,"A",1032.08,"A",7.48,"A",366,"A",889.82,"A",1237.78,"A",1273.6300000000001,"A",4806.79,26,null,0,null,1805.41,null,1805.41,26,"A",3886.61,"A",3886.61,26,null,9345.51,26,"A",42066.18,null,0,"A",42066.18,26,"A",108770.88,"A",108770.88,26,null,0,null,0,null,0]
[27," B",347670.09," B",8839.49," B",12126.85,null,12096.72,null,49628.53," B",17922.14," B",5260.77," B",8573.3700000000008," B",462117.96,null,27,null,1190.92,"AB",491.14,"AB",37.97,"AB",1720.02,null,null,null,null,null,null,null,null,null,null,null,null,null,null,null,null,null,null,null,null,null,null,null,null,null,null,null,null,null,null,null,null,null,null,null,null,null,null,null,null,null,null,null,null,null,null,null,null,null,null,null,null,null,null,null,null,null,null,null,null,null,null,null,null,null,null,null,null,null,null,5047.5600000000004,null,13924.54,null,5862.77,"A",748663.02,27,"A",110467.31,null,3194.78,null,8897.49,null,1732.36,null,109307.88,null,0,null,10559.35,null,541909.18999999994,"A",786068.37,27,null,0,null,44221.3,null,6461.78,null,4304.8,null,211410.89,null,13497.03,null,7367.93,null,287263.73,27,"A",1533.79,"A",27.37,"A",662.35,"A",2432.36,"A",1858.89,"A",1969.17,"A",8483.94,27,"A C",0,"A C",29323.759999999998,"A C",29323.759999999998,27,"A",4531.0600000000004,"A",4531.0600000000004,27,null,18581.080000000002,27,"A",58215.19,null,0,"A",58215.19,27,"A",110973.12,"A",110973.12,27,null,0,null,0,null,0]
[28," B",310346.34000000003," B",8331.0400000000009," B",11501.23,null,11209.49,null,45628.75," B",17366.04," B",4840.16," B",7720.43," B",416943.49,null,28,null,1135.23,"AB",462.24,"AB",38.58,"AB",500.82]
["Итого","ABC","11769893,75*"," B",306213.64,"AB",414258.67,null,408931.53,null,1693691.41,"AB",605102.92000000004," B",175463.43,"ABC","282909,24*","ABC","15656464,58*",null,"Итого",null,30328.78,"AB",8051.77,"AB",767.65,"AB",39148.199999999997]