{"text_format":"1","workbook":"xlsx","n_sheets":5,"sheets":["паспорт"," розрахунок","додаток","variablesList","Лист1"],"not_rendered":{"charts":0,"images":0,"macros":1,"external_links":0,"defined_names":3,"comments":0,"pivot_tables":0},"unopened":[],"bounds":{"document_bytes":16777216,"sheet_cells":100000,"rows_first":2000,"rows_last":500,"rows_between":2000,"halvings":0,"cell_chars":16384,"cell_head_chars":4096},"cells_cut":0,"cells_raw":0,"read":"whole","date_system":"1900"}

{"sheet":"паспорт","index":0,"n_rows":52,"n_cols":31,"rows_kept":52,"cut":false,"hidden":false,"merged":[[0,6,0,24],[0,25,0,27],[5,23,5,24],[9,12,10,12],[5,21,5,22],[9,14,9,16],[9,17,9,19],[9,20,9,22],[8,14,8,22],[3,6,3,24],[5,26,5,27],[9,7,10,7],[7,1,8,12],[8,13,10,13],[7,13,7,22],[2,4,2,26],[44,20,44,27],[43,20,43,27],[42,20,42,27],[7,27,10,27],[9,8,10,8],[7,26,10,26],[7,24,10,24],[7,23,10,23],[50,1,50,26],[9,11,10,11],[42,18,43,18],[42,19,43,19],[42,14,43,14],[43,7,43,13],[42,15,43,15],[42,16,43,16],[42,17,43,17],[9,9,10,9],[9,10,10,10],[7,25,10,25],[46,1,46,26],[42,0,42,13],[9,3,10,3],[48,1,48,26],[1,5,1,25],[5,7,5,20],[7,0,10,0],[9,1,10,1],[9,2,10,2],[9,5,10,5],[9,6,10,6],[9,4,10,4]]}
["ПАТ \"УКРТРАНСГАЗ\"",null,null,null,null,null,"ПАСПОРТ ФІЗИКО-ХІМІЧНИХ ПОКАЗНИКІВ ПРИРОДНОГО ГАЗУ  № 677"]
["Філія \"УМГ \"ХАРКІВТРАНСГАЗ\"",null,null,null,null,"переданого Краматорським ЛВУМГ та прийнятого  ПАТ \"МАРІУПОЛЬГАЗ\", "]
[null,null,null,null," ПРАТ \"ММК ІЛЛІЧА\", ПРАТ \"МК АЗОВСТАЛЬ\", ДП \"УКРАВТОГАЗ\""]
["Сєвєродонецьке ЛВУМГ",null,null,null,null,null,"Маршрут № 677"]
["Вимірювальна хіміко-аналітична лабораторія"]
["Свідоцтво № РЬ089/2014 чинно до 06.06.2017 р.",null,null,null,null,null,null,"по газопроводу  \" Донецьк-Маріуполь\", \"Маріуполь-Бердянськ\"",null,null,null,null,null,null,null,null,null,null,null,null,null,"за період з",null,"01.02.2017 р.",null," по","28.02.2017 р."]
[]
["Число місяця","Компонентний склад, мол. % ",null,null,null,null,null,null,null,null,null,null,null,"Фізико-хімічні показники газу обчислені на основі компонентного складу, 101,325 кПа",null,null,null,null,null,null,null,null,null,"Температура точки роси за вологою (Р = 3.92 МПа), °С","Температура точки роси за вуглеводнями, °С","Вміст сірководню, г/м3","Вміст меркаптанової сірки, г/м3","Вміст механічних домішок, г/м3"]
[null,null,null,null,null,null,null,null,null,null,null,null,null,"Густина абсолютна, кг/м3,при 20 °С, ","Температура вимірювання/згоряння при  20/25°С"]
[null,"метан, С1","етан, С2","пропан, С3","ізо-бутан, і-С4","н-бутан, н-С4","нео-пентан, нео-С5","ізо-пентан, і-С5","н-пентан, н-С5","гексани та вищі, С6+","кисень, О2","азот, N2","діоксид вуглецю, CО2",null,"Теплота згоряння нижча",null,null,"Теплота згоряння вища",null,null,"Число Воббе вище"]
[null,null,null,null,null,null,null,null,null,null,null,null,null,null," ккал/м³"," МДж/м³","кВт⋅год/м³"," ккал/м³"," МДж/м³","кВт⋅год/м³"," ккал/м³"," МДж/м³","кВт⋅год/м³",null,null,null,null,null,null,null,"  "]
[1,92.861961359999995,3.5235588600000001,0.80750436000000003,7.1971980000000005E-2,9.2121300000000003E-2,1.6887989999999999E-2,2.089651E-2,0,2.5430080000000001E-2,null,2.3210241800000002,0.25866686999999999,0.71743566000000003,{"$f":"P12*238.8459","v":8146.6656997256732},34.10845947,{"$f":"P12/3.6","v":9.4745720749999993},{"$f":"S12*238.8459","v":9030.0667965596676},37.807083130000002,{"$f":"S12/3.6","v":10.501967536111112},{"$f":"V12*238.8459","v":11700.204583855973},48.986415860000001,{"$f":"V12/3.6","v":13.607337738888889},null,null,null,null,null,{"$f":"SUM(B12:M12)+$K$43+$N$43","v":100.00002348999999}]
[2,92.942985530000001,3.5319623899999999,0.83410108000000005,7.9537010000000005E-2,0.10159016999999999,1.699082E-2,2.0877670000000001E-2,0,2.6544729999999999E-2,null,2.2095537200000002,0.23580187999999999,0.71731126000000001,{"$f":"P13*238.8459","v":8164.7524392568776},34.184185030000002,9.4956069527777789,{"$f":"S13*238.8459","v":9049.8637157271314},37.889968869999997,10.524991352777777,11726.87594183265,49.098083500000001,{"$f":"V13/3.6","v":13.638356527777777},null,null,null,null,null,99.999944999999997]
[3,93.093780519999996,3.4195697300000001,0.84183507999999996,8.4850010000000003E-2,0.10532047,1.691863E-2,2.0879539999999999E-2,0,2.6619710000000001E-2,null,2.1561458099999999,0.23407653,0.71661651000000004,8164.7670160221542,34.18424606,{"$f":"P14/3.6","v":9.495623905555556},9050.0559627920429,37.890773770000003,{"$f":"S14/3.6","v":10.525214936111112},11732.811919273876,49.122936250000002,{"$f":"V14/3.6","v":13.645260069444445},null,null,null,null,null,99.999996029999991,{"$f":"IF(AC14=100,\"ОК\",\" \")","v":" "}]
[4,93.311271669999996,3.2155747400000001,0.79687673000000003,8.3285040000000005E-2,0.10533313,1.714179E-2,2.119909E-2,0,2.776255E-2,null,2.1571188000000001,0.2644029,0.71526831000000002,8144.1163732351051,34.097785950000002,9.4716072083333334,9027.8409175753386,37.79776382,10.499378838888889,11715.013096532826,49.04841614,13.624560038888889,null,null,null,null,null,99.999966439999994,{"$f":"IF(AC15=100,\"ОК\",\" \")","v":" "}]
[5,93.798439029999997,2.7312364599999999,0.69265133000000001,7.6183070000000006E-2,0.10204934,1.7777520000000002E-2,2.1635450000000001E-2,0,2.9826390000000001E-2,null,2.1970439000000002,0.33314147999999999,0.71210348999999995,8091.1663557682377,33.876094819999999,9.4100263388888887,8970.7853731564537,37.55888367,10.433023241666666,11666.833727361085,48.846698760000002,13.568527433333333,null,null,null,null,null,99.999983969999988," "]
[6,93.608451840000001,2.79252601,0.76698339000000004,9.4233949999999997E-2,0.13402786999999999,1.7981270000000001E-2,2.1858900000000001E-2,0,3.0262569999999999E-2,null,2.17308068,0.36055616000000001,0.71444087999999994,8113.4643115622102,33.969451900000003,9.4359588611111125,8994.6695977222262,37.658882140000003,10.460800594444445,11678.745772527849,48.896572110000001,13.582381141666666,null,null,null,null,null,99.999962640000021," "]
[7,93.174125669999995,3.17898726,0.83899188000000002,9.6441059999999995E-2,0.13334297000000001,1.7468419999999998E-2,2.1451169999999999E-2,0,2.9544979999999998E-2,null,2.18508053,0.32457182000000001,0.71717995000000001,8148.3430810429463,34.115482329999999,9.4765228694444446,9032.096783690653,37.815582280000001,10.504328411111111,11704.916922701532,49.006145480000001,13.612818188888889,null,null,null,null,null,100.00000575999999," "]
[8,93.589286799999996,2.91803408,0.74087358000000003,8.3104579999999997E-2,0.11419047,1.8548720000000001E-2,2.2635490000000001E-2,0,2.987476E-2,null,2.2160017500000002,0.26745954,0.71347260000000001,8116.5439141661218,33.98234558,9.4395404388888888,8998.1163829051256,37.673313139999998,10.464809205555555,11691.138893941017,48.948459630000002,13.596794341666667,-19.2,-17.3,2.9999999999999997E-4,4.0000000000000001E-3,"відс.",100.00000976999999," "]
[9,93.465286250000005,3.0500330899999999,0.75811291000000003,7.6224710000000001E-2,9.7940769999999996E-2,1.8084650000000001E-2,2.21231E-2,0,2.9213019999999999E-2,null,2.1557009200000001,0.32726159999999999,0.71439909999999995,8122.2858221482193,34.006385799999997,{"$f":"P20/3.6","v":9.4462182777777759},9004.2600965678757,37.699035639999998,{"$f":"S20/3.6","v":10.471954344444443},11691.543432018765,48.950153350000001,13.597264819444444,null,null,null,null,null,99.999981020000007," "]
[10,93.282135010000005,3.20453382,0.80645644999999999,8.2525860000000006E-2,0.10701379,1.743776E-2,2.1286090000000001E-2,0,2.9404130000000001E-2,null,2.1018221399999999,0.34734786000000001,0.71608269000000002,8143.2079825659293,34.093982699999998,9.4705507499999992,9026.7821925197859,37.79333115,10.498147541666667,11707.002486884987,49.014877319999997,13.615243699999999,null,null,null,null,null,99.999962910000008," "]
[11,93.562286380000003,2.9551596600000001,0.75982159000000005,8.1342700000000004E-2,0.10962956,1.760343E-2,2.1302729999999999E-2,0,3.0280899999999999E-2,null,2.0949869200000002,0.36758626,0.71432757000000002,8121.3227644294529,34.002353669999998,9.4450982416666651,9003.3006836375425,37.695018769999997,10.470838547222222,11690.886510255405,48.947402949999997,13.596500819444444,null,null,null,null,null,100.00000012999999," "]
[12,93.502868649999996,3.0032129300000001,0.76492488000000003,8.2088809999999998E-2,0.11112291000000001,1.756688E-2,2.1389620000000002E-2,0,3.0601980000000001E-2,null,2.1105146399999999,0.35567766000000001,0.71465825999999999,8125.1959564207045,34.01856995,9.4496027638888886,9007.4390112970086,37.712345120000002,10.475651422222223,11693.547905630712,48.95854568,13.599596022222222,null,null,null,null,null,99.999968960000004," "]
[13,93.690414430000004,2.8596622900000002,0.73498850999999998,8.0943379999999995E-2,0.11058227,1.7907860000000001E-2,2.1656269999999998E-2,0,3.046598E-2,null,2.0918946300000001,0.36147319999999999,0.71341889999999997,8113.3212667527005,33.968853000000003,9.4357924999999998,8994.7570654792653,37.659248349999999,10.460902319444443,11687.222879268355,48.932064060000002,13.592240016666667,null,null,null,null,null,99.999988819999984," "]
[14,93.955131530000003,2.5861411099999998,0.67219072999999996,7.6582949999999997E-2,0.10835999,1.8308189999999998E-2,2.1975890000000001E-2,0,3.1452430000000003E-2,null,2.1203923200000001,0.40949833000000002,0.71170734999999996,8081.5603653775142,33.835876460000001,9.3988545722222216,8960.4951298660326,37.515800480000003,10.42105568888889,11656.701108033909,48.804275509999997,13.556743197222222,null,null,null,null,null,100.00003346999999," "]
[15,93.697181700000002,2.8446621900000002,0.70295410999999997,7.6794829999999994E-2,0.11303253000000001,2.0413540000000001E-2,2.267856E-2,4.8624799999999998E-3,3.0634359999999999E-2,null,2.24874163,0.23805034,0.71246606000000001,8107.4754894656098,33.944377899999999,9.4289938611111115,8988.4056155949893,37.632656099999998,10.453515583333333,11686.800117248436,48.93029404,13.591748344444444,null,null,null,null,null,100.00000626999999," "]
[16,93.610794069999997,3.1428661299999998,0.71999943,8.1936079999999994E-2,0.12449652999999999,2.1032579999999999E-2,2.2784860000000001E-2,6.3349499999999998E-3,3.1335969999999998E-2,null,2.0204663300000001,0.21793264000000001,0.71341306000000004,8151.9821132907573,34.130718229999999,{"$f":"P27/3.6","v":9.4807550638888891},9036.8400984609816,37.835441590000002,{"$f":"S27/3.6","v":10.509844886111111},11741.90858989052,49.161022189999997,13.655839497222221,null,null,null,null,null,99.999979570000008," "]
[17,94.175430300000002,2.7717924100000002,0.67348218000000004,8.1115789999999993E-2,0.12061442,2.00135E-2,2.2350419999999999E-2,1.164902E-2,3.4358930000000003E-2,null,1.8421376899999999,0.24701327000000001,0.71023725999999998,8135.9335604702856,34.063526150000001,{"$f":"P28/3.6","v":9.4620905972222218},9020.1209571147501,37.765441889999998,{"$f":"S28/3.6","v":10.490400525},11746.398610972359,49.179821009999998,13.661061391666665,null,null,null,null,null,99.999957929999979," "]
[18,93.97641754,2.5420804000000001,0.65729510999999996,8.1219440000000004E-2,0.10281654,1.8597220000000001E-2,2.2652209999999999E-2,1.4091799999999999E-3,3.6633939999999997E-2,null,1.7301292399999999,0.83075374000000002,0.71444189999999996,8076.656691858384,33.81534576,9.3931515999999995,8955.152292779032,37.493431090000001,10.414841969444444,11627.525071030752,48.682121279999997,13.522811466666665,null,null,null,null,null,100.00000456000002," "]
[19,94.189300000000003,2.7538999999999998,0.66710000000000003,7.6100000000000001E-2,0.10489999999999999,4.7000000000000002E-3,2.1399999999999999E-2,1.8599999999999998E-2,3.1800000000000002E-2,1.09E-2,1.9175,0.20469999999999999,0.70930000000000004,8123.0296360500006,34.009500000000003,9.4470833333333335,9001.95866346,37.689399999999999,10.469277777777778,11730.104302440001,49.111600000000003,13.642111111111111,null,null,null,null,null,100.00090000000003," "]
[20,null,null,null,null,null,null,null,null,null,null,1.9175,0.20469999999999999,0.70930000000000004,8123.0296360500006,34.009500000000003,{"$f":"P31/3.6","v":9.4470833333333335},9001.95866346,37.689399999999999,{"$f":"S31/3.6","v":10.469277777777778},11730.104302440001,49.111600000000003,13.642111111111111,null,null,null,null,null,2.1221999999999999,{"$f":"IF(AC31=100,\"ОК\",\" \")","v":" "}]
[21,null,null,null,null,null,null,null,null,null,null,1.9175,0.20469999999999999,0.70930000000000004,8123.0296360500006,34.009500000000003,9.4470833333333335,9001.95866346,37.689399999999999,10.469277777777778,11730.104302440001,49.111600000000003,13.642111111111111,null,null,null,null,null,2.1221999999999999," "]
[22,null,null,null,null,null,null,null,null,null,null,1.9175,0.20469999999999999,0.70930000000000004,8123.0296360500006,34.009500000000003,9.4470833333333335,9001.95866346,37.689399999999999,10.469277777777778,11730.104302440001,49.111600000000003,13.642111111111111,null,null,null,null,null,2.1221999999999999," "]
[23,null,null,null,null,null,null,null,null,null,null,1.9175,0.20469999999999999,0.70930000000000004,8123.0296360500006,34.009500000000003,9.4470833333333335,9001.95866346,37.689399999999999,10.469277777777778,11730.104302440001,49.111600000000003,13.642111111111111,null,null,null,null,null,2.1221999999999999,{"$f":"IF(AC34=100,\"ОК\",\" \")","v":" "}]
[24,94.067230219999999,3.1374304300000002,0.79271119999999995,9.1909350000000001E-2,0.10214504000000001,1.506503E-2,1.8512870000000001E-2,5.4099999999999999E-6,2.3972899999999998E-3,null,1.45979226,0.31283933000000003,0.71109915000000001,8182.6769976450623,34.259231569999997,{"$f":"P35/3.6","v":9.5164532138888873},9071.1612583035785,37.979137420000001,{"$f":"S35/3.6","v":10.549760394444444},11805.713747474358,49.428161619999997,13.730044894444443,null,null,null,null,null,100.00003842999999," "]
[25,94.061737059999999,3.0333688300000001,0.76569675999999998,8.6892559999999994E-2,9.6458699999999994E-2,1.5069290000000001E-2,1.8391669999999999E-2,5.4099999999999999E-6,2.3571899999999999E-3,null,1.55393004,0.36609519000000001,0.71106756000000004,8159.0050640921281,34.160121920000002,{"$f":"P36/3.6","v":9.4889227555555564},9045.349093517596,37.871067050000001,{"$f":"S36/3.6","v":10.519740847222222},11772.430358736507,49.288810730000002,13.69133631388889,null,null,null,null,null,100.00000269999998," "]
[26,94.770553590000006,2.6643672,0.71746767,8.3377610000000005E-2,8.3048979999999994E-2,1.392557E-2,1.796087E-2,5.4099999999999999E-6,2.1993300000000002E-3,null,1.2970997099999999,0.34999517000000002,0.70652985999999995,8148.1781675028324,34.114791869999998,9.4763310749999992,9034.6005527142534,37.826065059999998,10.507240294444443,11796.087713135707,49.387859339999999,13.718849816666665,null,null,null,null,null,100.00000111," "]
[27,94.536880490000001,2.8757600800000001,0.75191825999999995,8.1087889999999996E-2,7.9153459999999995E-2,1.268292E-2,1.644108E-2,5.4099999999999999E-6,1.8958499999999999E-3,null,1.2844928499999999,0.35974824,0.70804471000000002,8164.0025825538269,34.181045529999999,9.4947348694444447,9051.5656981721077,37.897094729999999,10.526970758333333,11805.586189433003,49.427627559999998,13.729896544444443,null,null,null,null,null,100.00006653000003," "]
[28,94.459716799999995,2.9302811599999998,0.75355870000000003,7.9155970000000006E-2,7.7990199999999996E-2,1.2175679999999999E-2,1.56858E-2,0,1.74698E-3,null,1.3361221599999999,0.33360571,0.70824664999999998,8164.6421927663559,34.183723450000002,9.4954787361111119,9052.1643057089823,37.899600980000002,10.52766693888889,11804.678711155166,49.423828129999997,13.728841147222221,null,null,null,null,null,100.00003915999999," "]
[29,96.188199999999995,2.0720999999999998,0.65939999999999999,0.1046,0.1031,4.1000000000000003E-3,2.0500000000000001E-2,1.4500000000000001E-2,4.7000000000000002E-3,7.6E-3,0.63660000000000005,0.1845,0.69820000000000004,{"$f":"P40*238.8459","v":8179.0151150099991},34.243899999999996,{"$f":"P40/3.6","v":9.5121944444444431},{"$f":"S40*238.8459","v":9065.9932492500011},37.957500000000003,{"$f":"S40/3.6","v":10.543750000000001},11908,49.854900000000001,{"$f":"V40/3.6","v":13.848583333333334},-20.6,-2,null,null,null,99.999899999999997," "]
[30,null,null,null,null,null,null,null,null,null,null,null,null,null,8178.0836160000008,34.24,{"$f":"P41/3.6","v":9.5111111111111111},9066.5903639999997,37.96,{"$f":"S41/3.6","v":10.544444444444444},null,null,null,null,null,null,null,null,0]
[31,null,null,null,null,null,null,null,null,null,null,null,null,null,8179.0151150099991,34.243899999999996,{"$f":"P42/3.6","v":9.5121944444444431},9065.9932492500011,37.957500000000003,{"$f":"S42/3.6","v":10.543750000000001},null,null,null,null,null,null,null,null,0," "]
["Рівень одоризації відповідає чинним нормативним документам",null,null,null,null,null,null,null,null,null,null,null,null,null,{"$f":"SUMPRODUCT(O12:O39,' розрахунок'!R7:R34)/' розрахунок'!R38","v":8131.509313392251},{"$f":"SUMPRODUCT(P12:P39,' розрахунок'!R7:R34)/' розрахунок'!R38","v":34.045002712595242},{"$f":"SUMPRODUCT(Q12:Q39,' розрахунок'!R7:R34)/' розрахунок'!R38","v":9.4569451979431207},{"$f":"SUMPRODUCT(R12:R39,' розрахунок'!R7:R34)/' розрахунок'!R38","v":9014.0810085772828},{"$f":"SUMPRODUCT(S12:S39,' розрахунок'!R7:R34)/' розрахунок'!R38","v":37.740153833820386},{"$f":"SUMPRODUCT(T12:T39,' розрахунок'!R7:R34)/' розрахунок'!R38","v":10.483376064950107}]
[null,null,null,null,null,null,null,"Середньозважене значення теплоти згоряння:"]
[]
[]
[null,"Начальник управління Северодонецького ЛВУМГ                                                                                              Головко Ю.О."]
[null,null,"Підрозділу підприємства, якому підпорядкована лабораторія",null,null,null,null,null,null,null,null,null,null,null,"прізвище",null,null,"підпис",null,null,null,"дата"]
[null,"Інженер ІІ кат. ВХАЛ                                                                                                                                           Єрьоменко М.О."]
[null,null,"Лабораторія, де здійснювалось вимірювання газу",null,null,null,null,null,null,null,null,null,null,null,"прізвище",null,null,"підпис",null,null,null,"дата"]
[null,"Начальник служби метрології                                                                                                                              Левкович А.М."]
[null,null,"Підрозділу, відповідального за облік газу за маршрутом",null,null,null,null,null,null,null,null,null,null,null,"прізвище",null,null,"підпис",null,null,null,"дата"]

{"sheet":" розрахунок","index":1,"n_rows":42,"n_cols":18,"rows_kept":42,"cut":false,"hidden":true,"merged":[[3,17,5,17],[1,0,1,10],[0,0,0,1],[3,0,5,0],[3,1,5,1],[3,2,3,15],[4,2,4,15]]}
[]
["Додаток до Паспорту фізико-хімічних показників природного газу по маршруту № 677"]
[]
["Число місяця","Теплота згоряння вища, МДж/м3","Донецька область",null,null,null,null,null,null,null,null,null,null,null,null,null,"Запорізька область","Загальний обсяг газу, м3"]
[null,null,"Обсяг газу переданого за добу,  м3 ",null,null,null,null,null,null,null,null,null,null,null,null,null,"Обсяг газу переданого за добу,  м3 "]
[null,null,"ГРС 1 м. Маріуполь","АГНКС м.Маріуполь","ПрАТ ММК ім. Ілліча","ПрАТ \"МК \"АЗОВСТАЛЬ\"","ГРС 2 м.Маріуполь","ПрАТ ММК ім. Ілліча","ГРС смт.Володарське","ГРС смт. Ялта","ГРС смт. Мангуш","ГРС с. Малинівка","ГРС р-п Дзержинського","ГРС Первомайське ПТФ","ГРС р-п Маріупольский","ГРП Юр'ївка","ГРС с. Червоне Поле"]
[1,{"$f":"паспорт!S12","v":37.807083130000002},{"$f":"Лист1!C3","v":1136359.25},{"$f":"Лист1!AL3","v":537.44000000000005},{"$f":"Лист1!AG3","v":0},{"$f":"Лист1!AB3","v":988443.63},{"$f":"Лист1!E3","v":383507.97},{"$f":"Лист1!AR3","v":1131636.6299999999},{"$f":"Лист1!G3","v":64677.05},{"$f":"Лист1!U3","v":27807.37},{"$f":"Лист1!O3","v":51891.45},{"$f":"Лист1!M3","v":10374.91},{"$f":"Лист1!K3","v":8083.18},{"$f":"Лист1!Q3","v":2486.17},{"$f":"Лист1!I3","v":29099.13},{"$f":"Лист1!W3","v":2170.7399999999998},{"$f":"Лист1!S3","v":17001.080000000002},{"$f":"SUM(C7:Q7)","v":3854076.0000000005}]
[2,{"$f":"паспорт!S13","v":37.889968869999997},{"$f":"Лист1!C4","v":1065194.1299999999},{"$f":"Лист1!AL4","v":881.04},{"$f":"Лист1!AG4","v":0},{"$f":"Лист1!AB4","v":1055508},{"$f":"Лист1!E4","v":349904.84},{"$f":"Лист1!AR4","v":1121541.1299999999},{"$f":"Лист1!G4","v":59051.09},{"$f":"Лист1!U4","v":25854.32},{"$f":"Лист1!O4","v":47618.02},{"$f":"Лист1!M4","v":9381.2099999999991},{"$f":"Лист1!K4","v":7407.66},{"$f":"Лист1!Q4","v":2315.81},{"$f":"Лист1!I4","v":26840.43},{"$f":"Лист1!W4","v":2029.73},{"$f":"Лист1!S4","v":15395.14},3788922.55]
[3,{"$f":"паспорт!S14","v":37.890773770000003},{"$f":"Лист1!C5","v":1006612.38},{"$f":"Лист1!AL5","v":761.57},{"$f":"Лист1!AG5","v":0},{"$f":"Лист1!AB5","v":967628.88},{"$f":"Лист1!E5","v":348747},{"$f":"Лист1!AR5","v":1110917.6299999999},{"$f":"Лист1!G5","v":56499.47},{"$f":"Лист1!U5","v":24934.71},{"$f":"Лист1!O5","v":45080.84},{"$f":"Лист1!M5","v":9149.59},{"$f":"Лист1!K5","v":7113.63},{"$f":"Лист1!Q5","v":2249.54},{"$f":"Лист1!I5","v":25424.93},{"$f":"Лист1!W5","v":1947.51},{"$f":"Лист1!S5","v":14930.08},3621997.76]
[4,{"$f":"паспорт!S15","v":37.79776382},{"$f":"Лист1!C6","v":1048828.3799999999},{"$f":"Лист1!AL6","v":935.37},{"$f":"Лист1!AG6","v":0},{"$f":"Лист1!AB6","v":1024919.5},{"$f":"Лист1!E6","v":269882.65999999997},{"$f":"Лист1!AR6","v":1109086.5},{"$f":"Лист1!G6","v":52879.79},{"$f":"Лист1!U6","v":23491.47},{"$f":"Лист1!O6","v":42074.61},{"$f":"Лист1!M6","v":8248.5499999999993},{"$f":"Лист1!K6","v":6646.92},{"$f":"Лист1!Q6","v":2121.9299999999998},{"$f":"Лист1!I6","v":23829.279999999999},{"$f":"Лист1!W6","v":1801.55},{"$f":"Лист1!S6","v":13508.08},3628254.59]
[5,{"$f":"паспорт!S16","v":37.55888367},{"$f":"Лист1!C7","v":997339.81},{"$f":"Лист1!AL7","v":658.53},{"$f":"Лист1!AG7","v":0},{"$f":"Лист1!AB7","v":1133683.5},{"$f":"Лист1!E7","v":245009.34},{"$f":"Лист1!AR7","v":1109085.8799999999},{"$f":"Лист1!G7","v":49145.4},{"$f":"Лист1!U7","v":21956.79},{"$f":"Лист1!O7","v":39604.68},{"$f":"Лист1!M7","v":7843.47},{"$f":"Лист1!K7","v":6126.33},{"$f":"Лист1!Q7","v":1923.29},{"$f":"Лист1!I7","v":22627.31},{"$f":"Лист1!W7","v":1713.57},{"$f":"Лист1!S7","v":12827.2},3649545.1]
[6,{"$f":"паспорт!S17","v":37.658882140000003},{"$f":"Лист1!C8","v":1006922.25},{"$f":"Лист1!AL8","v":962.88},{"$f":"Лист1!AG8","v":0},{"$f":"Лист1!AB8","v":1132727.25},{"$f":"Лист1!E8","v":280768.63},{"$f":"Лист1!AR8","v":1073999.1299999999},{"$f":"Лист1!G8","v":51136.61},{"$f":"Лист1!U8","v":22747.3},{"$f":"Лист1!O8","v":42137.21},{"$f":"Лист1!M8","v":8146.06},{"$f":"Лист1!K8","v":6446.27},{"$f":"Лист1!Q8","v":2003.51},{"$f":"Лист1!I8","v":23561.82},{"$f":"Лист1!W8","v":1682.16},{"$f":"Лист1!S8","v":13475.52},3666716.5999999992]
[7,{"$f":"паспорт!S18","v":37.815582280000001},{"$f":"Лист1!C9","v":1048331.75},{"$f":"Лист1!AL9","v":1547.01},{"$f":"Лист1!AG9","v":0},{"$f":"Лист1!AB9","v":1004811},{"$f":"Лист1!E9","v":405426.25},{"$f":"Лист1!AR9","v":1168156.25},{"$f":"Лист1!G9","v":61493.13},{"$f":"Лист1!U9","v":27186.94},{"$f":"Лист1!O9","v":50467.91},{"$f":"Лист1!M9","v":9758.5499999999993},{"$f":"Лист1!K9","v":7804.29},{"$f":"Лист1!Q9","v":2309.31},{"$f":"Лист1!I9","v":27854.87},{"$f":"Лист1!W9","v":1957.42},{"$f":"Лист1!S9","v":16097.05},3833201.7299999995]
[8,{"$f":"паспорт!S19","v":37.673313139999998},{"$f":"Лист1!C10","v":1098478.25},{"$f":"Лист1!AL10","v":1266.17},{"$f":"Лист1!AG10","v":0},{"$f":"Лист1!AB10","v":1089054.6299999999},{"$f":"Лист1!E10","v":436440.28},{"$f":"Лист1!AR10","v":1086083.5},{"$f":"Лист1!G10","v":65991.88},{"$f":"Лист1!U10","v":29732.31},{"$f":"Лист1!O10","v":54927.11},{"$f":"Лист1!M10","v":10286.31},{"$f":"Лист1!K10","v":8434.3799999999992},{"$f":"Лист1!Q10","v":2490.77},{"$f":"Лист1!I10","v":29796.720000000001},{"$f":"Лист1!W10","v":2164.33},{"$f":"Лист1!S10","v":17531.86},3932678.5]
[9,{"$f":"паспорт!S20","v":37.699035639999998},{"$f":"Лист1!C11","v":1104000.6299999999},{"$f":"Лист1!AL11","v":985.81},{"$f":"Лист1!AG11","v":0},{"$f":"Лист1!AB11","v":993084.38},{"$f":"Лист1!E11","v":433608.09},{"$f":"Лист1!AR11","v":1230788.3799999999},{"$f":"Лист1!G11","v":65480.82},{"$f":"Лист1!U11","v":29171.15},{"$f":"Лист1!O11","v":54024.93},{"$f":"Лист1!M11","v":10509.77},{"$f":"Лист1!K11","v":8230.74},{"$f":"Лист1!Q11","v":2560.4699999999998},{"$f":"Лист1!I11","v":29756.400000000001},{"$f":"Лист1!W11","v":2210.6999999999998},{"$f":"Лист1!S11","v":17159.82},3981572.09]
[10,{"$f":"паспорт!S21","v":37.79333115},{"$f":"Лист1!C12","v":1111066.1299999999},{"$f":"Лист1!AL12","v":1155.8499999999999},{"$f":"Лист1!AG12","v":0},{"$f":"Лист1!AB12","v":1158325.75},{"$f":"Лист1!E12","v":433105.09},{"$f":"Лист1!AR12","v":1266380.5},{"$f":"Лист1!G12","v":65989.14},{"$f":"Лист1!U12","v":28931.25},{"$f":"Лист1!O12","v":53998.11},{"$f":"Лист1!M12","v":10515.35},{"$f":"Лист1!K12","v":8296.36},{"$f":"Лист1!Q12","v":2540.9299999999998},{"$f":"Лист1!I12","v":29398.95},{"$f":"Лист1!W12","v":2292.73},{"$f":"Лист1!S12","v":17130.259999999998},4189126.4]
[11,{"$f":"паспорт!S22","v":37.695018769999997},{"$f":"Лист1!C13","v":1114095.1299999999},{"$f":"Лист1!AL13","v":758.12},{"$f":"Лист1!AG13","v":0},{"$f":"Лист1!AB13","v":1230975.5},{"$f":"Лист1!E13","v":402761.56},{"$f":"Лист1!AR13","v":1226587.5},{"$f":"Лист1!G13","v":64339.38},{"$f":"Лист1!U13","v":28336.67},{"$f":"Лист1!O13","v":52056.86},{"$f":"Лист1!M13","v":10186.780000000001},{"$f":"Лист1!K13","v":8113.26},{"$f":"Лист1!Q13","v":2518.89},{"$f":"Лист1!I13","v":28761.25},{"$f":"Лист1!W13","v":2242.59},{"$f":"Лист1!S13","v":16678.46},4188411.9499999993]
[12,{"$f":"паспорт!S23","v":37.712345120000002},{"$f":"Лист1!C14","v":1099008.1299999999},{"$f":"Лист1!AL14","v":692.61},{"$f":"Лист1!AG14","v":0},{"$f":"Лист1!AB14","v":1232752.8799999999},{"$f":"Лист1!E14","v":372612.75},{"$f":"Лист1!AR14","v":1198165.6299999999},{"$f":"Лист1!G14","v":61259.12},{"$f":"Лист1!U14","v":26619.69},{"$f":"Лист1!O14","v":48274.43},{"$f":"Лист1!M14","v":9559.1},{"$f":"Лист1!K14","v":7601.46},{"$f":"Лист1!Q14","v":2395.71},{"$f":"Лист1!I14","v":27092.13},{"$f":"Лист1!W14","v":2066.1},{"$f":"Лист1!S14","v":15897.45},4103997.1900000004]
[13,{"$f":"паспорт!S24","v":37.659248349999999},{"$f":"Лист1!C15","v":1068082.5},{"$f":"Лист1!AL15","v":1027.68},{"$f":"Лист1!AG15","v":0},{"$f":"Лист1!AB15","v":1120937},{"$f":"Лист1!E15","v":343533.84},{"$f":"Лист1!AR15","v":1168443.3799999999},{"$f":"Лист1!G15","v":57828.52},{"$f":"Лист1!U15","v":25392.49},{"$f":"Лист1!O15","v":46264.38},{"$f":"Лист1!M15","v":9382.9599999999991},{"$f":"Лист1!K15","v":7217.81},{"$f":"Лист1!Q15","v":2255.64},{"$f":"Лист1!I15","v":25544.18},{"$f":"Лист1!W15","v":1984.59},{"$f":"Лист1!S15","v":15025.32},3892920.2899999996]
[14,{"$f":"паспорт!S25","v":37.515800480000003},{"$f":"Лист1!C16","v":1056439.5},{"$f":"Лист1!AL16","v":1090.06},{"$f":"Лист1!AG16","v":0},{"$f":"Лист1!AB16","v":1180773.6299999999},{"$f":"Лист1!E16","v":368499.72},{"$f":"Лист1!AR16","v":1209915.25},{"$f":"Лист1!G16","v":59901.78},{"$f":"Лист1!U16","v":25562.12},{"$f":"Лист1!O16","v":48317.58},{"$f":"Лист1!M16","v":9580.0300000000007},{"$f":"Лист1!K16","v":7626.02},{"$f":"Лист1!Q16","v":2266.1799999999998},{"$f":"Лист1!I16","v":26661.79},{"$f":"Лист1!W16","v":2062.0700000000002},{"$f":"Лист1!S16","v":15593.08},4014288.81]
[15,{"$f":"паспорт!S26","v":37.632656099999998},{"$f":"Лист1!C17","v":1040600.19},{"$f":"Лист1!AL17","v":1019.11},{"$f":"Лист1!AG17","v":0},{"$f":"Лист1!AB17","v":1197196.3799999999},{"$f":"Лист1!E17","v":307688.69},{"$f":"Лист1!AR17","v":1137146.3799999999},{"$f":"Лист1!G17","v":56048.27},{"$f":"Лист1!U17","v":24690.05},{"$f":"Лист1!O17","v":45383.87},{"$f":"Лист1!M17","v":9008.06},{"$f":"Лист1!K17","v":7123.2},{"$f":"Лист1!Q17","v":2167.79},{"$f":"Лист1!I17","v":25147.439999999999},{"$f":"Лист1!W17","v":1916.21},{"$f":"Лист1!S17","v":14393.02},3869528.6599999997]
[16,{"$f":"паспорт!S27","v":37.835441590000002},{"$f":"Лист1!C18","v":1014819.75},{"$f":"Лист1!AL18","v":1245.27},{"$f":"Лист1!AG18","v":0},{"$f":"Лист1!AB18","v":1288462.5},{"$f":"Лист1!E18","v":349481.13},{"$f":"Лист1!AR18","v":1170255.3799999999},{"$f":"Лист1!G18","v":57190.66},{"$f":"Лист1!U18","v":24645.81},{"$f":"Лист1!O18","v":45078.02},{"$f":"Лист1!M18","v":9208.6299999999992},{"$f":"Лист1!K18","v":7107.88},{"$f":"Лист1!Q18","v":2161.54},{"$f":"Лист1!I18","v":25477.51},{"$f":"Лист1!W18","v":1869.82},{"$f":"Лист1!S18","v":14855.75},4011859.6499999994]
[17,{"$f":"паспорт!S28","v":37.765441889999998},{"$f":"Лист1!C19","v":1009355.63},{"$f":"Лист1!AL19","v":1006.49},{"$f":"Лист1!AG19","v":0},{"$f":"Лист1!AB19","v":1303112.25},{"$f":"Лист1!E19","v":343943.78},{"$f":"Лист1!AR19","v":1171909.75},{"$f":"Лист1!G19","v":56562.9},{"$f":"Лист1!U19","v":24746.66},{"$f":"Лист1!O19","v":44735.360000000001},{"$f":"Лист1!M19","v":9081.36},{"$f":"Лист1!K19","v":7083.34},{"$f":"Лист1!Q19","v":2141.56},{"$f":"Лист1!I19","v":25277.81},{"$f":"Лист1!W19","v":1882.48},{"$f":"Лист1!S19","v":14603.84},4015443.21]
[18,{"$f":"паспорт!S29","v":37.493431090000001},{"$f":"Лист1!C20","v":993356.19},{"$f":"Лист1!AL20","v":733.35},{"$f":"Лист1!AG20","v":0},{"$f":"Лист1!AB20","v":1106082.25},{"$f":"Лист1!E20","v":301818.44},{"$f":"Лист1!AR20","v":1137556.5},{"$f":"Лист1!G20","v":53741.05},{"$f":"Лист1!U20","v":23447.200000000001},{"$f":"Лист1!O20","v":42220.69},{"$f":"Лист1!M20","v":8377.7000000000007},{"$f":"Лист1!K20","v":6638.29},{"$f":"Лист1!Q20","v":2058},{"$f":"Лист1!I20","v":23931.39},{"$f":"Лист1!W20","v":1806.65},{"$f":"Лист1!S20","v":13372},3715139.7]
[19,{"$f":"паспорт!S30","v":37.689399999999999},{"$f":"Лист1!C21","v":987988.44},{"$f":"Лист1!AL21","v":656.66},{"$f":"Лист1!AG21","v":0},{"$f":"Лист1!AB21","v":1053695.5},{"$f":"Лист1!E21","v":249793.36},{"$f":"Лист1!AR21","v":1184486.3799999999},{"$f":"Лист1!G21","v":49851.55},{"$f":"Лист1!U21","v":21947.52},{"$f":"Лист1!O21","v":39500.120000000003},{"$f":"Лист1!M21","v":7951.91},{"$f":"Лист1!K21","v":6263.32},{"$f":"Лист1!Q21","v":1943.74},{"$f":"Лист1!I21","v":22586.799999999999},{"$f":"Лист1!W21","v":1705.81},{"$f":"Лист1!S21","v":12726},3641097.11]
[20,{"$f":"паспорт!S31","v":37.689399999999999},{"$f":"Лист1!C22","v":832255.31},{"$f":"Лист1!AL22","v":880.77},{"$f":"Лист1!AG22","v":0},{"$f":"Лист1!AB22","v":1029317.63},{"$f":"Лист1!E22","v":289177.25},{"$f":"Лист1!AR22","v":1082392.75},{"$f":"Лист1!G22","v":43849.3},{"$f":"Лист1!U22","v":20466.25},{"$f":"Лист1!O22","v":36442.699999999997},{"$f":"Лист1!M22","v":7274.65},{"$f":"Лист1!K22","v":5708.8},{"$f":"Лист1!Q22","v":1715.85},{"$f":"Лист1!I22","v":19885.54},{"$f":"Лист1!W22","v":1605.5},{"$f":"Лист1!S22","v":12368.27},3383340.57]
[21,{"$f":"паспорт!S32","v":37.689399999999999},{"$f":"Лист1!C23","v":818456.56},{"$f":"Лист1!AL23","v":702.7},{"$f":"Лист1!AG23","v":0},{"$f":"Лист1!AB23","v":1038713.13},{"$f":"Лист1!E23","v":315139.21999999997},{"$f":"Лист1!AR23","v":744555.13},{"$f":"Лист1!G23","v":45072.1},{"$f":"Лист1!U23","v":20810.89},{"$f":"Лист1!O23","v":36912.54},{"$f":"Лист1!M23","v":7151.77},{"$f":"Лист1!K23","v":5821.85},{"$f":"Лист1!Q23","v":1806.13},{"$f":"Лист1!I23","v":20360.3},{"$f":"Лист1!W23","v":1612.77},{"$f":"Лист1!S23","v":12332.28},3069447.37]
[22,{"$f":"паспорт!S33","v":37.689399999999999},{"$f":"Лист1!C24","v":790915.88},{"$f":"Лист1!AL24","v":1303.58},{"$f":"Лист1!AG24","v":0},{"$f":"Лист1!AB24","v":972137.25},{"$f":"Лист1!E24","v":342813.72},{"$f":"Лист1!AR24","v":910317},{"$f":"Лист1!G24","v":45905.37},{"$f":"Лист1!U24","v":21166.59},{"$f":"Лист1!O24","v":37824.879999999997},{"$f":"Лист1!M24","v":7220.86},{"$f":"Лист1!K24","v":5875.1},{"$f":"Лист1!Q24","v":1798.16},{"$f":"Лист1!I24","v":20653.900000000001},{"$f":"Лист1!W24","v":1534.07},{"$f":"Лист1!S24","v":12464.98},3171931.3399999994]
[23,{"$f":"паспорт!S34","v":37.689399999999999},{"$f":"Лист1!C25","v":806941.44},{"$f":"Лист1!AL25","v":1120.95},{"$f":"Лист1!AG25","v":0},{"$f":"Лист1!AB25","v":1027499.38},{"$f":"Лист1!E25","v":326059.96999999997},{"$f":"Лист1!AR25","v":1060479.6299999999},{"$f":"Лист1!G25","v":46836.26},{"$f":"Лист1!U25","v":21565.71},{"$f":"Лист1!O25","v":37570.589999999997},{"$f":"Лист1!M25","v":7461},{"$f":"Лист1!K25","v":5924.14},{"$f":"Лист1!Q25","v":1862.4},{"$f":"Лист1!I25","v":21305.34},{"$f":"Лист1!W25","v":1607.79},{"$f":"Лист1!S25","v":12584.06},3378818.6599999997]
[24,{"$f":"паспорт!S35","v":37.979137420000001},{"$f":"Лист1!C26","v":758343},{"$f":"Лист1!AL26","v":935.01},{"$f":"Лист1!AG26","v":0},{"$f":"Лист1!AB26","v":1066260.8799999999},{"$f":"Лист1!E26","v":348002.13},{"$f":"Лист1!AR26","v":1090712.25},{"$f":"Лист1!G26","v":43714.51},{"$f":"Лист1!U26","v":20931.900000000001},{"$f":"Лист1!O26","v":36029.550000000003},{"$f":"Лист1!M26","v":6731.69},{"$f":"Лист1!K26","v":5573.53},{"$f":"Лист1!Q26","v":1739.99},{"$f":"Лист1!I26","v":20015.580000000002},{"$f":"Лист1!W26","v":1598.97},{"$f":"Лист1!S26","v":11942.91},3412531.9]
[25,{"$f":"паспорт!S36","v":37.871067050000001},{"$f":"Лист1!C27","v":784522.94},{"$f":"Лист1!AL27","v":822.24},{"$f":"Лист1!AG27","v":0},{"$f":"Лист1!AB27","v":1124768.5},{"$f":"Лист1!E27","v":341293.91},{"$f":"Лист1!AR27","v":1014667.56},{"$f":"Лист1!G27","v":45055.47},{"$f":"Лист1!U27","v":21089.919999999998},{"$f":"Лист1!O27","v":36695.550000000003},{"$f":"Лист1!M27","v":6760.24},{"$f":"Лист1!K27","v":5730.85},{"$f":"Лист1!Q27","v":1786.57},{"$f":"Лист1!I27","v":20385.54},{"$f":"Лист1!W27","v":1584.43},{"$f":"Лист1!S27","v":12128.39},3417292.1100000003]
[26,{"$f":"паспорт!S37","v":37.826065059999998},{"$f":"Лист1!C28","v":786754.06},{"$f":"Лист1!AL28","v":610.52},{"$f":"Лист1!AG28","v":0},{"$f":"Лист1!AB28","v":1023781.44},{"$f":"Лист1!E28","v":345696.81},{"$f":"Лист1!AR28","v":904097.13},{"$f":"Лист1!G28","v":46153.91},{"$f":"Лист1!U28","v":20862.41},{"$f":"Лист1!O28","v":37498.6},{"$f":"Лист1!M28","v":7040.52},{"$f":"Лист1!K28","v":5741.73},{"$f":"Лист1!Q28","v":1802.11},{"$f":"Лист1!I28","v":20796.37},{"$f":"Лист1!W28","v":1560.44},{"$f":"Лист1!S28","v":12113.64},3214509.6900000004]
[27,{"$f":"паспорт!S38","v":37.897094729999999},{"$f":"Лист1!C29","v":760273.31},{"$f":"Лист1!AL29","v":1092.22},{"$f":"Лист1!AG29","v":0},{"$f":"Лист1!AB29","v":922508.25},{"$f":"Лист1!E29","v":355665.03},{"$f":"Лист1!AR29","v":890539.81},{"$f":"Лист1!G29","v":46012.53},{"$f":"Лист1!U29","v":20768.5},{"$f":"Лист1!O29","v":36632.57},{"$f":"Лист1!M29","v":7144.26},{"$f":"Лист1!K29","v":5700.36},{"$f":"Лист1!Q29","v":1801.1},{"$f":"Лист1!I29","v":20396.330000000002},{"$f":"Лист1!W29","v":1530.59},{"$f":"Лист1!S29","v":12077.52},3082142.3799999994]
[28,{"$f":"паспорт!S39","v":37.899600980000002},{"$f":"Лист1!C30","v":692351.31},{"$f":"Лист1!AL30","v":1283.08},{"$f":"Лист1!AG30","v":0},{"$f":"Лист1!AB30","v":963702.13},{"$f":"Лист1!E30","v":363529.84},{"$f":"Лист1!AR30","v":875693.25},{"$f":"Лист1!G30","v":41221.1},{"$f":"Лист1!U30","v":18514.09},{"$f":"Лист1!O30","v":32898.410000000003},{"$f":"Лист1!M30","v":6176.42},{"$f":"Лист1!K30","v":5107.1499999999996},{"$f":"Лист1!Q30","v":1626.35},{"$f":"Лист1!I30","v":18098.93},{"$f":"Лист1!W30","v":1370.65},{"$f":"Лист1!S30","v":11223.23},3032795.9400000004]
[29,37.957500000000003,104484.13,2550.58,172597.3,6731.51,28282.91,71078.45,16478.54,0,2663.42,null,null,null,null,null,34255.96,439122.8]
[30,37.96,93755.22,2251.65,156928.03,6054.5,26299.84,60324.38,15516.28,0,2593.8200000000002,null,null,null,null,null,30650.76,394374.48000000004]
[31,37.957500000000003,92050.880000000005,3124.98,157999.45000000001,6122.1,23698.82,60708.33,14948.5,0,3269.38,null,null,null,null,null,2593.8200000000002,364516.26]
["Загальний обсяг газу, м3",null,{"$f":"SUM(C7:C34)","v":27037692.229999993},{"$f":"SUM(D7:D34)","v":26672.090000000004},0,30430862.999999996,9653911.2999999989,30585596.189999986,1512888.1600000004,673378.08,1222161.57,{"$f":"SUM(L7:L34)","v":239511.71},190547.85000000003,58849.439999999988,680567.97,51511.969999999994,397436.29000000004,{"$f":"SUM(R7:R34)","v":102761587.84999998}]
["Енергія, МДж",null,{"$f":"SUMPRODUCT(B7:B34,C7:C34)","v":1020338277.9447899},{"$f":"SUMPRODUCT(B7:B34,D7:D34)","v":1006795.9336582818},{"$f":"SUMPRODUCT(B7:B34,E7:E34)","v":0},{"$f":"SUMPRODUCT(B7:B34,F7:F34)","v":1148457951.5291464},{"$f":"SUMPRODUCT(B7:B34,G7:G34)","v":364415122.14349622},{"$f":"SUMPRODUCT(B7:B34,H7:H34)","v":1154305282.5642085},{"$f":"SUMPRODUCT(B7:B34,I7:I34)","v":57096567.832747102},{"$f":"SUMPRODUCT(B7:B34,J7:J34)","v":25413925.317935441},{"$f":"SUMPRODUCT(B7:B34,K7:K34)","v":46124500.415993266},{"$f":"SUMPRODUCT(B7:B34,L7:L34)","v":9039015.1266801208},{"$f":"SUMPRODUCT(B7:B34,M7:M34)","v":7191266.4525400028},{"$f":"SUMPRODUCT(B7:B34,N7:N34)","v":2221018.8376259794},{"$f":"SUMPRODUCT(B7:B34,O7:O34)","v":25684709.921784058},{"$f":"SUMPRODUCT(B7:B34,P7:P34)","v":1944067.9978379202},{"$f":"SUMPRODUCT(B7:B34,Q7:Q34)","v":14999631.648204111},{"$f":"SUMPRODUCT(B7:B34,R7:R34)","v":3878238133.6666474}]
["Теплота згоряння (середньозважене значення за місяць), МДж/м³",null,{"$f":"C39/C38","v":37.737624545214011},{"$f":"D39/D38","v":37.747170681348244},{"$f":"E39/E38","v":{"$error":"#DIV/0!"}},{"$f":"F39/F38","v":37.739907393659742},37.747925252171754,37.740159629178997,37.740111491616858,37.7409453511398,37.740100448415561,{"$f":"L39/L38","v":37.739345298315982},37.739950634656864,37.740696217771657,37.740109811197932,37.740121331758822,37.740971384883117,37.740153833820386]
["Теплота згоряння (середньозважене значення за місяць), ккал/м³",null,{"$f":"C40*238.8459","v":9013.4768983637314},{"$f":"D40*238.8459","v":9015.7569538402349},{"$error":"#DIV/0!"},9014.0221473553156,9015.9371799876899,9014.0823927749243,9014.0708953155718,9014.2700592438014,9014.068257692219,{"$f":"L40*238.8459","v":9013.8878931870495},9014.0324752901906,9014.2105547602678,9014.0704939543994,9014.0732455931338,9014.2762772966544,9014.081008577281]
["Теплота згоряння (середньозважене значення за місяць), кВт*год./м³",null,{"$f":"C40/3.6","v":10.482673484781669},{"$f":"D40/3.6","v":10.485325189263401},{"$error":"#DIV/0!"},10.483307609349929,10.485534792269931,10.483377674771944,10.483364303226905,10.483595930872166,10.483361235670989,{"$f":"L40/3.6","v":10.483151471754439},10.483319620738017,10.483526727158793,10.483363836443869,10.483367036599672,10.483603162467533,10.483376064950107]

{"sheet":"додаток","index":2,"n_rows":30,"n_cols":6,"rows_kept":30,"cut":false,"hidden":false,"merged":[[0,0,0,1],[20,0,20,1],[3,2,3,4],[3,1,4,1],[3,0,4,0],[5,0,18,0]]}
[]
["Додаток до Паспорту фізико-хімічних показників природного газу № 677"]
[]
["Область","ГРС, прямий споживач","Cередньозважене значення вищої теплоти згоряння"]
[null,null," МДж/м³","ккал/м³","кВт*год./м³"]
["Донецька область",{"$f":"' розрахунок'!C6","v":"ГРС 1 м. Маріуполь"},{"$f":"' розрахунок'!C40","v":37.737624545214011},{"$f":"' розрахунок'!C41","v":9013.4768983637314},{"$f":"' розрахунок'!C42","v":10.482673484781669}]
[null,{"$f":"' розрахунок'!D6","v":"АГНКС м.Маріуполь"},{"$f":"' розрахунок'!D40","v":37.747170681348244},{"$f":"' розрахунок'!D41","v":9015.7569538402349},{"$f":"' розрахунок'!D42","v":10.485325189263401}]
[null,{"$f":"' розрахунок'!E6","v":"ПрАТ ММК ім. Ілліча"},{"$f":"' розрахунок'!E40","v":{"$error":"#DIV/0!"}},{"$f":"' розрахунок'!E41","v":{"$error":"#DIV/0!"}},{"$f":"' розрахунок'!E42","v":{"$error":"#DIV/0!"}}]
[null,{"$f":"' розрахунок'!F6","v":"ПрАТ \"МК \"АЗОВСТАЛЬ\""},{"$f":"' розрахунок'!F40","v":37.739907393659742},{"$f":"' розрахунок'!F41","v":9014.0221473553156},{"$f":"' розрахунок'!F42","v":10.483307609349929}]
[null,{"$f":"' розрахунок'!G6","v":"ГРС 2 м.Маріуполь"},{"$f":"' розрахунок'!G40","v":37.747925252171754},{"$f":"' розрахунок'!G41","v":9015.9371799876899},{"$f":"' розрахунок'!G42","v":10.485534792269931}]
[null,{"$f":"' розрахунок'!H6","v":"ПрАТ ММК ім. Ілліча"},{"$f":"' розрахунок'!H40","v":37.740159629178997},{"$f":"' розрахунок'!H41","v":9014.0823927749243},{"$f":"' розрахунок'!H42","v":10.483377674771944}]
[null,{"$f":"' розрахунок'!I6","v":"ГРС смт.Володарське"},{"$f":"' розрахунок'!I40","v":37.740111491616858},{"$f":"' розрахунок'!I41","v":9014.0708953155718},{"$f":"' розрахунок'!I42","v":10.483364303226905}]
[null,{"$f":"' розрахунок'!J6","v":"ГРС смт. Ялта"},{"$f":"' розрахунок'!J40","v":37.7409453511398},{"$f":"' розрахунок'!J41","v":9014.2700592438014},{"$f":"' розрахунок'!J42","v":10.483595930872166}]
[null,{"$f":"' розрахунок'!K6","v":"ГРС смт. Мангуш"},{"$f":"' розрахунок'!K40","v":37.740100448415561},{"$f":"' розрахунок'!K41","v":9014.068257692219},{"$f":"' розрахунок'!K42","v":10.483361235670989}]
[null,{"$f":"' розрахунок'!L6","v":"ГРС с. Малинівка"},{"$f":"' розрахунок'!L40","v":37.739345298315982},{"$f":"' розрахунок'!L41","v":9013.8878931870495},{"$f":"' розрахунок'!L42","v":10.483151471754439}]
[null,{"$f":"' розрахунок'!M6","v":"ГРС р-п Дзержинського"},{"$f":"' розрахунок'!M40","v":37.739950634656864},{"$f":"' розрахунок'!M41","v":9014.0324752901906},{"$f":"' розрахунок'!M42","v":10.483319620738017}]
[null,{"$f":"' розрахунок'!N6","v":"ГРС Первомайське ПТФ"},{"$f":"' розрахунок'!N40","v":37.740696217771657},{"$f":"' розрахунок'!N41","v":9014.2105547602678},{"$f":"' розрахунок'!N42","v":10.483526727158793}]
[null,{"$f":"' розрахунок'!O6","v":"ГРС р-п Маріупольский"},{"$f":"' розрахунок'!O40","v":37.740109811197932},{"$f":"' розрахунок'!O41","v":9014.0704939543994},{"$f":"' розрахунок'!O42","v":10.483363836443869}]
[null,{"$f":"' розрахунок'!P6","v":"ГРП Юр'ївка"},{"$f":"' розрахунок'!P40","v":37.740121331758822},{"$f":"' розрахунок'!P41","v":9014.0732455931338},{"$f":"' розрахунок'!P42","v":10.483367036599672}]
["Запорізька область",{"$f":"' розрахунок'!Q6","v":"ГРС с. Червоне Поле"},{"$f":"' розрахунок'!Q40","v":37.740971384883117},{"$f":"' розрахунок'!Q41","v":9014.2762772966544},{"$f":"' розрахунок'!Q42","v":10.483603162467533}]
["Середньозважене значення вищої теплоти згоряння по маршруту № 677",null,{"$f":"AVERAGE(C9:C20)","v":37.740862020397252},{"$f":"AVERAGE(D9:D20)","v":9014.2501560376004},10.483572783443682]
[]
[]
[]
["Начальник управління Северодонецького ЛВУМГ                                  Головко Ю.О.                                                                                       "]
["Підрозділу підприємства, якому підпорядкована лабораторія",null,null,"прізвище","підпис","дата"]
["Інженер ІІ кат. ВХАЛ                                                                                        Єрьоменко М.О.                                                                                                       "]
["Лабораторія, де здійснювалось вимірювання газу",null,null,"прізвище","підпис","дата"]
["Начальник служби метрології                                                                        Левкович А.М."]
["Підрозділу, відповідального за облік газу за маршрутом",null,null,"прізвище","підпис","дата"]

{"sheet":"variablesList","index":3,"n_rows":3,"n_cols":4,"rows_kept":3,"cut":false,"hidden":true,"merged":[]}
[3,"x:\\gaysin","10, 11, 24, 25, 127, 128, 132, 180, 207, 215","x:\\"]
[null,"x:\\Illinci"]
[null,"x:\\Talne"]

{"sheet":"Лист1","index":4,"n_rows":31,"n_cols":44,"rows_kept":31,"cut":false,"hidden":false,"merged":[]}
[" подобъектов объекта ПАО МАРИУПОЛЬГАЗ (осн.) за 2/17.",null,null,null,null,null,null,null,null,null,null,null,null,null,null,null,null,null,null,null,null,null,null,null,null," подобъектов объекта ГРС-1 г.Мариуполь(2) (осн.) за 2/17.",null,null,null,null," подобъектов объекта ГРС 1 г.Мариуполь (4) (осн.) за 2/17.",null,null,null,null," подобъектов объекта ГРС-1 г.Мариуполь(3) (осн.) за 2/17.",null,null,null,null,null," подобъектов объекта к-т Ильича (осн.) за 2/17."]
["День",null,"БЫТ",null,"БЫТ(2)",null,"Володарское",null,"Мариупольский",null,"Дзержинского",null,"Малиновка",null,"Мангуш",null,"ПТФ",null,"Урзуф",null,"Ялта",null,"Юрьевка",null,"ПАО МАРИУПОЛЬГАЗ","День",null,"к-т Азовсталь",null,"ГРС-1 г.Мариуполь(2)","День",null,"к-т Ильича",null,"ГРС 1 г.Мариуполь (4)","День",null,"АГНКС",null,"ГРС-1 г.Мариуполь(3)",null,"День",null,"к-т Ильича"]
[1," B",1136359.25," B",383507.97," B",64677.05," B",29099.13," B",8083.18," B",10374.91,null,51891.45," B",2486.17," B",17001.080000000002," B",27807.37," B",2170.7399999999998," B",1733458.29,1," B",988443.63," B",988443.63,1,null,0,null,0,1,"AB",537.44000000000005,"AB",537.44000000000005,null,1," B",1131636.6299999999]
[2," B",1065194.1299999999," B",349904.84,"AB",59051.09," B",26840.43," B",7407.66," B",9381.2099999999991,null,47618.02," B",2315.81," B",15395.14," B",25854.32," B",2029.73,"AB",1610992.38,2," B",1055508," B",1055508,2,null,0,null,0,2,"AB",881.04,"AB",881.04,null,2," B",1121541.1299999999]
[3," B",1006612.38," B",348747," B",56499.47," B",25424.93," B",7113.63," B",9149.59,null,45080.84," B",2249.54," B",14930.08," B",24934.71," B",1947.51," B",1542689.67,3," B",967628.88," B",967628.88,3,null,0,null,0,3,"AB",761.57,"AB",761.57,null,3," B",1110917.6299999999]
[4," B",1048828.3799999999," B",269882.65999999997," B",52879.79," B",23829.279999999999," B",6646.92," B",8248.5499999999993,null,42074.61," B",2121.9299999999998," B",13508.08," B",23491.47," B",1801.55," B",1493313.21,4," B",1024919.5," B",1024919.5,4," B",0," B",0,4,"AB",935.37,"AB",935.37,null,4," B",1109086.5]
[5," B",997339.81,"AB",245009.34," B",49145.4," B",22627.31," B",6126.33," B",7843.47,null,39604.68," B",1923.29," B",12827.2," B",21956.79," B",1713.57,"AB",1406117.2,5," B",1133683.5," B",1133683.5,5,null,0,null,0,5,"AB",658.53,"AB",658.53,null,5," B",1109085.8799999999]
[6," B",1006922.25," B",280768.63," B",51136.61," B",23561.82," B",6446.27," B",8146.06,null,42137.21," B",2003.51," B",13475.52," B",22747.3," B",1682.16," B",1459027.34,6," B",1132727.25," B",1132727.25,6,null,0,null,0,6,"AB",962.88,"AB",962.88,null,6," B",1073999.1299999999]
[7," B",1048331.75," B",405426.25," B",61493.13," B",27854.87," B",7804.29," B",9758.5499999999993,null,50467.91," B",2309.31," B",16097.05," B",27186.94," B",1957.42," B",1658687.49,7," B",1004811," B",1004811,7,null,0,null,0,7,"AB",1547.01,"AB",1547.01,null,7," B",1168156.25]
[8," B",1098478.25," B",436440.28," B",65991.88," B",29796.720000000001," B",8434.3799999999992," B",10286.31,null,54927.11," B",2490.77," B",17531.86," B",29732.31," B",2164.33," B",1756274.19,8," B",1089054.6299999999," B",1089054.6299999999,8," B",0," B",0,8,"AB",1266.17,"AB",1266.17,null,8," B",1086083.5]
[9," B",1104000.6299999999," B",433608.09," B",65480.82," B",29756.400000000001," B",8230.74," B",10509.77,null,54024.93," B",2560.4699999999998," B",17159.82," B",29171.15," B",2210.6999999999998," B",1756713.52,9," B",993084.38," B",993084.38,9,null,0,null,0,9,"AB",985.81,"AB",985.81,null,9," B",1230788.3799999999]
[10," B",1111066.1299999999," B",433105.09,"AB",65989.14," B",29398.95," B",8296.36," B",10515.35,null,53998.11," B",2540.9299999999998," B",17130.259999999998," B",28931.25," B",2292.73,"AB",1763264.3,10," B",1158325.75," B",1158325.75,10,null,0,null,0,10,"AB",1155.8499999999999,"AB",1155.8499999999999,null,10," B",1266380.5]
[11," B",1114095.1299999999," B",402761.56," B",64339.38," B",28761.25," B",8113.26," B",10186.780000000001,null,52056.86," B",2518.89," B",16678.46," B",28336.67," B",2242.59," B",1730090.83,11," B",1230975.5," B",1230975.5,11,null,0,null,0,11,"AB",758.12,"AB",758.12,null,11," B",1226587.5]
[12," B",1099008.1299999999," B",372612.75," B",61259.12," B",27092.13," B",7601.46," B",9559.1,null,48274.43," B",2395.71," B",15897.45," B",26619.69," B",2066.1," B",1672386.06,12," B",1232752.8799999999," B",1232752.8799999999,12,null,0,null,0,12,"AB",692.61,"AB",692.61,null,12," B",1198165.6299999999]
[13,null,1068082.5,null,343533.84," B",57828.52,null,25544.18,null,7217.81,null,9382.9599999999991,null,46264.38,null,2255.64,null,15025.32,null,25392.49,null,1984.59," B",1602512.23,13,null,1120937,null,1120937,13,null,0,null,0,13,"A",1027.68,"A",1027.68,null,13,null,1168443.3799999999]
[14," B",1056439.5," B",368499.72," B",59901.78," B",26661.79," B",7626.02," B",9580.0300000000007,null,48317.58,"AB",2266.1799999999998," B",15593.08," B",25562.12," B",2062.0700000000002,"AB",1622509.87,14," B",1180773.6299999999," B",1180773.6299999999,14,null,0,null,0,14,"AB",1090.06,"AB",1090.06,null,14," B",1209915.25]
[15," B",1040600.19," B",307688.69," B",56048.27," B",25147.439999999999," B",7123.2," B",9008.06,null,45383.87," B",2167.79," B",14393.02," B",24690.05," B",1916.21," B",1534166.8,15," B",1197196.3799999999," B",1197196.3799999999,15,null,0,null,0,15,"AB",1019.11,"AB",1019.11,null,15," B",1137146.3799999999]
[16," B",1014819.75,"ABC",349481.13," B",57190.66," B",25477.51," B",7107.88," B",9208.6299999999992,null,45078.02," B",2161.54," B",14855.75," B",24645.81," B",1869.82,"ABC",1551896.5,16," B",1288462.5," B",1288462.5,16," B",0," B",0,16,"AB",1245.27,"AB",1245.27,null,16," B",1170255.3799999999]
[17," B",1009355.63," B",343943.78," B",56562.9," B",25277.81," B",7083.34," B",9081.36,null,44735.360000000001," B",2141.56," B",14603.84," B",24746.66," B",1882.48," B",1539414.73,17," B",1303112.25," B",1303112.25,17,null,0,null,0,17,"AB",1006.49,"AB",1006.49,null,17," B",1171909.75]
[18," B",993356.19," B",301818.44," B",53741.05," B",23931.39," B",6638.29," B",8377.7000000000007,null,42220.69," B",2058," B",13372," B",23447.200000000001," B",1806.65," B",1470767.59,18," B",1106082.25," B",1106082.25,18,null,0,null,0,18,"AB",733.35,"AB",733.35,null,18," B",1137556.5]
[19," B",987988.44," B",249793.36," B",49851.55," B",22586.799999999999," B",6263.32," B",7951.91,null,39500.120000000003," B",1943.74," B",12726," B",21947.52," B",1705.81," B",1402258.57,19," B",1053695.5," B",1053695.5,19,null,0,null,0,19,"AB",656.66,"AB",656.66,null,19," B",1184486.3799999999]
[20,"A",832255.31,null,289177.25,null,43849.3,null,19885.54,null,5708.8,null,7274.65,null,36442.699999999997,null,1715.85,null,12368.27,null,20466.25,null,1605.5,"A",1270749.44,20,null,1029317.63,null,1029317.63,20,null,0,null,0,20,"A",880.77,"A",880.77,null,20,null,1082392.75]
[21,null,818456.56,null,315139.21999999997,null,45072.1,null,20360.3,null,5821.85,"A C",7151.77,null,36912.54,"A",1806.13,null,12332.28,null,20810.89,null,1612.77,"A C",1285476.3999999999,21,null,1038713.13,null,1038713.13,21,null,0,null,0,21,"A",702.7,"A",702.7,null,21,null,744555.13]
[22,null,790915.88,null,342813.72,null,45905.37,null,20653.900000000001,null,5875.1,null,7220.86,null,37824.879999999997,null,1798.16,null,12464.98,null,21166.59,null,1534.07,null,1288173.53,22,null,972137.25,null,972137.25,"Итого"," B",0," B",0,22,"A",1303.58,"A",1303.58,null,22,null,910317]
[23,null,806941.44,"A",326059.96999999997,null,46836.26,null,21305.34,null,5924.14,null,7461,null,37570.589999999997,null,1862.4,null,12584.06,null,21565.71,null,1607.79,"A",1289718.69,23,null,1027499.38,null,1027499.38,null,null,null,null,null,23,"A",1120.95,"A",1120.95,null,23,null,1060479.6299999999]
[24," B",758343," B",348002.13,"AB",43714.51," B",20015.580000000002," B",5573.53," B",6731.69,null,36029.550000000003," B",1739.99," B",11942.91," B",20931.900000000001," B",1598.97,"AB",1254623.76,24," B",1066260.8799999999," B",1066260.8799999999,null,null,null,null,null,24,"AB",935.01,"AB",935.01,null,24," B",1090712.25]
[25," B",784522.94," B",341293.91,"AB",45055.47," B",20385.54," B",5730.85," B",6760.24,null,36695.550000000003," B",1786.57," B",12128.39," B",21089.919999999998," B",1584.43,"AB",1277033.81,25," B",1124768.5," B",1124768.5,null,null,null,null,null,25,"AB",822.24,"AB",822.24,null,25," B",1014667.56]
[26," B",786754.06," B",345696.81,"AB",46153.91," B",20796.37," B",5741.73," B",7040.52,null,37498.6," B",1802.11," B",12113.64," B",20862.41," B",1560.44,"AB",1286020.6000000001,26," B",1023781.44," B",1023781.44,null,null,null,null,null,26,"AB",610.52,"AB",610.52,null,26," B",904097.13]
[27," B",760273.31," B",355665.03,"AB",46012.53," B",20396.330000000002," B",5700.36," B",7144.26,null,36632.57," B",1801.1," B",12077.52," B",20768.5," B",1530.59,"AB",1268002.1100000001,27," B",922508.25," B",922508.25,null,null,null,null,null,27,"AB",1092.22,"AB",1092.22,null,27,"AB",890539.81]
[28," B",692351.31,"ABC",363529.84,"AB",41221.1," B",18098.93," B",5107.1499999999996," B",6176.42,null,32898.410000000003," B",1626.35," B",11223.23," B",18514.09," B",1370.65,"ABC",1192117.47,28," B",963702.13," B",963702.13,null,null,null,null,null,28,"AB",1283.08,"AB",1283.08,null,28,"ABC",875693.25]
["Итого","AB",27037692.190000001,"ABC","9653911,30*","AB",1512888.15," B",680567.96," B",190547.85,"ABC","239511,69*",null,1222161.6000000001,"AB",58849.42," B",397436.32," B",673378.11," B",51511.97,"ABC","41718456,56*","Итого"," B",30430862.940000001," B",30430862.940000001,null,null,null,null,null,"Итого","AB",26672.09,"AB",26672.09,null,"Итого","ABC","30585596,13*"]