{"text_format":"1","workbook":"xlsx","n_sheets":5,"sheets":["паспорт"," розрахунок","додаток","variablesList","Лист1"],"not_rendered":{"charts":0,"images":0,"macros":1,"external_links":0,"defined_names":3,"comments":0,"pivot_tables":0},"unopened":[],"bounds":{"document_bytes":16777216,"sheet_cells":100000,"rows_first":2000,"rows_last":500,"rows_between":2000,"halvings":0,"cell_chars":16384,"cell_head_chars":4096},"cells_cut":0,"cells_raw":0,"read":"whole","date_system":"1900"}

{"sheet":"паспорт","index":0,"n_rows":51,"n_cols":31,"rows_kept":51,"cut":false,"hidden":false,"merged":[[4,7,4,20],[6,0,9,0],[8,1,9,1],[8,2,9,2],[8,5,9,5],[8,6,9,6],[8,4,9,4],[49,1,49,26],[8,11,9,11],[41,18,42,18],[41,19,42,19],[41,14,42,14],[42,7,42,13],[41,15,42,15],[41,16,42,16],[41,17,42,17],[8,9,9,9],[8,10,9,10],[6,25,9,25],[45,1,45,26],[41,0,41,13],[8,3,9,3],[47,1,47,26],[43,20,43,27],[42,20,42,27],[41,20,41,27],[6,27,9,27],[8,8,9,8],[6,26,9,26],[6,24,9,24],[6,23,9,23],[0,6,0,24],[0,25,0,27],[4,23,4,24],[8,12,9,12],[4,21,4,22],[8,14,8,16],[8,17,8,19],[8,20,8,22],[7,14,7,22],[2,6,2,24],[4,26,4,27],[8,7,9,7],[6,1,7,12],[7,13,9,13],[6,13,6,22],[1,5,1,25]]}
["ПАТ \"УКРТРАНСГАЗ\"",null,null,null,null,null,"ПАСПОРТ ФІЗИКО-ХІМІЧНИХ ПОКАЗНИКІВ ПРИРОДНОГО ГАЗУ  № 679"]
["Філія \"УМГ \"ХАРКІВТРАНСГАЗ\"",null,null,null,null,"переданого Краматорським ЛВУМГ та прийнятого  ПАТ \"ДОНЕЦЬКОБЛГАЗ\", "]
["Сєвєродонецьке ЛВУМГ",null,null,null,null,null,"Маршрут № 679"]
["Вимірювальна хіміко-аналітична лабораторія"]
["Свідоцтво № РЬ089/2014 чинно до 06.06.2017 р.",null,null,null,null,null,null,"по газопроводу  \"Амвросіївка-Горловка-Слов'янськ\"",null,null,null,null,null,null,null,null,null,null,null,null,null,"за період з",null,"01.02.2017 р.",null," по","28.02.2017 р."]
[]
["Число місяця","Компонентний склад, мол. % ",null,null,null,null,null,null,null,null,null,null,null,"Фізико-хімічні показники газу обчислені на основі компонентного складу, 101,325 кПа",null,null,null,null,null,null,null,null,null,"Температура точки роси за вологою (Р = 3.92 МПа), °С","Температура точки роси за вуглеводнями, °С","Вміст сірководню, г/м3","Вміст меркаптанової сірки, г/м3","Вміст механічних домішок, г/м3"]
[null,null,null,null,null,null,null,null,null,null,null,null,null,"Густина абсолютна, кг/м3,при 20 °С, ","Температура вимірювання/згоряння при  20/25°С"]
[null,"метан, С1","етан, С2","пропан, С3","ізо-бутан, і-С4","н-бутан, н-С4","нео-пентан, нео-С5","ізо-пентан, і-С5","н-пентан, н-С5","гексани та вищі, С6+","кисень, О2","азот, N2","діоксид вуглецю, CО2",null,"Теплота згоряння нижча",null,null,"Теплота згоряння вища",null,null,"Число Воббе вище"]
[null,null,null,null,null,null,null,null,null,null,null,null,null,null," ккал/м³"," МДж/м³","кВт⋅год/м³"," ккал/м³"," МДж/м³","кВт⋅год/м³"," ккал/м³"," МДж/м³","кВт⋅год/м³",null,null,null,null,null,null,null,"  "]
[1,null,null,null,null,null,null,null,null,null,null,2.9910000000000001,0.32519999999999999,0.72,8068.2145020000007,33.78,9.3833333333333329,8940.0020370000002,37.43,10.397222222222222,11564.918478,48.42,13.45,null,null,null,null,null,{"$f":"SUM(B11:M11)+$K$42+$N$42","v":3.3162000000000003}]
[2,null,null,null,null,null,null,null,null,null,null,2.9910000000000001,0.32519999999999999,0.72,8068.2145020000007,33.78,9.3833333333333329,8940.0020370000002,37.43,10.397222222222222,11564.918478,48.42,13.45,null,null,null,null,null,3.3162000000000003]
[3,null,null,null,null,null,null,null,null,null,null,2.9910000000000001,0.32519999999999999,0.72,8068.2145020000007,33.78,9.3833333333333329,8940.0020370000002,37.43,10.397222222222222,11564.918478,48.42,13.45,null,null,null,null,null,3.3162000000000003,{"$f":"IF(AC13=100,\"ОК\",\" \")","v":" "}]
[4,null,null,null,null,null,null,null,null,null,null,2.9910000000000001,0.32519999999999999,0.72,8068.2145020000007,33.78,9.3833333333333329,8940.0020370000002,37.43,10.397222222222222,11564.918478,48.42,13.45,null,null,null,null,null,3.3162000000000003,{"$f":"IF(AC14=100,\"ОК\",\" \")","v":" "}]
[5,null,null,null,null,null,null,null,null,null,null,2.9910000000000001,0.32519999999999999,0.72,8068.2145020000007,33.78,9.3833333333333329,8940.0020370000002,37.43,10.397222222222222,11564.918478,48.42,13.45,null,null,null,null,null,3.3162000000000003," "]
[6,null,null,null,null,null,null,null,null,null,null,2.9910000000000001,0.32519999999999999,0.72,8068.2145020000007,33.78,9.3833333333333329,8940.0020370000002,37.43,10.397222222222222,11564.918478,48.42,13.45,null,null,null,null,null,3.3162000000000003," "]
[7,null,null,null,null,null,null,null,null,null,null,2.9910000000000001,0.32519999999999999,0.72,8068.2145020000007,33.78,9.3833333333333329,8940.0020370000002,37.43,10.397222222222222,11564.918478,48.42,13.45,null,null,null,null,null,3.3162000000000003," "]
[8,null,null,null,null,null,null,null,null,null,null,2.9910000000000001,0.32519999999999999,0.72,8068.2145020000007,33.78,9.3833333333333329,8940.0020370000002,37.43,10.397222222222222,11564.918478,48.42,13.45,-19.2,-17.3,2.9999999999999997E-4,4.0000000000000001E-3,"відс.",3.3162000000000003," "]
[9,null,null,null,null,null,null,null,null,null,null,2.9910000000000001,0.32519999999999999,0.72,8068.2145020000007,33.78,9.3833333333333329,8940.0020370000002,37.43,10.397222222222222,11564.918478,48.42,13.45,null,null,null,null,null,3.3162000000000003," "]
[10,null,null,null,null,null,null,null,null,null,null,2.9910000000000001,0.32519999999999999,0.72,8068.2145020000007,33.78,9.3833333333333329,8940.0020370000002,37.43,10.397222222222222,11564.918478,48.42,13.45,null,null,null,null,null,3.3162000000000003," "]
[11,null,null,null,null,null,null,null,null,null,null,2.9910000000000001,0.32519999999999999,0.72,8068.2145020000007,33.78,9.3833333333333329,8940.0020370000002,37.43,10.397222222222222,11564.918478,48.42,13.45,null,null,null,null,null,3.3162000000000003," "]
[12,null,null,null,null,null,null,null,null,null,null,2.9910000000000001,0.32519999999999999,0.72,8068.2145020000007,33.78,9.3833333333333329,8940.0020370000002,37.43,10.397222222222222,11564.918478,48.42,13.45,null,null,null,null,null,3.3162000000000003," "]
[13,null,null,null,null,null,null,null,null,null,null,2.9910000000000001,0.32519999999999999,0.72,8068.2145020000007,33.78,9.3833333333333329,8940.0020370000002,37.43,10.397222222222222,11564.918478,48.42,13.45,null,null,null,null,null,3.3162000000000003," "]
[14,null,null,null,null,null,null,null,null,null,null,2.9910000000000001,0.32519999999999999,0.72,8068.2145020000007,33.78,9.3833333333333329,8940.0020370000002,37.43,10.397222222222222,11564.918478,48.42,13.45,null,null,null,null,null,3.3162000000000003," "]
[15,null,null,null,null,null,null,null,null,null,null,2.9910000000000001,0.32519999999999999,0.72,8068.2145020000007,33.78,9.3833333333333329,8940.0020370000002,37.43,10.397222222222222,11564.918478,48.42,13.45,null,null,null,null,null,3.3162000000000003," "]
[16,null,null,null,null,null,null,null,null,null,null,2.9910000000000001,0.32519999999999999,0.72,8068.2145020000007,33.78,9.3833333333333329,8940.0020370000002,37.43,10.397222222222222,11564.918478,48.42,13.45,null,null,null,null,null,3.3162000000000003," "]
[17,null,null,null,null,null,null,null,null,null,null,2.9910000000000001,0.32519999999999999,0.72,8068.2145020000007,33.78,9.3833333333333329,8940.0020370000002,37.43,10.397222222222222,11564.918478,48.42,13.45,null,null,null,null,null,3.3162000000000003," "]
[18,null,null,null,null,null,null,null,null,null,null,2.9910000000000001,0.32519999999999999,0.72,8068.2145020000007,33.78,9.3833333333333329,8940.0020370000002,37.43,10.397222222222222,11564.918478,48.42,13.45,null,null,null,null,null,3.3162000000000003," "]
[19,null,null,null,null,null,null,null,null,null,null,2.9910000000000001,0.32519999999999999,0.72,8068.2145020000007,33.78,9.3833333333333329,8940.0020370000002,37.43,10.397222222222222,11564.918478,48.42,13.45,null,null,null,null,null,3.3162000000000003," "]
[20,null,null,null,null,null,null,null,null,null,null,2.9910000000000001,0.32519999999999999,0.72,8068.2145020000007,33.78,9.3833333333333329,8940.0020370000002,37.43,10.397222222222222,11564.918478,48.42,13.45,null,null,null,null,null,3.3162000000000003,{"$f":"IF(AC30=100,\"ОК\",\" \")","v":" "}]
[21,null,null,null,null,null,null,null,null,null,null,2.9910000000000001,0.32519999999999999,0.72,8068.2145020000007,33.78,9.3833333333333329,8940.0020370000002,37.43,10.397222222222222,11564.918478,48.42,13.45,null,null,null,null,null,3.3162000000000003," "]
[22,null,null,null,null,null,null,null,null,null,null,2.9910000000000001,0.32519999999999999,0.72,8068.2145020000007,33.78,9.3833333333333329,8940.0020370000002,37.43,10.397222222222222,11564.918478,48.42,13.45,null,null,null,null,null,3.3162000000000003," "]
[23,null,null,null,null,null,null,null,null,null,null,2.9910000000000001,0.32519999999999999,0.72,8068.2145020000007,33.78,9.3833333333333329,8940.0020370000002,37.43,10.397222222222222,11564.918478,48.42,13.45,null,null,null,null,null,3.3162000000000003,{"$f":"IF(AC33=100,\"ОК\",\" \")","v":" "}]
[24,94.242599999999996,2.8060999999999998,0.6865,7.9000000000000001E-2,9.1600000000000001E-2,2.0999999999999999E-3,2.01E-2,1.5800000000000002E-2,1.9800000000000002E-2,1.12E-2,1.708,0.31740000000000002,0.70950000000000002,8129.1918602699998,34.035299999999999,9.45425,9008.8613099699996,37.718299999999999,10.477305555555555,11738.12952468,49.145200000000003,13.651444444444445,null,null,null,null,null,100.00019999999999," "]
[25,null,null,null,null,null,null,null,null,null,null,1.708,0.31740000000000002,0.70950000000000002,8129.1918602699998,34.035299999999999,9.45425,9008.8613099699996,37.718299999999999,10.477305555555555,11738.12952468,49.145200000000003,13.651444444444445,null,null,null,null,null,2.0253999999999999," "]
[26,null,null,null,null,null,null,null,null,null,null,1.708,0.31740000000000002,0.70950000000000002,8129.1918602699998,34.035299999999999,9.45425,9008.8613099699996,37.718299999999999,10.477305555555555,11738.12952468,49.145200000000003,13.651444444444445,null,null,null,null,null,2.0253999999999999," "]
[27,null,null,null,null,null,null,null,null,null,null,1.708,0.31740000000000002,0.70950000000000002,8129.1918602699998,34.035299999999999,9.45425,9008.8613099699996,37.718299999999999,10.477305555555555,11738.12952468,49.145200000000003,13.651444444444445,null,null,null,null,null,2.0253999999999999," "]
[28,null,null,null,null,null,null,null,null,null,null,1.708,0.31740000000000002,0.70950000000000002,8129.1918602699998,34.035299999999999,9.45425,9008.8613099699996,37.718299999999999,10.477305555555555,11738.12952468,49.145200000000003,13.651444444444445,null,null,null,null,null,2.0253999999999999," "]
[29,96.188199999999995,2.0720999999999998,0.65939999999999999,0.1046,0.1031,4.1000000000000003E-3,2.0500000000000001E-2,1.4500000000000001E-2,4.7000000000000002E-3,7.6E-3,0.63660000000000005,0.1845,0.69820000000000004,{"$f":"P39*238.8459","v":8179.0151150099991},34.243899999999996,{"$f":"P39/3.6","v":9.5121944444444431},{"$f":"S39*238.8459","v":9065.9932492500011},37.957500000000003,{"$f":"S39/3.6","v":10.543750000000001},11908,49.854900000000001,{"$f":"V39/3.6","v":13.848583333333334},-20.6,-2,null,null,null,99.999899999999997," "]
[30,null,null,null,null,null,null,null,null,null,null,null,null,null,8178.0836160000008,34.24,{"$f":"P40/3.6","v":9.5111111111111111},9066.5903639999997,37.96,{"$f":"S40/3.6","v":10.544444444444444},null,null,null,null,null,null,null,null,0]
[31,null,null,null,null,null,null,null,null,null,null,null,null,null,8179.0151150099991,34.243899999999996,{"$f":"P41/3.6","v":9.5121944444444431},9065.9932492500011,37.957500000000003,{"$f":"S41/3.6","v":10.543750000000001},null,null,null,null,null,null,null,null,0," "]
["Рівень одоризації відповідає чинним нормативним документам",null,null,null,null,null,null,null,null,null,null,null,null,null,{"$f":"SUMPRODUCT(O11:O38,' розрахунок'!K7:K34)/' розрахунок'!K38","v":8075.9835625381511},{"$f":"SUMPRODUCT(P11:P38,' розрахунок'!K7:K34)/' розрахунок'!K38","v":33.812527502201846},{"$f":"SUMPRODUCT(Q11:Q38,' розрахунок'!K7:K34)/' розрахунок'!K38","v":9.3923687506116238},{"$f":"SUMPRODUCT(R11:R38,' розрахунок'!K7:K34)/' розрахунок'!K38","v":8948.7753239296871},{"$f":"SUMPRODUCT(S11:S38,' розрахунок'!K7:K34)/' розрахунок'!K38","v":37.466731997198544},{"$f":"SUMPRODUCT(T11:T38,' розрахунок'!K7:K34)/' розрахунок'!K38","v":10.40742555477738}]
[null,null,null,null,null,null,null,"Середньозважене значення теплоти згоряння:"]
[]
[]
[null,"Начальник управління Северодонецького ЛВУМГ                                                                                                      Головко Ю.О."]
[null,null,"Підрозділу підприємства, якому підпорядкована лабораторія",null,null,null,null,null,null,null,null,null,null,null,"прізвище",null,null,"підпис",null,null,null,"дата"]
[null,"Інженер ІІ кат. ВХАЛ                                                                                                                                                               Єрьоменко М.О."]
[null,null,"Лабораторія, де здійснювалось вимірювання газу",null,null,null,null,null,null,null,null,null,null,null,"прізвище",null,null,"підпис",null,null,null,"дата"]
[null,"Начальник служби метрології                                                                                                                                             Левкович А.М."]
[null,null,"Підрозділу, відповідального за облік газу за маршрутом",null,null,null,null,null,null,null,null,null,null,null,"прізвище",null,null,"підпис",null,null,null,"дата"]

{"sheet":" розрахунок","index":1,"n_rows":42,"n_cols":11,"rows_kept":42,"cut":false,"hidden":true,"merged":[[3,10,5,10],[0,0,0,1],[3,0,5,0],[3,1,5,1],[3,2,3,9],[4,2,4,9]]}
[]
["Додаток до Паспорту фізико-хімічних показників природного газу по маршруту № 679"]
[]
["Число місяця","Теплота згоряння вища, МДж/м3","Донецька область",null,null,null,null,null,null,null,"Загальний обсяг газу, м3"]
[null,null,"Обсяг газу переданого за добу,  м3 "]
[null,null,"ГРС м. Авдіївка"]
[1,{"$f":"паспорт!S11","v":37.43},{"$f":"Лист1!C3+Лист1!E3","v":296772.28000000003},null,null,null,null,null,null,null,{"$f":"SUM(C7:J7)","v":296772.28000000003}]
[2,{"$f":"паспорт!S12","v":37.43},{"$f":"Лист1!C4+Лист1!E4","v":308008.63},null,null,null,null,null,null,null,308008.63]
[3,{"$f":"паспорт!S13","v":37.43},{"$f":"Лист1!C5+Лист1!E5","v":268725.65999999997},null,null,null,null,null,null,null,268725.65999999997]
[4,{"$f":"паспорт!S14","v":37.43},{"$f":"Лист1!C6+Лист1!E6","v":221125.63},null,null,null,null,null,null,null,221125.63]
[5,{"$f":"паспорт!S15","v":37.43},{"$f":"Лист1!C7+Лист1!E7","v":220940.64},null,null,null,null,null,null,null,220940.64]
[6,{"$f":"паспорт!S16","v":37.43},{"$f":"Лист1!C8+Лист1!E8","v":295691.13},null,null,null,null,null,null,null,295691.13]
[7,{"$f":"паспорт!S17","v":37.43},{"$f":"Лист1!C9+Лист1!E9","v":326058.88},null,null,null,null,null,null,null,326058.88]
[8,{"$f":"паспорт!S18","v":37.43},{"$f":"Лист1!C10+Лист1!E10","v":295809.84000000003},null,null,null,null,null,null,null,295809.84000000003]
[9,{"$f":"паспорт!S19","v":37.43},{"$f":"Лист1!C11+Лист1!E11","v":283068.75},null,null,null,null,null,null,null,283068.75]
[10,{"$f":"паспорт!S20","v":37.43},{"$f":"Лист1!C12+Лист1!E12","v":258710.11},null,null,null,null,null,null,null,258710.11]
[11,{"$f":"паспорт!S21","v":37.43},{"$f":"Лист1!C13+Лист1!E13","v":230519.25},null,null,null,null,null,null,null,230519.25]
[12,{"$f":"паспорт!S22","v":37.43},{"$f":"Лист1!C14+Лист1!E14","v":192032.69},null,null,null,null,null,null,null,192032.69]
[13,{"$f":"паспорт!S23","v":37.43},{"$f":"Лист1!C15+Лист1!E15","v":159550.51999999999},null,null,null,null,null,null,null,159550.51999999999]
[14,{"$f":"паспорт!S24","v":37.43},{"$f":"Лист1!C16+Лист1!E16","v":150501},null,null,null,null,null,null,null,150501]
[15,{"$f":"паспорт!S25","v":37.43},{"$f":"Лист1!C17+Лист1!E17","v":149473.5},null,null,null,null,null,null,null,149473.5]
[16,{"$f":"паспорт!S26","v":37.43},{"$f":"Лист1!C18+Лист1!E18","v":150848.73000000001},null,null,null,null,null,null,null,150848.73000000001]
[17,{"$f":"паспорт!S27","v":37.43},{"$f":"Лист1!C19+Лист1!E19","v":150128.32999999999},null,null,null,null,null,null,null,150128.32999999999]
[18,{"$f":"паспорт!S28","v":37.43},{"$f":"Лист1!C20+Лист1!E20","v":143501.94},null,null,null,null,null,null,null,143501.94]
[19,{"$f":"паспорт!S29","v":37.43},{"$f":"Лист1!C21+Лист1!E21","v":138853.51999999999},null,null,null,null,null,null,null,138853.51999999999]
[20,{"$f":"паспорт!S30","v":37.43},{"$f":"Лист1!C22+Лист1!E22","v":144079.72},null,null,null,null,null,null,null,144079.72]
[21,{"$f":"паспорт!S31","v":37.43},{"$f":"Лист1!C23+Лист1!E23","v":141085.10999999999},null,null,null,null,null,null,null,141085.10999999999]
[22,{"$f":"паспорт!S32","v":37.43},{"$f":"Лист1!C24+Лист1!E24","v":143001.79999999999},null,null,null,null,null,null,null,143001.79999999999]
[23,{"$f":"паспорт!S33","v":37.43},{"$f":"Лист1!C25+Лист1!E25","v":143066.82999999999},null,null,null,null,null,null,null,143066.82999999999]
[24,{"$f":"паспорт!S34","v":37.718299999999999},{"$f":"Лист1!C26+Лист1!E26","v":136801.69},null,null,null,null,null,null,null,136801.69]
[25,{"$f":"паспорт!S35","v":37.718299999999999},{"$f":"Лист1!C27+Лист1!E27","v":138029.29999999999},null,null,null,null,null,null,null,138029.29999999999]
[26,{"$f":"паспорт!S36","v":37.718299999999999},{"$f":"Лист1!C28+Лист1!E28","v":141387.95000000001},null,null,null,null,null,null,null,141387.95000000001]
[27,{"$f":"паспорт!S37","v":37.718299999999999},{"$f":"Лист1!C29+Лист1!E29","v":143824.79999999999},null,null,null,null,null,null,null,143824.79999999999]
[28,{"$f":"паспорт!S38","v":37.718299999999999},{"$f":"Лист1!C30+Лист1!E30","v":142501.91},null,null,null,null,null,null,null,142501.91]
[29,37.957500000000003,104484.13,2550.58,172597.3,6731.51,28282.91,71078.45,3780.78,16478.54,405984.2]
[30,37.96,93755.22,2251.65,156928.03,6054.5,26299.84,60324.38,3142.81,15516.28,364272.71]
[31,37.957500000000003,92050.880000000005,3124.98,157999.45000000001,6122.1,23698.82,60708.33,3145.17,14948.5,361798.23]
["Загальний обсяг газу, м3",null,{"$f":"SUM(C7:C34)","v":5514100.1399999997},null,null,null,null,null,null,null,{"$f":"SUM(K7:K34)","v":5514100.1399999997}]
["Енергія, МДж",null,{"$f":"SUMPRODUCT(B7:B34,C7:C34)","v":206595312.15109497},null,null,null,null,null,null,null,{"$f":"SUMPRODUCT(B7:B34,K7:K34)","v":206595312.15109497}]
["Теплота згоряння (середньозважене значення за місяць), МДж/м³",null,{"$f":"C39/C38","v":37.466731997198544},null,null,null,null,null,null,null,{"$f":"K39/K38","v":37.466731997198544}]
["Теплота згоряння (середньозважене значення за місяць), ккал/м³",null,{"$f":"C40*238.8459","v":8948.7753239296835},null,null,null,null,null,null,null,{"$f":"K40*238.8459","v":8948.7753239296835}]
["Теплота згоряння (середньозважене значення за місяць), кВт*год./м³",null,{"$f":"C40/3.6","v":10.407425554777372},null,null,null,null,null,null,null,{"$f":"K40/3.6","v":10.407425554777372}]

{"sheet":"додаток","index":2,"n_rows":16,"n_cols":6,"rows_kept":16,"cut":false,"hidden":false,"merged":[[0,0,0,1],[6,0,6,1],[3,2,3,4],[3,1,4,1],[3,0,4,0]]}
[]
["Додаток до Паспорту фізико-хімічних показників природного газу № 679"]
[]
["Область","ГРС, прямий споживач","Cередньозважене значення вищої теплоти згоряння"]
[null,null," МДж/м³","ккал/м³","кВт*год./м³"]
["Донецька область",{"$f":"' розрахунок'!C6","v":"ГРС м. Авдіївка"},37.466731997198544,8948.7753239296835,10.407425554777372]
["Середньозважене значення вищої теплоти згоряння по маршруту № 679",null,37.466731997198544,8948.7753239296835,10.407425554777372]
[]
[]
[]
["Начальник управління Северодонецького ЛВУМГ                                                                        Головко Ю.О.                                                                                       "]
["Підрозділу підприємства, якому підпорядкована лабораторія",null,null,"прізвище","підпис","дата"]
["Інженер ІІ кат. ВХАЛ                                                                                                                   Єрьоменко М.О.                                                                                                       "]
["Лабораторія, де здійснювалось вимірювання газу",null,null,"прізвище","підпис","дата"]
["Начальник служби метрології                                                                                                        Левкович А.М."]
["Підрозділу, відповідального за облік газу за маршрутом",null,null,"прізвище","підпис","дата"]

{"sheet":"variablesList","index":3,"n_rows":3,"n_cols":4,"rows_kept":3,"cut":false,"hidden":true,"merged":[]}
[3,"x:\\gaysin","10, 11, 24, 25, 127, 128, 132, 180, 207, 215","x:\\"]
[null,"x:\\Illinci"]
[null,"x:\\Talne"]

{"sheet":"Лист1","index":4,"n_rows":31,"n_cols":7,"rows_kept":31,"cut":false,"hidden":false,"merged":[]}
[" подобъектов объекта ГРС Авдеевка (Макеевка) (осн.) за 2/17."]
["День",null,"Авдеевка (счетчик)",null,"Авдеевка (перепад)",null,"ГРС Авдеевка (Макеевка)"]
[1,null,0,null,296772.28000000003,null,296772.28000000003]
[2,null,0,null,308008.63,null,308008.63]
[3,null,0,null,268725.65999999997,null,268725.65999999997]
[4,null,0,null,221125.63,null,221125.63]
[5,null,0,null,220940.64,null,220940.64]
[6,null,0,null,295691.13,null,295691.13]
[7,null,0,null,326058.88,null,326058.88]
[8,null,0,null,295809.84000000003,null,295809.84000000003]
[9,null,0,null,283068.75,null,283068.75]
[10,null,0,null,258710.11,null,258710.11]
[11,null,0,null,230519.25,null,230519.25]
[12,null,0,null,192032.69,null,192032.69]
[13,null,0,null,159550.51999999999,null,159550.51999999999]
[14,null,0,null,150501,null,150501]
[15,"A",0,"A",149473.5,"A",149473.5]
[16,null,0,null,150848.73000000001,null,150848.73000000001]
[17,null,0,null,150128.32999999999,null,150128.32999999999]
[18,null,0,null,143501.94,null,143501.94]
[19,null,0,null,138853.51999999999,null,138853.51999999999]
[20,null,0,null,144079.72,null,144079.72]
[21,null,0,null,141085.10999999999,null,141085.10999999999]
[22,null,0,null,143001.79999999999,null,143001.79999999999]
[23,null,0,null,143066.82999999999,null,143066.82999999999]
[24," B",0," B",136801.69," B",136801.69]
[25,null,0,null,138029.29999999999,null,138029.29999999999]
[26,null,0,null,141387.95000000001,null,141387.95000000001]
[27,null,0,null,143824.79999999999,null,143824.79999999999]
[28,null,0,null,142501.91,null,142501.91]
["Итого","AB",0,"AB",5514100.0899999999,"AB",5514100.0899999999]