{"text_format":"1","workbook":"xlsx","n_sheets":5,"sheets":["паспорт"," розрахунок","додаток","variablesList","Лист1"],"not_rendered":{"charts":0,"images":0,"macros":1,"external_links":0,"defined_names":3,"comments":0,"pivot_tables":0},"unopened":[],"bounds":{"document_bytes":16777216,"sheet_cells":100000,"rows_first":2000,"rows_last":500,"rows_between":2000,"halvings":0,"cell_chars":16384,"cell_head_chars":4096},"cells_cut":0,"cells_raw":0,"read":"whole","date_system":"1900"}

{"sheet":"паспорт","index":0,"n_rows":53,"n_cols":31,"rows_kept":53,"cut":false,"hidden":false,"merged":[[1,5,1,25],[5,7,5,20],[6,5,6,24],[8,0,11,0],[10,1,11,1],[10,2,11,2],[10,5,11,5],[10,6,11,6],[10,4,11,4],[51,1,51,26],[10,11,11,11],[43,18,44,18],[43,19,44,19],[43,14,44,14],[44,7,44,13],[43,15,44,15],[43,16,44,16],[43,17,44,17],[10,9,11,9],[10,10,11,10],[8,25,11,25],[47,1,47,26],[43,0,43,13],[10,3,11,3],[49,1,49,26],[45,20,45,27],[44,20,44,27],[43,20,43,27],[8,27,11,27],[10,8,11,8],[8,26,11,26],[8,24,11,24],[8,23,11,23],[0,6,0,24],[0,25,0,27],[5,23,5,24],[10,12,11,12],[5,21,5,22],[10,14,10,16],[10,17,10,19],[10,20,10,22],[9,14,9,22],[3,6,3,24],[5,26,5,27],[10,7,11,7],[8,1,9,12],[9,13,11,13],[8,13,8,22],[2,4,2,26]]}
["ПАТ \"УКРТРАНСГАЗ\"",null,null,null,null,null,"ПАСПОРТ ФІЗИКО-ХІМІЧНИХ ПОКАЗНИКІВ ПРИРОДНОГО ГАЗУ  № 676"]
["Філія \"УМГ \"ХАРКІВТРАНСГАЗ\"",null,null,null,null,"переданого Краматорським ЛВУМГ та прийнятого  ПАТ \"ДОНЕЦЬКОБЛГАЗ\", ПАТ \"ХАРКІВГАЗ\", ПАТ \"ЗОКМ\", ТОВ \"ЛІДЕР\""]
[null,null,null,null," ТОВ \"КНАУФ ГІПС ДОНБАС\", ДП \"УКРАВТОГАЗ\", ПрАТ \"СКВЗ\", ТОВ \"ГІРНИЧІ МАШИНИ - ДРМЗ\", ТОВ \"ДТЕК СХІДЕНЕРГО\""]
["Сєвєродонецьке  ЛВУМГ",null,null,null,null,null,"Маршрут № 676"]
["Вимірювальна хіміко-аналітична лабораторія"]
["Свідоцтво № РЬ089/2014 чинно до 06.06.2017 р.",null,null,null,null,null,null,"по газопроводу  \"Амвросієвка-Горловка-Слов'янськ\", \"Новопськов-Краматорськ\",",null,null,null,null,null,null,null,null,null,null,null,null,null,"за період з",null,"01.02.2017 р.",null," по","28.02.2017 р."]
[null,null,null,null,null," \"Краматорськ-Донецьк\", Донецьк-Маріуполь\", \"Шебелинка-Слов'янськ\", \"газопровід-відвід на ГРС 1, 2 Вуглегірської ДРЕС\""]
[]
["Число місяця","Компонентний склад, мол. % ",null,null,null,null,null,null,null,null,null,null,null,"Фізико-хімічні показники газу обчислені на основі компонентного складу, 101,325 кПа",null,null,null,null,null,null,null,null,null,"Температура точки роси за вологою (Р = 3.92 МПа), °С","Температура точки роси за вуглеводнями, °С","Вміст сірководню, г/м3","Вміст меркаптанової сірки, г/м3","Вміст механічних домішок, г/м3"]
[null,null,null,null,null,null,null,null,null,null,null,null,null,"Густина абсолютна, кг/м3,при 20 °С, ","Температура вимірювання/згоряння при  20/25°С"]
[null,"метан, С1","етан, С2","пропан, С3","ізо-бутан, і-С4","н-бутан, н-С4","нео-пентан, нео-С5","ізо-пентан, і-С5","н-пентан, н-С5","гексани та вищі, С6+","кисень, О2","азот, N2","діоксид вуглецю, CО2",null,"Теплота згоряння нижча",null,null,"Теплота згоряння вища",null,null,"Число Воббе вище"]
[null,null,null,null,null,null,null,null,null,null,null,null,null,null," ккал/м³"," МДж/м³","кВт⋅год/м³"," ккал/м³"," МДж/м³","кВт⋅год/м³"," ккал/м³"," МДж/м³","кВт⋅год/м³",null,null,null,null,null,null,null,"  "]
[1,null,null,null,null,null,null,null,null,null,null,null,null,null,8156,34.15,{"$f":"P13/3.6","v":9.4861111111111107},9036,37.83,{"$f":"S13/3.6","v":10.508333333333333},{"$f":"V13/0.0041868","v":11715.486767937327},49.050400000000003,{"$f":"V13/3.6","v":13.625111111111112},null,null,null,null,null,{"$f":"SUM(B13:M13)+$K$44+$N$44","v":0}]
[2,93.176100000000005,3.3834,0.83209999999999995,8.1600000000000006E-2,0.1016,2E-3,2.0299999999999999E-2,1.6899999999999998E-2,4.0500000000000001E-2,1.2800000000000001E-2,2.1158000000000001,0.21679999999999999,0.71630000000000005,8167.72,34.196599999999997,9.4990555555555538,9049.15,37.887,10.524166666666666,11734.31,49.129199999999997,13.646999999999998,null,null,null,null,null,99.999899999999997]
[3,null,null,null,null,null,null,null,null,null,null,null,null,null,8167.72,34.196599999999997,{"$f":"P15/3.6","v":9.4990555555555538},9049.15,37.887,{"$f":"S15/3.6","v":10.524166666666666},11734.31,49.129199999999997,13.646999999999998,null,null,null,null,null,0,{"$f":"IF(AC15=100,\"ОК\",\" \")","v":" "}]
[4,null,null,null,null,null,null,null,null,null,null,null,null,null,8167.72,34.196599999999997,9.4990555555555538,9049.15,37.887,10.524166666666666,11734.31,49.129199999999997,13.646999999999998,null,null,null,null,null,0,{"$f":"IF(AC16=100,\"ОК\",\" \")","v":" "}]
[5,null,null,null,null,null,null,null,null,null,null,null,null,null,8167.72,34.196599999999997,9.4990555555555538,9049.15,37.887,10.524166666666666,11734.31,49.129199999999997,13.646999999999998,null,null,null,null,null,0," "]
[6,null,null,null,null,null,null,null,null,null,null,null,null,null,8167.72,34.196599999999997,9.4990555555555538,9049.15,37.887,10.524166666666666,11734.31,49.129199999999997,13.646999999999998,null,null,null,null,null,0," "]
[7,null,null,null,null,null,null,null,null,null,null,null,null,null,8167.72,34.196599999999997,9.4990555555555538,9049.15,37.887,10.524166666666666,11734.31,49.129199999999997,13.646999999999998,null,null,null,null,null,0," "]
[8,93.461299999999994,3.1011000000000002,0.7792,7.7600000000000002E-2,0.1018,4.7000000000000002E-3,2.0199999999999999E-2,1.77E-2,3.1099999999999999E-2,1.12E-2,2.0937000000000001,0.30049999999999999,0.71460000000000001,8135.95,34.063600000000001,9.4621111111111116,9014.93,37.743699999999997,10.484361111111109,11703.74,49.001199999999997,13.611444444444443,-19.2,-17.3,2.9999999999999997E-4,4.0000000000000001E-3,"відс",100.0001," "]
[9,null,null,null,null,null,null,null,null,null,null,null,null,null,8135.95,34.063600000000001,{"$f":"P21/3.6","v":9.4621111111111116},9014.93,37.743699999999997,{"$f":"S21/3.6","v":10.484361111111109},11703.74,49.001199999999997,13.611444444444443,null,null,null,null,null,0," "]
[10,null,null,null,null,null,null,null,null,null,null,null,null,null,8135.95,34.063600000000001,9.4621111111111116,9014.93,37.743699999999997,10.484361111111109,11703.74,49.001199999999997,13.611444444444443,null,null,null,null,null,0," "]
[11,null,null,null,null,null,null,null,null,null,null,null,null,null,8135.95,34.063600000000001,9.4621111111111116,9014.93,37.743699999999997,10.484361111111109,11703.74,49.001199999999997,13.611444444444443,null,null,null,null,null,0," "]
[12,null,null,null,null,null,null,null,null,null,null,null,null,null,8135.95,34.063600000000001,9.4621111111111116,9014.93,37.743699999999997,10.484361111111109,11703.74,49.001199999999997,13.611444444444443,null,null,null,null,null,0," "]
[13,null,null,null,null,null,null,null,null,null,null,null,null,null,8135.95,34.063600000000001,9.4621111111111116,9014.93,37.743699999999997,10.484361111111109,11703.74,49.001199999999997,13.611444444444443,null,null,null,null,null,0," "]
[14,null,null,null,null,null,null,null,null,null,null,null,null,null,8135.95,34.063600000000001,9.4621111111111116,9014.93,37.743699999999997,10.484361111111109,11703.74,49.001199999999997,13.611444444444443,null,null,null,null,null,0," "]
[15,null,null,null,null,null,null,null,null,null,null,null,null,null,8135.95,34.063600000000001,9.4621111111111116,9014.93,37.743699999999997,10.484361111111109,11703.74,49.001199999999997,13.611444444444443,null,null,null,null,null,0," "]
[16,94.189300000000003,2.7528999999999999,0.66710000000000003,7.6100000000000001E-2,0.10489999999999999,4.7000000000000002E-3,2.1399999999999999E-2,1.8599999999999998E-2,3.1800000000000002E-2,1.09E-2,1.9175,0.20469999999999999,0.70930000000000004,8123.03,34.009500000000003,{"$f":"P28/3.6","v":9.4470833333333335},9001.9599999999991,37.689399999999999,{"$f":"S28/3.6","v":10.469277777777778},11730.1,49.111600000000003,13.642111111111111,null,null,null,null,null,99.999900000000025," "]
[17,null,null,null,null,null,null,null,null,null,null,null,null,null,8123.03,34.009500000000003,{"$f":"P29/3.6","v":9.4470833333333335},9001.9599999999991,37.689399999999999,{"$f":"S29/3.6","v":10.469277777777778},11730.1,49.111600000000003,13.642111111111111,null,null,null,null,null,0," "]
[18,null,null,null,null,null,null,null,null,null,null,null,null,null,8123.03,34.009500000000003,9.4470833333333335,9001.9599999999991,37.689399999999999,10.469277777777778,11730.1,49.111600000000003,13.642111111111111,null,null,null,null,null,0," "]
[19,null,null,null,null,null,null,null,null,null,null,null,null,null,8123.03,34.009500000000003,9.4470833333333335,9001.9599999999991,37.689399999999999,10.469277777777778,11730.1,49.111600000000003,13.642111111111111,null,null,null,null,null,0," "]
[20,null,null,null,null,null,null,null,null,null,null,null,null,null,8123.03,34.009500000000003,9.4470833333333335,9001.9599999999991,37.689399999999999,10.469277777777778,11730.1,49.111600000000003,13.642111111111111,null,null,null,null,null,0,{"$f":"IF(AC32=100,\"ОК\",\" \")","v":" "}]
[21,null,null,null,null,null,null,null,null,null,null,null,null,null,8123.03,34.009500000000003,9.4470833333333335,9001.9599999999991,37.689399999999999,10.469277777777778,11730.1,49.111600000000003,13.642111111111111,null,null,null,null,null,0," "]
[22,null,null,null,null,null,null,null,null,null,null,null,null,null,8123.03,34.009500000000003,9.4470833333333335,9001.9599999999991,37.689399999999999,10.469277777777778,11730.1,49.111600000000003,13.642111111111111,null,null,null,null,null,0," "]
[23,null,null,null,null,null,null,null,null,null,null,null,null,null,8123.03,34.009500000000003,9.4470833333333335,9001.9599999999991,37.689399999999999,10.469277777777778,11730.1,49.111600000000003,13.642111111111111,null,null,null,null,null,0,{"$f":"IF(AC35=100,\"ОК\",\" \")","v":" "}]
[24,94.141199999999998,3.1206,0.78520000000000001,8.3400000000000002E-2,9.3600000000000003E-2,1.5E-3,1.89E-2,1.55E-2,1.2999999999999999E-2,1.37E-2,1.4517,0.26190000000000002,0.71040000000000003,8184.48,34.266800000000003,{"$f":"P36/3.6","v":9.5185555555555563},{"$f":"S36*238.8459","v":9069.0265921800001},37.970199999999998,{"$f":"S36/3.6","v":10.547277777777778},11808.47,49.439700000000002,13.73325,null,null,null,null,null,100.00019999999999," "]
[25,null,null,null,null,null,null,null,null,null,null,null,null,null,8184.48,34.266800000000003,{"$f":"P37/3.6","v":9.5185555555555563},{"$f":"S37*238.8459","v":9069.0265921800001},37.970199999999998,{"$f":"S37/3.6","v":10.547277777777778},11808.47,49.439700000000002,13.73325,null,null,null,null,null,0," "]
[26,null,null,null,null,null,null,null,null,null,null,null,null,null,8184.48,34.266800000000003,9.5185555555555563,9069.0265921800001,37.970199999999998,10.547277777777778,11808.47,49.439700000000002,13.73325,null,null,null,null,null,0," "]
[27,null,null,null,null,null,null,null,null,null,null,null,null,null,8184.48,34.266800000000003,9.5185555555555563,9069.0265921800001,37.970199999999998,10.547277777777778,11808.47,49.439700000000002,13.73325,null,null,null,null,null,0," "]
[28,null,null,null,null,null,null,null,null,null,null,null,null,null,8184.48,34.266800000000003,9.5185555555555563,9069.0265921800001,37.970199999999998,10.547277777777778,11808.47,49.439700000000002,13.73325,null,null,null,null,null,0," "]
[29,96.188199999999995,2.0720999999999998,0.65939999999999999,0.1046,0.1031,4.1000000000000003E-3,2.0500000000000001E-2,1.4500000000000001E-2,4.7000000000000002E-3,7.6E-3,0.63660000000000005,0.1845,0.69820000000000004,{"$f":"P41*238.8459","v":8179.0151150099991},34.243899999999996,{"$f":"P41/3.6","v":9.5121944444444431},9065.9932492500011,37.957500000000003,{"$f":"S41/3.6","v":10.543750000000001},11908,49.854900000000001,{"$f":"V41/3.6","v":13.848583333333334},-20.6,-2,null,null,null,99.999899999999997," "]
[30,null,null,null,null,null,null,null,null,null,null,null,null,null,8178.0836160000008,34.24,{"$f":"P42/3.6","v":9.5111111111111111},9066.5903639999997,37.96,{"$f":"S42/3.6","v":10.544444444444444},null,null,null,null,null,null,null,null,0]
[31,null,null,null,null,null,null,null,null,null,null,null,null,null,8179.0151150099991,34.243899999999996,{"$f":"P43/3.6","v":9.5121944444444431},9065.9932492500011,37.957500000000003,{"$f":"S43/3.6","v":10.543750000000001},null,null,null,null,null,null,null,null,0," "]
["Рівень одоризації відповідає чинним нормативним документам",null,null,null,null,null,null,null,null,null,null,null,null,null,{"$f":"SUMPRODUCT(O13:O40,' розрахунок'!BK7:BK34)/' розрахунок'!BK38","v":8147.8654120248857},{"$f":"SUMPRODUCT(P13:P40,' розрахунок'!BK7:BK34)/' розрахунок'!BK38","v":34.113588016142842},{"$f":"SUMPRODUCT(Q13:Q40,' розрахунок'!BK7:BK34)/' розрахунок'!BK38","v":9.4759966711507886},{"$f":"SUMPRODUCT(R13:R40,' розрахунок'!BK7:BK34)/' розрахунок'!BK38","v":9028.2556199985811},{"$f":"SUMPRODUCT(S13:S40,' розрахунок'!BK7:BK34)/' розрахунок'!BK38","v":37.799419248988563},{"$f":"SUMPRODUCT(T13:T40,' розрахунок'!BK7:BK34)/' розрахунок'!BK38","v":10.499838680274598}]
[null,null,null,null,null,null,null,"Середньозважене значення теплоти згоряння:"]
[]
[]
[null,"Начальник управління Северодонецького ЛВУМГ                                                                                                      Головко Ю.О."]
[null,null,"Підрозділу підприємства, якому підпорядкована лабораторія",null,null,null,null,null,null,null,null,null,null,null,"прізвище",null,null,"підпис",null,null,null,"дата"]
[null,"Інженер ІІ кат. ВХАЛ                                                                                                                                                               Єрьоменко М.О."]
[null,null,"Лабораторія, де здійснювалось вимірювання газу",null,null,null,null,null,null,null,null,null,null,null,"прізвище",null,null,"підпис",null,null,null,"дата"]
[null,"Начальник служби метрології                                                                                                                                             Левкович А.М."]
[null,null,"Підрозділу, відповідального за облік газу за маршрутом",null,null,null,null,null,null,null,null,null,null,null,"прізвище",null,null,"підпис",null,null,null,"дата"]

{"sheet":" розрахунок","index":1,"n_rows":42,"n_cols":63,"rows_kept":42,"cut":false,"hidden":true,"merged":[[4,56,4,61],[3,56,3,61],[3,62,5,62],[1,0,1,11],[0,0,0,1],[3,0,5,0],[3,1,5,1],[3,2,3,55],[4,2,4,55]]}
[]
["Додаток до Паспорту фізико-хімічних показників природного газу по маршруту № 676"]
[]
["Число місяця","Теплота згоряння вища, МДж/м3","Донецька область",null,null,null,null,null,null,null,null,null,null,null,null,null,null,null,null,null,null,null,null,null,null,null,null,null,null,null,null,null,null,null,null,null,null,null,null,null,null,null,null,null,null,null,null,null,null,null,null,null,null,null,null,null,"Харківська область",null,null,null,null,null,"Загальний обсяг газу, м3"]
[null,null,"Обсяг газу переданого за добу,  м3 ",null,null,null,null,null,null,null,null,null,null,null,null,null,null,null,null,null,null,null,null,null,null,null,null,null,null,null,null,null,null,null,null,null,null,null,null,null,null,null,null,null,null,null,null,null,null,null,null,null,null,null,null,null,"Обсяг газу переданого за добу,  м3 "]
[null,null,"ГРС Краматорськ","АГНКС м.Краматорськ","ГРС Бахмутська ПТФ","ГРС м. Дзержинськ","ГРС к-п Козаченко","ГРС с. Рай-Олександрівка","ГРС м.Красний Лиман","ГРС м.Часів Яр","ГРС р-п ім.Кірова","ГРС к-п ім. Тимірязєва","ГРС к-п ім. Леніна","ГРС к-пів Правди та ім. Кірова","ГРС 1 м.Костянтинівка","ГРС 2 м.Костянтинівка","ТОВ \"ТД \"ЛІДЕР\"","ГРС Правдинська ПТФ","ГРС с. Покровське","ТОВ \"КНАУФ ГИПС ДОНБАС\"","ГРС 1 Вуглегірська ДРЕС","ГРС 2 Вуглегірська ДРЕС","ГРС м. Сіверськ","ГРС м. Красноармійськ","ГРС к-п Промінь","ГРС к-п Костянтинівський","ГРС м. Слов'янськ","АГНКС м. Слов'янськ","ГРС к-п Широкий Шлях","ГРС м. Артемівськ","ПАТ \"ЗОКМ\"","ГРС с. Кіндратівка","ГРС Щербинівська ТПФ","ГРС Шидловського КВЗ (Прат \"СКВЗ\")","АГНКС м. Костянтинівка","ГРС м. Дружківка","ТОВ \"ГІРНИЧІ МАШИНИ - ДРМЗ\"","АГНКС м. Дружківка","ГРС 1 м. Курахове (ТОВ \"ДТЕК СХІДЕНЕРГО\")","ГРС 2 м. Курахове","ГРС смт. Очеретино","ГРС м. Селідове","ГРС с. Володимірівка","ГРС с. Донське","ГРС м. Волноваха","ГРС с. Новотроїцьке","ГРС к-п Оленівський","ГРС с.Ольгинка","ГРС м. Вугледар","ГРС 1 Слов'янська ДРЕС","ГРС 2 Слов'янська ДРЕС","ГРС НКМЗ (ПАТ \"НКМЗ\")","ГРС с. Малинівка","ГРС к-п ім. Горького","ГРС с. Очеретино","ГРС р-п Маріупольський","ГРС Ізюм","ГРС с. Бражківка","ГРС м. Барвінкове","ГРС к-пу \"Жовтень\"","ГРС к-п Степок","ГРС с.Петрівське"]
[1,{"$f":"паспорт!S13","v":37.83},{"$f":"Лист1!AL3+Лист1!AN3+Лист1!AP3","v":1138516.8400000001},{"$f":"Лист1!EU3","v":2684.53},{"$f":"Лист1!BC3","v":133415.57999999999},{"$f":"Лист1!G3","v":257369.09},{"$f":"Лист1!BI3","v":9691.73},{"$f":"Лист1!DK3","v":2333.62},{"$f":"Лист1!DE3","v":163466.94},{"$f":"Лист1!BY3+Лист1!W3","v":110053.64},{"$f":"Лист1!BG3","v":4182.12},{"$f":"Лист1!BQ3","v":3955.84},{"$f":"Лист1!Q3","v":8906.2900000000009},{"$f":"Лист1!BM3","v":5816.97},{"$f":"Лист1!K3","v":628383.43999999994},0,{"$f":"Лист1!FA3","v":10402.23},{"$f":"Лист1!DI3","v":13352.87},{"$f":"Лист1!BK3","v":6349.19},{"$f":"Лист1!FD3+Лист1!FF3","v":123422.71},{"$f":"Лист1!BS3","v":73588.789999999994},{"$f":"Лист1!BU3+Лист1!BW3","v":0},{"$f":"Лист1!BO3","v":48443.7},{"$f":"Лист1!CD3","v":601648.06000000006},{"$f":"Лист1!AR3","v":16367.02},{"$f":"Лист1!O3","v":7346.88},{"$f":"Лист1!DS3","v":765505.25},{"$f":"Лист1!ES3","v":730.22},{"$f":"Лист1!Y3","v":17600.61},{"$f":"Лист1!AW3+Лист1!AY3+Лист1!BA3","v":442713.74},{"$f":"Лист1!FK3","v":7730.79},{"$f":"Лист1!AJ3","v":57216.55},{"$f":"Лист1!AA3","v":10071.77},{"$f":"Лист1!GE3+Лист1!GG3","v":4126.13},{"$f":"Лист1!EW3","v":2740.47},{"$f":"Лист1!AH3","v":383894.81},{"$f":"Лист1!FP3","v":34181.42},{"$f":"Лист1!EO3-Лист1!EQ3","v":1582.49},{"$f":"Лист1!FS3","v":889.19},{"$f":"Лист1!CF3+Лист1!CH3","v":25828.440000000002},{"$f":"Лист1!S3+Лист1!U3","v":16544.060000000001},{"$f":"Лист1!CJ3","v":103688.76},{"$f":"Лист1!CL3","v":45404.76},{"$f":"Лист1!CP3","v":36512.54},{"$f":"Лист1!CN3","v":129714.5},{"$f":"Лист1!CX3","v":22300.639999999999},{"$f":"Лист1!CR3","v":8838.33},{"$f":"Лист1!CV3","v":7468.16},{"$f":"Лист1!CT3","v":108782.99},{"$f":"Лист1!DQ3","v":14975.53},{"$f":"Лист1!DM3+Лист1!DO3","v":102614.02},{"$f":"Лист1!FZ3","v":84971.74},{"$f":"Лист1!DG3","v":4452.74},{"$f":"Лист1!BE3","v":12385.56},{"$f":"Лист1!AF3","v":6026.29},{"$f":"Лист1!CZ3","v":8432.68},{"$f":"Лист1!EF3","v":335646.22},{"$f":"Лист1!EB3","v":9187.3700000000008},{"$f":"Лист1!DX3+Лист1!DZ3","v":67802.320000000007},{"$f":"Лист1!ED3","v":6577.76},{"$f":"Лист1!EJ3","v":10589.57},{"$f":"Лист1!EH3","v":20390.419999999998},{"$f":"SUM(C7:BJ7)","v":6287816.919999999}]
[2,{"$f":"паспорт!S14","v":37.887},{"$f":"Лист1!AL4+Лист1!AN4+Лист1!AP4","v":1168132.4099999999},{"$f":"Лист1!EU4","v":2989.43},{"$f":"Лист1!BC4","v":112703.1},{"$f":"Лист1!G4","v":239971.95},{"$f":"Лист1!BI4","v":9035.07},{"$f":"Лист1!DK4","v":2256.81},{"$f":"Лист1!DE4","v":151350.38},{"$f":"Лист1!BY4+Лист1!W4","v":102576.01},{"$f":"Лист1!BG4","v":3892.4},{"$f":"Лист1!BQ4","v":3793.16},{"$f":"Лист1!Q4","v":8228},{"$f":"Лист1!BM4","v":5321.77},{"$f":"Лист1!K4","v":589944.43999999994},0,{"$f":"Лист1!FA4","v":10886.4},{"$f":"Лист1!DI4","v":13283.9},{"$f":"Лист1!BK4","v":5801.75},{"$f":"Лист1!FD4+Лист1!FF4","v":132812.71},{"$f":"Лист1!BS4","v":68866.17},{"$f":"Лист1!BU4+Лист1!BW4","v":0},{"$f":"Лист1!BO4","v":44974.09},{"$f":"Лист1!CD4","v":563518.38},{"$f":"Лист1!AR4","v":14992.2},{"$f":"Лист1!O4","v":6940.24},{"$f":"Лист1!DS4","v":701031.69},{"$f":"Лист1!ES4","v":741.36},{"$f":"Лист1!Y4","v":15545.2},{"$f":"Лист1!AW4+Лист1!AY4+Лист1!BA4","v":408608.82},{"$f":"Лист1!FK4","v":8734.31},{"$f":"Лист1!AJ4","v":55304.66},{"$f":"Лист1!AA4","v":9100.7800000000007},{"$f":"Лист1!GE4+Лист1!GG4","v":4366.45},{"$f":"Лист1!EW4","v":2637.44},{"$f":"Лист1!AH4","v":349797.63},{"$f":"Лист1!FP4","v":27287.37},{"$f":"Лист1!EO4-Лист1!EQ4","v":1707.46},{"$f":"Лист1!FS4","v":728.85},{"$f":"Лист1!CF4+Лист1!CH4","v":17527.370000000003},{"$f":"Лист1!S4+Лист1!U4","v":15452.49},{"$f":"Лист1!CJ4","v":96632.61},{"$f":"Лист1!CL4","v":42638.29},{"$f":"Лист1!CP4","v":35804.36},{"$f":"Лист1!CN4","v":119442.13},{"$f":"Лист1!CX4","v":19717.68},{"$f":"Лист1!CR4","v":8071.75},{"$f":"Лист1!CV4","v":6877.63},{"$f":"Лист1!CT4","v":102019.34},{"$f":"Лист1!DQ4","v":14133.67},{"$f":"Лист1!DM4+Лист1!DO4","v":64324.08},{"$f":"Лист1!FZ4","v":104713.02},{"$f":"Лист1!DG4","v":4106.76},{"$f":"Лист1!BE4","v":10946.76},{"$f":"Лист1!AF4","v":5505.53},{"$f":"Лист1!CZ4","v":7699.05},{"$f":"Лист1!EF4","v":304756.63},{"$f":"Лист1!EB4","v":8317.99},{"$f":"Лист1!DX4+Лист1!DZ4","v":61485.21},{"$f":"Лист1!ED4","v":5904.82},{"$f":"Лист1!EJ4","v":9706.89},{"$f":"Лист1!EH4","v":18309.849999999999},5931956.6999999993]
[3,{"$f":"паспорт!S15","v":37.887},{"$f":"Лист1!AL5+Лист1!AN5+Лист1!AP5","v":1090630.3699999999},{"$f":"Лист1!EU5","v":2177.0300000000002},{"$f":"Лист1!BC5","v":115719.71},{"$f":"Лист1!G5","v":223240.58},{"$f":"Лист1!BI5","v":8091.6},{"$f":"Лист1!DK5","v":2195.5300000000002},{"$f":"Лист1!DE5","v":139973.63},{"$f":"Лист1!BY5+Лист1!W5","v":95037.67},{"$f":"Лист1!BG5","v":3722.22},{"$f":"Лист1!BQ5","v":3557.68},{"$f":"Лист1!Q5","v":7756.95},{"$f":"Лист1!BM5","v":5284.08},{"$f":"Лист1!K5","v":565824},0,{"$f":"Лист1!FA5","v":10508.99},{"$f":"Лист1!DI5","v":11560.05},{"$f":"Лист1!BK5","v":5571.23},{"$f":"Лист1!FD5+Лист1!FF5","v":71265.56},{"$f":"Лист1!BS5","v":63595.97},{"$f":"Лист1!BU5+Лист1!BW5","v":0},{"$f":"Лист1!BO5","v":43131.040000000001},{"$f":"Лист1!CD5","v":516288.53},{"$f":"Лист1!AR5","v":14362.19},{"$f":"Лист1!O5","v":6641.52},{"$f":"Лист1!DS5","v":669781.5},{"$f":"Лист1!ES5","v":337.51},{"$f":"Лист1!Y5","v":14877.94},{"$f":"Лист1!AW5+Лист1!AY5+Лист1!BA5","v":368614.2},{"$f":"Лист1!FK5","v":6355.84},{"$f":"Лист1!AJ5","v":52818.11},{"$f":"Лист1!AA5","v":8799.9},{"$f":"Лист1!GE5+Лист1!GG5","v":3679.76},{"$f":"Лист1!EW5","v":3317.51},{"$f":"Лист1!AH5","v":322981.28000000003},{"$f":"Лист1!FP5","v":25828.59},{"$f":"Лист1!EO5-Лист1!EQ5","v":1764.07},{"$f":"Лист1!FS5","v":689.76},{"$f":"Лист1!CF5+Лист1!CH5","v":15040.91},{"$f":"Лист1!S5+Лист1!U5","v":15100.34},{"$f":"Лист1!CJ5","v":89801.43},{"$f":"Лист1!CL5","v":41331.440000000002},{"$f":"Лист1!CP5","v":33304.080000000002},{"$f":"Лист1!CN5","v":114134.56},{"$f":"Лист1!CX5","v":18600.57},{"$f":"Лист1!CR5","v":7758.1},{"$f":"Лист1!CV5","v":6533.1},{"$f":"Лист1!CT5","v":88881.600000000006},{"$f":"Лист1!DQ5","v":13722.9},{"$f":"Лист1!DM5+Лист1!DO5","v":37725.43},{"$f":"Лист1!FZ5","v":101416.46},{"$f":"Лист1!DG5","v":3941.75},{"$f":"Лист1!BE5","v":10709.08},{"$f":"Лист1!AF5","v":5268.37},{"$f":"Лист1!CZ5","v":7103.26},{"$f":"Лист1!EF5","v":286266.56},{"$f":"Лист1!EB5","v":8109.28},{"$f":"Лист1!DX5+Лист1!DZ5","v":59417.72},{"$f":"Лист1!ED5","v":5822.25},{"$f":"Лист1!EJ5","v":9425.08},{"$f":"Лист1!EH5","v":17706.77},5483103.1399999969]
[4,{"$f":"паспорт!S16","v":37.887},{"$f":"Лист1!AL6+Лист1!AN6+Лист1!AP6","v":1028317.2500000001},{"$f":"Лист1!EU6","v":942.25},{"$f":"Лист1!BC6","v":115637.95},{"$f":"Лист1!G6","v":202391.39},{"$f":"Лист1!BI6","v":7334.51},{"$f":"Лист1!DK6","v":1996.35},{"$f":"Лист1!DE6","v":114539.31},{"$f":"Лист1!BY6+Лист1!W6","v":87501.450000000012},{"$f":"Лист1!BG6","v":3449.96},{"$f":"Лист1!BQ6","v":3014.36},{"$f":"Лист1!Q6","v":7123.18},{"$f":"Лист1!BM6","v":4732.5200000000004},{"$f":"Лист1!K6","v":491736.28},0,{"$f":"Лист1!FA6","v":7255.87},{"$f":"Лист1!DI6","v":10742.21},{"$f":"Лист1!BK6","v":5141.95},{"$f":"Лист1!FD6+Лист1!FF6","v":12567.21},{"$f":"Лист1!BS6","v":55897.25},{"$f":"Лист1!BU6+Лист1!BW6","v":0},{"$f":"Лист1!BO6","v":38127.300000000003},{"$f":"Лист1!CD6","v":449957.66},{"$f":"Лист1!AR6","v":12877.41},{"$f":"Лист1!O6","v":6025.63},{"$f":"Лист1!DS6","v":575078.81000000006},{"$f":"Лист1!ES6","v":219.09},{"$f":"Лист1!Y6","v":13305.09},{"$f":"Лист1!AW6+Лист1!AY6+Лист1!BA6","v":324518.01},{"$f":"Лист1!FK6","v":563.54},{"$f":"Лист1!AJ6","v":48361.34},{"$f":"Лист1!AA6","v":8199.24},{"$f":"Лист1!GE6+Лист1!GG6","v":4336.99},{"$f":"Лист1!EW6","v":2681.2},{"$f":"Лист1!AH6","v":279040.78000000003},{"$f":"Лист1!FP6","v":12937.09},{"$f":"Лист1!EO6-Лист1!EQ6","v":1273.28},{"$f":"Лист1!FS6","v":3541.84},{"$f":"Лист1!CF6+Лист1!CH6","v":13040.19},{"$f":"Лист1!S6+Лист1!U6","v":14091.7},{"$f":"Лист1!CJ6","v":75788.570000000007},{"$f":"Лист1!CL6","v":38716.720000000001},{"$f":"Лист1!CP6","v":29090.080000000002},{"$f":"Лист1!CN6","v":103171.66},{"$f":"Лист1!CX6","v":15456.64},{"$f":"Лист1!CR6","v":7159.68},{"$f":"Лист1!CV6","v":5974.22},{"$f":"Лист1!CT6","v":82834.27},{"$f":"Лист1!DQ6","v":12580.99},{"$f":"Лист1!DM6+Лист1!DO6","v":27997.599999999999},{"$f":"Лист1!FZ6","v":114267.99},{"$f":"Лист1!DG6","v":3578.79},{"$f":"Лист1!BE6","v":9485.7199999999993},{"$f":"Лист1!AF6","v":4822.7700000000004},{"$f":"Лист1!CZ6","v":6734.38},{"$f":"Лист1!EF6","v":259105.48},{"$f":"Лист1!EB6","v":7500.14},{"$f":"Лист1!DX6+Лист1!DZ6","v":53401.4},{"$f":"Лист1!ED6","v":5280.29},{"$f":"Лист1!EJ6","v":8662.32},{"$f":"Лист1!EH6","v":16218.04},4856325.1899999995]
[5,{"$f":"паспорт!S17","v":37.887},{"$f":"Лист1!AL7+Лист1!AN7+Лист1!AP7","v":1033786.9600000001},{"$f":"Лист1!EU7","v":1008.38},{"$f":"Лист1!BC7","v":115265.72},{"$f":"Лист1!G7","v":192908.3},{"$f":"Лист1!BI7","v":7193.84},{"$f":"Лист1!DK7","v":2323.19},{"$f":"Лист1!DE7","v":121261.67},{"$f":"Лист1!BY7+Лист1!W7","v":85769.16},{"$f":"Лист1!BG7","v":3304.98},{"$f":"Лист1!BQ7","v":2581.25},{"$f":"Лист1!Q7","v":6757.35},{"$f":"Лист1!BM7","v":4610.4799999999996},{"$f":"Лист1!K7","v":489540.44},0,{"$f":"Лист1!FA7","v":6003.25},{"$f":"Лист1!DI7","v":10700.88},{"$f":"Лист1!BK7","v":4950.8900000000003},{"$f":"Лист1!FD7+Лист1!FF7","v":36767.919999999998},{"$f":"Лист1!BS7","v":57294.21},{"$f":"Лист1!BU7+Лист1!BW7","v":115122.83},{"$f":"Лист1!BO7","v":37341.839999999997},{"$f":"Лист1!CD7","v":465378.91},{"$f":"Лист1!AR7","v":12710.45},{"$f":"Лист1!O7","v":5712.18},{"$f":"Лист1!DS7","v":599734.56000000006},{"$f":"Лист1!ES7","v":161.51},{"$f":"Лист1!Y7","v":12771.67},{"$f":"Лист1!AW7+Лист1!AY7+Лист1!BA7","v":323655.21999999997},{"$f":"Лист1!FK7","v":1659.93},{"$f":"Лист1!AJ7","v":47097.599999999999},{"$f":"Лист1!AA7","v":7838.34},{"$f":"Лист1!GE7+Лист1!GG7","v":4514.95},{"$f":"Лист1!EW7","v":2213.8000000000002},{"$f":"Лист1!AH7","v":284386.21999999997},{"$f":"Лист1!FP7","v":12967.46},{"$f":"Лист1!EO7-Лист1!EQ7","v":804.43},{"$f":"Лист1!FS7","v":90548.800000000003},{"$f":"Лист1!CF7+Лист1!CH7","v":13703.07},{"$f":"Лист1!S7+Лист1!U7","v":13528.14},{"$f":"Лист1!CJ7","v":79729.52},{"$f":"Лист1!CL7","v":46994.400000000001},{"$f":"Лист1!CP7","v":27841.05},{"$f":"Лист1!CN7","v":101792.77},{"$f":"Лист1!CX7","v":16443.2},{"$f":"Лист1!CR7","v":6897.23},{"$f":"Лист1!CV7","v":5623.21},{"$f":"Лист1!CT7","v":78894.53},{"$f":"Лист1!DQ7","v":12480.69},{"$f":"Лист1!DM7+Лист1!DO7","v":19616.05},{"$f":"Лист1!FZ7","v":112956.15},{"$f":"Лист1!DG7","v":3477.3},{"$f":"Лист1!BE7","v":9104.48},{"$f":"Лист1!AF7","v":4628.26},{"$f":"Лист1!CZ7","v":6284.01},{"$f":"Лист1!EF7","v":253749.45},{"$f":"Лист1!EB7","v":7082.02},{"$f":"Лист1!DX7+Лист1!DZ7","v":52633.82},{"$f":"Лист1!ED7","v":5012.4799999999996},{"$f":"Лист1!EJ7","v":8723.25},{"$f":"Лист1!EH7","v":16165.64},5110010.290000001]
[6,{"$f":"паспорт!S18","v":37.887},{"$f":"Лист1!AL8+Лист1!AN8+Лист1!AP8","v":1226016.4399999997},{"$f":"Лист1!EU8","v":2919.05},{"$f":"Лист1!BC8","v":127868.66},{"$f":"Лист1!G8","v":218616.14},{"$f":"Лист1!BI8","v":9818.15},{"$f":"Лист1!DK8","v":2132.5100000000002},{"$f":"Лист1!DE8","v":154951.13},{"$f":"Лист1!BY8+Лист1!W8","v":102262.41},{"$f":"Лист1!BG8","v":3607.28},{"$f":"Лист1!BQ8","v":3302.32},{"$f":"Лист1!Q8","v":7421},{"$f":"Лист1!BM8","v":5117.78},{"$f":"Лист1!K8","v":572661.75},0,{"$f":"Лист1!FA8","v":12079.69},{"$f":"Лист1!DI8","v":12953.53},{"$f":"Лист1!BK8","v":5442.02},{"$f":"Лист1!FD8+Лист1!FF8","v":49968.32},{"$f":"Лист1!BS8","v":66180.31},{"$f":"Лист1!BU8+Лист1!BW8","v":29609.79},{"$f":"Лист1!BO8","v":41855.39},{"$f":"Лист1!CD8","v":555458.43999999994},{"$f":"Лист1!AR8","v":13785.87},{"$f":"Лист1!O8","v":6299.13},{"$f":"Лист1!DS8","v":710755.75},{"$f":"Лист1!ES8","v":699.76},{"$f":"Лист1!Y8","v":15964.31},{"$f":"Лист1!AW8+Лист1!AY8+Лист1!BA8","v":387589.41000000003},{"$f":"Лист1!FK8","v":9074.92},{"$f":"Лист1!AJ8","v":55307.85},{"$f":"Лист1!AA8","v":8651.7000000000007},{"$f":"Лист1!GE8+Лист1!GG8","v":3676.49},{"$f":"Лист1!EW8","v":3064.24},{"$f":"Лист1!AH8","v":337719.31},{"$f":"Лист1!FP8","v":25120.55},{"$f":"Лист1!EO8-Лист1!EQ8","v":2306.31},{"$f":"Лист1!FS8","v":20404.169999999998},{"$f":"Лист1!CF8+Лист1!CH8","v":12563.76},{"$f":"Лист1!S8+Лист1!U8","v":15165.11},{"$f":"Лист1!CJ8","v":94091.21},{"$f":"Лист1!CL8","v":48024.83},{"$f":"Лист1!CP8","v":31467.43},{"$f":"Лист1!CN8","v":108772.16},{"$f":"Лист1!CX8","v":18565.849999999999},{"$f":"Лист1!CR8","v":6978.84},{"$f":"Лист1!CV8","v":5917.56},{"$f":"Лист1!CT8","v":89699.05},{"$f":"Лист1!DQ8","v":13549.58},{"$f":"Лист1!DM8+Лист1!DO8","v":54372.29},{"$f":"Лист1!FZ8","v":100805.34},{"$f":"Лист1!DG8","v":3836.91},{"$f":"Лист1!BE8","v":10339.64},{"$f":"Лист1!AF8","v":5156.17},{"$f":"Лист1!CZ8","v":6748.94},{"$f":"Лист1!EF8","v":290614.53000000003},{"$f":"Лист1!EB8","v":8037.03},{"$f":"Лист1!DX8+Лист1!DZ8","v":59487.4},{"$f":"Лист1!ED8","v":5716.18},{"$f":"Лист1!EJ8","v":9532.6200000000008},{"$f":"Лист1!EH8","v":18105.7},5828210.0099999979]
[7,{"$f":"паспорт!S19","v":37.887},{"$f":"Лист1!AL9+Лист1!AN9+Лист1!AP9","v":1373605.51},{"$f":"Лист1!EU9","v":3379.05},{"$f":"Лист1!BC9","v":138831.54999999999},{"$f":"Лист1!G9","v":247421.09},{"$f":"Лист1!BI9","v":11394},{"$f":"Лист1!DK9","v":2409.4299999999998},{"$f":"Лист1!DE9","v":176076.61},{"$f":"Лист1!BY9+Лист1!W9","v":115050.75},{"$f":"Лист1!BG9","v":4010.85},{"$f":"Лист1!BQ9","v":3939.86},{"$f":"Лист1!Q9","v":8495.2800000000007},{"$f":"Лист1!BM9","v":5637.08},{"$f":"Лист1!K9","v":655742.43999999994},0,{"$f":"Лист1!FA9","v":12826.18},{"$f":"Лист1!DI9","v":14853.72},{"$f":"Лист1!BK9","v":6136},{"$f":"Лист1!FD9+Лист1!FF9","v":60222.89},{"$f":"Лист1!BS9","v":75617.009999999995},{"$f":"Лист1!BU9+Лист1!BW9","v":85466.61},{"$f":"Лист1!BO9","v":48250.59},{"$f":"Лист1!CD9","v":625839.13},{"$f":"Лист1!AR9","v":15840.69},{"$f":"Лист1!O9","v":7162.25},{"$f":"Лист1!DS9","v":771824.63},{"$f":"Лист1!ES9","v":722.76},{"$f":"Лист1!Y9","v":19352.03},{"$f":"Лист1!AW9+Лист1!AY9+Лист1!BA9","v":442655.15},{"$f":"Лист1!FK9","v":9040.7199999999993},{"$f":"Лист1!AJ9","v":60051.89},{"$f":"Лист1!AA9","v":9883.9599999999991},{"$f":"Лист1!GE9+Лист1!GG9","v":4453.3999999999996},{"$f":"Лист1!EW9","v":3421.57},{"$f":"Лист1!AH9","v":387654.72},{"$f":"Лист1!FP9","v":32733.01},{"$f":"Лист1!EO9-Лист1!EQ9","v":2250.89},{"$f":"Лист1!FS9","v":103843.78},{"$f":"Лист1!CF9+Лист1!CH9","v":13745.09},{"$f":"Лист1!S9+Лист1!U9","v":16740.89},{"$f":"Лист1!CJ9","v":107324.55},{"$f":"Лист1!CL9","v":51897.08},{"$f":"Лист1!CP9","v":37773.269999999997},{"$f":"Лист1!CN9","v":130026.44},{"$f":"Лист1!CX9","v":22563.58},{"$f":"Лист1!CR9","v":8053.61},{"$f":"Лист1!CV9","v":7179.43},{"$f":"Лист1!CT9","v":105671.73},{"$f":"Лист1!DQ9","v":15180.3},{"$f":"Лист1!DM9+Лист1!DO9","v":245687.7},{"$f":"Лист1!FZ9","v":109775.12},{"$f":"Лист1!DG9","v":4296.5600000000004},{"$f":"Лист1!BE9","v":12094.93},{"$f":"Лист1!AF9","v":5939.48},{"$f":"Лист1!CZ9","v":7797.14},{"$f":"Лист1!EF9","v":334202.90999999997},{"$f":"Лист1!EB9","v":9179.7199999999993},{"$f":"Лист1!DX9+Лист1!DZ9","v":67315.63},{"$f":"Лист1!ED9","v":6501.91},{"$f":"Лист1!EJ9","v":10566.81},{"$f":"Лист1!EH9","v":20127.310000000001},6895738.2699999986]
[8,{"$f":"паспорт!S20","v":37.743699999999997},{"$f":"Лист1!AL10+Лист1!AN10+Лист1!AP10","v":1449939.24},{"$f":"Лист1!EU10","v":3620.98},{"$f":"Лист1!BC10","v":124646.88},{"$f":"Лист1!G10","v":259807.22},{"$f":"Лист1!BI10","v":11451.3},{"$f":"Лист1!DK10","v":2536.69},{"$f":"Лист1!DE10","v":188049.66},{"$f":"Лист1!BY10+Лист1!W10","v":121571.08},{"$f":"Лист1!BG10","v":4166.4799999999996},{"$f":"Лист1!BQ10","v":4314.1499999999996},{"$f":"Лист1!Q10","v":9119.1},{"$f":"Лист1!BM10","v":5959.45},{"$f":"Лист1!K10","v":700255.06},0,{"$f":"Лист1!FA10","v":13677.33},{"$f":"Лист1!DI10","v":15894.7},{"$f":"Лист1!BK10","v":6358.49},{"$f":"Лист1!FD10+Лист1!FF10","v":85760.5},{"$f":"Лист1!BS10","v":78890.03},{"$f":"Лист1!BU10+Лист1!BW10","v":92952.6},{"$f":"Лист1!BO10","v":51994.74},{"$f":"Лист1!CD10","v":658290.25},{"$f":"Лист1!AR10","v":16968.07},{"$f":"Лист1!O10","v":7500.35},{"$f":"Лист1!DS10","v":824243.13},{"$f":"Лист1!ES10","v":457.56},{"$f":"Лист1!Y10","v":20388.16},{"$f":"Лист1!AW10+Лист1!AY10+Лист1!BA10","v":461795.52},{"$f":"Лист1!FK10","v":10292.74},{"$f":"Лист1!AJ10","v":62475.34},{"$f":"Лист1!AA10","v":10574.35},{"$f":"Лист1!GE10+Лист1!GG10","v":3405.11},{"$f":"Лист1!EW10","v":3483.87},{"$f":"Лист1!AH10","v":412009.25},{"$f":"Лист1!FP10","v":35295.93},{"$f":"Лист1!EO10-Лист1!EQ10","v":3046.33},{"$f":"Лист1!FS10","v":36263.18},{"$f":"Лист1!CF10+Лист1!CH10","v":13604.79},{"$f":"Лист1!S10+Лист1!U10","v":17743.64},{"$f":"Лист1!CJ10","v":113803.55},{"$f":"Лист1!CL10","v":52757.14},{"$f":"Лист1!CP10","v":38118.69},{"$f":"Лист1!CN10","v":136632.56},{"$f":"Лист1!CX10","v":23090.69},{"$f":"Лист1!CR10","v":8535.98},{"$f":"Лист1!CV10","v":7604.62},{"$f":"Лист1!CT10","v":109260.51},{"$f":"Лист1!DQ10","v":15994.3},{"$f":"Лист1!DM10+Лист1!DO10","v":248018.9},{"$f":"Лист1!FZ10","v":126175.06},{"$f":"Лист1!DG10","v":4592.5600000000004},{"$f":"Лист1!BE10","v":12934},{"$f":"Лист1!AF10","v":6292.15},{"$f":"Лист1!CZ10","v":8538.3799999999992},{"$f":"Лист1!EF10","v":354245.34},{"$f":"Лист1!EB10","v":9664.64},{"$f":"Лист1!DX10+Лист1!DZ10","v":70600.77},{"$f":"Лист1!ED10","v":6931.18},{"$f":"Лист1!EJ10","v":11118.05},{"$f":"Лист1!EH10","v":21491.1},7215203.4199999981]
[9,{"$f":"паспорт!S21","v":37.743699999999997},{"$f":"Лист1!AL11+Лист1!AN11+Лист1!AP11","v":1495869.27},{"$f":"Лист1!EU11","v":3430.02},{"$f":"Лист1!BC11","v":140911.85999999999},{"$f":"Лист1!G11","v":257800.8},{"$f":"Лист1!BI11","v":10166.94},{"$f":"Лист1!DK11","v":2497.6},{"$f":"Лист1!DE11","v":182721.53},{"$f":"Лист1!BY11+Лист1!W11","v":119679.5},{"$f":"Лист1!BG11","v":4221.24},{"$f":"Лист1!BQ11","v":4268.2299999999996},{"$f":"Лист1!Q11","v":8950.08},{"$f":"Лист1!BM11","v":5864.57},{"$f":"Лист1!K11","v":674739.69},0,{"$f":"Лист1!FA11","v":12810.51},{"$f":"Лист1!DI11","v":14781.7},{"$f":"Лист1!BK11","v":6083.09},{"$f":"Лист1!FD11+Лист1!FF11","v":57323.46},{"$f":"Лист1!BS11","v":76779.899999999994},{"$f":"Лист1!BU11+Лист1!BW11","v":0},{"$f":"Лист1!BO11","v":50509.53},{"$f":"Лист1!CD11","v":647934.25},{"$f":"Лист1!AR11","v":16908.59},{"$f":"Лист1!O11","v":7468.08},{"$f":"Лист1!DS11","v":806750.38},{"$f":"Лист1!ES11","v":775.81},{"$f":"Лист1!Y11","v":18750.73},{"$f":"Лист1!AW11+Лист1!AY11+Лист1!BA11","v":460078.55000000005},{"$f":"Лист1!FK11","v":10422.08},{"$f":"Лист1!AJ11","v":62392.67},{"$f":"Лист1!AA11","v":10561.97},{"$f":"Лист1!GE11+Лист1!GG11","v":4694.1099999999997},{"$f":"Лист1!EW11","v":3279.1},{"$f":"Лист1!AH11","v":411995.72},{"$f":"Лист1!FP11","v":36316.42},{"$f":"Лист1!EO11-Лист1!EQ11","v":2551.0700000000002},{"$f":"Лист1!FS11","v":19258.02},{"$f":"Лист1!CF11+Лист1!CH11","v":12102.710000000001},{"$f":"Лист1!S11+Лист1!U11","v":17220.23},{"$f":"Лист1!CJ11","v":111604.79},{"$f":"Лист1!CL11","v":52552.38},{"$f":"Лист1!CP11","v":37277.589999999997},{"$f":"Лист1!CN11","v":134404.04999999999},{"$f":"Лист1!CX11","v":22442.080000000002},{"$f":"Лист1!CR11","v":8552.0499999999993},{"$f":"Лист1!CV11","v":7553.07},{"$f":"Лист1!CT11","v":109803.91},{"$f":"Лист1!DQ11","v":15593.8},{"$f":"Лист1!DM11+Лист1!DO11","v":57843.61},{"$f":"Лист1!FZ11","v":122398.23},{"$f":"Лист1!DG11","v":4541.8100000000004},{"$f":"Лист1!BE11","v":12814.47},{"$f":"Лист1!AF11","v":6195.83},{"$f":"Лист1!CZ11","v":8810.43},{"$f":"Лист1!EF11","v":350379.06},{"$f":"Лист1!EB11","v":9343.89},{"$f":"Лист1!DX11+Лист1!DZ11","v":69934.559999999998},{"$f":"Лист1!ED11","v":6838.53},{"$f":"Лист1!EJ11","v":11008.69},{"$f":"Лист1!EH11","v":21091.24},6859854.0799999982]
[10,{"$f":"паспорт!S22","v":37.743699999999997},{"$f":"Лист1!AL12+Лист1!AN12+Лист1!AP12","v":1345634.8499999999},{"$f":"Лист1!EU12","v":3056.78},{"$f":"Лист1!BC12","v":120491.2},{"$f":"Лист1!G12","v":252479.34},{"$f":"Лист1!BI12","v":9170.91},{"$f":"Лист1!DK12","v":2347.16},{"$f":"Лист1!DE12","v":170924.52},{"$f":"Лист1!BY12+Лист1!W12","v":110139.56},{"$f":"Лист1!BG12","v":4123.53},{"$f":"Лист1!BQ12","v":3916.94},{"$f":"Лист1!Q12","v":8742.17},{"$f":"Лист1!BM12","v":5510.73},{"$f":"Лист1!K12","v":639289.13},0,{"$f":"Лист1!FA12","v":12004.94},{"$f":"Лист1!DI12","v":14012.61},{"$f":"Лист1!BK12","v":5972.09},{"$f":"Лист1!FD12+Лист1!FF12","v":61350.63},{"$f":"Лист1!BS12","v":73774.38},{"$f":"Лист1!BU12+Лист1!BW12","v":9814.5300000000007},{"$f":"Лист1!BO12","v":47765.77},{"$f":"Лист1!CD12","v":631906.93999999994},{"$f":"Лист1!AR12","v":15990.79},{"$f":"Лист1!O12","v":7266.97},{"$f":"Лист1!DS12","v":753400.56},{"$f":"Лист1!ES12","v":520.14},{"$f":"Лист1!Y12","v":17608.2},{"$f":"Лист1!AW12+Лист1!AY12+Лист1!BA12","v":443561.99},{"$f":"Лист1!FK12","v":7384.39},{"$f":"Лист1!AJ12","v":58658.45},{"$f":"Лист1!AA12","v":10175.59},{"$f":"Лист1!GE12+Лист1!GG12","v":1307},{"$f":"Лист1!EW12","v":3676.88},{"$f":"Лист1!AH12","v":379930.22},{"$f":"Лист1!FP12","v":33244.33},{"$f":"Лист1!EO12-Лист1!EQ12","v":1926.8000000000002},{"$f":"Лист1!FS12","v":4013.37},{"$f":"Лист1!CF12+Лист1!CH12","v":12214.41},{"$f":"Лист1!S12+Лист1!U12","v":16618.41},{"$f":"Лист1!CJ12","v":107779.89},{"$f":"Лист1!CL12","v":55013.14},{"$f":"Лист1!CP12","v":37255.050000000003},{"$f":"Лист1!CN12","v":134260.75},{"$f":"Лист1!CX12","v":22594.11},{"$f":"Лист1!CR12","v":8584.6200000000008},{"$f":"Лист1!CV12","v":7533},{"$f":"Лист1!CT12","v":109758.04},{"$f":"Лист1!DQ12","v":15000.22},{"$f":"Лист1!DM12+Лист1!DO12","v":53131.560000000005},{"$f":"Лист1!FZ12","v":106749.32},{"$f":"Лист1!DG12","v":4322.84},{"$f":"Лист1!BE12","v":11723.13},{"$f":"Лист1!AF12","v":5840.92},{"$f":"Лист1!CZ12","v":8806.75},{"$f":"Лист1!EF12","v":324903.09000000003},{"$f":"Лист1!EB12","v":8880.15},{"$f":"Лист1!DX12+Лист1!DZ12","v":66937.95},{"$f":"Лист1!ED12","v":6280.07},{"$f":"Лист1!EJ12","v":10395.370000000001},{"$f":"Лист1!EH12","v":19842.46},6425519.6399999987]
[11,{"$f":"паспорт!S23","v":37.743699999999997},{"$f":"Лист1!AL13+Лист1!AN13+Лист1!AP13","v":1194421.68},{"$f":"Лист1!EU13","v":1631.93},{"$f":"Лист1!BC13","v":127628.23},{"$f":"Лист1!G13","v":231893.03},{"$f":"Лист1!BI13","v":8929.7900000000009},{"$f":"Лист1!DK13","v":2271.0500000000002},{"$f":"Лист1!DE13","v":151513.19},{"$f":"Лист1!BY13+Лист1!W13","v":104271.41},{"$f":"Лист1!BG13","v":3899.41},{"$f":"Лист1!BQ13","v":3664.4},{"$f":"Лист1!Q13","v":8249.64},{"$f":"Лист1!BM13","v":5221.21},{"$f":"Лист1!K13","v":598220.06000000006},0,{"$f":"Лист1!FA13","v":7304.88},{"$f":"Лист1!DI13","v":12232.95},{"$f":"Лист1!BK13","v":5620.7},{"$f":"Лист1!FD13+Лист1!FF13","v":11933.33},{"$f":"Лист1!BS13","v":68578.48},{"$f":"Лист1!BU13+Лист1!BW13","v":0},{"$f":"Лист1!BO13","v":44590.27},{"$f":"Лист1!CD13","v":560364.5},{"$f":"Лист1!AR13","v":14651.49},{"$f":"Лист1!O13","v":6951.33},{"$f":"Лист1!DS13","v":688754.69},{"$f":"Лист1!ES13","v":176.95},{"$f":"Лист1!Y13","v":15605.89},{"$f":"Лист1!AW13+Лист1!AY13+Лист1!BA13","v":395682.76},{"$f":"Лист1!FK13","v":6000.08},{"$f":"Лист1!AJ13","v":56747.17},{"$f":"Лист1!AA13","v":9432.99},{"$f":"Лист1!GE13+Лист1!GG13","v":1432.8},{"$f":"Лист1!EW13","v":2996.81},{"$f":"Лист1!AH13","v":336770.22},{"$f":"Лист1!FP13","v":21350.54},{"$f":"Лист1!EO13-Лист1!EQ13","v":361.78999999999996},{"$f":"Лист1!FS13","v":45568.17},{"$f":"Лист1!CF13+Лист1!CH13","v":13757.39},{"$f":"Лист1!S13+Лист1!U13","v":15376.45},{"$f":"Лист1!CJ13","v":96853.23},{"$f":"Лист1!CL13","v":55981.57},{"$f":"Лист1!CP13","v":34663.019999999997},{"$f":"Лист1!CN13","v":126573.33},{"$f":"Лист1!CX13","v":21217.040000000001},{"$f":"Лист1!CR13","v":8460.0400000000009},{"$f":"Лист1!CV13","v":7210.81},{"$f":"Лист1!CT13","v":104915.02},{"$f":"Лист1!DQ13","v":14199.63},{"$f":"Лист1!DM13+Лист1!DO13","v":12260.17},{"$f":"Лист1!FZ13","v":117351.54},{"$f":"Лист1!DG13","v":4009.99},{"$f":"Лист1!BE13","v":11069.56},{"$f":"Лист1!AF13","v":5412.55},{"$f":"Лист1!CZ13","v":8373.0499999999993},{"$f":"Лист1!EF13","v":287253.65999999997},{"$f":"Лист1!EB13","v":7986.8},{"$f":"Лист1!DX13+Лист1!DZ13","v":60147.55},{"$f":"Лист1!ED13","v":5477.79},{"$f":"Лист1!EJ13","v":9286.25},{"$f":"Лист1!EH13","v":17753.46},5800513.7199999979]
[12,{"$f":"паспорт!S24","v":37.743699999999997},{"$f":"Лист1!AL14+Лист1!AN14+Лист1!AP14","v":1197380.48},{"$f":"Лист1!EU14","v":1213.0999999999999},{"$f":"Лист1!BC14","v":106932.13},{"$f":"Лист1!G14","v":225152.02},{"$f":"Лист1!BI14","v":7763.3},{"$f":"Лист1!DK14","v":2170.09},{"$f":"Лист1!DE14","v":143172.14000000001},{"$f":"Лист1!BY14+Лист1!W14","v":97202.93},{"$f":"Лист1!BG14","v":3776.35},{"$f":"Лист1!BQ14","v":3285.64},{"$f":"Лист1!Q14","v":7772.87},{"$f":"Лист1!BM14","v":5167.0600000000004},{"$f":"Лист1!K14","v":564405.18999999994},0,{"$f":"Лист1!FA14","v":5948.52},{"$f":"Лист1!DI14","v":11334.82},{"$f":"Лист1!BK14","v":5617.19},{"$f":"Лист1!FD14+Лист1!FF14","v":11746.07},{"$f":"Лист1!BS14","v":65983.45},{"$f":"Лист1!BU14+Лист1!BW14","v":0},{"$f":"Лист1!BO14","v":43646.95},{"$f":"Лист1!CD14","v":540631.43999999994},{"$f":"Лист1!AR14","v":14558.95},{"$f":"Лист1!O14","v":6624.05},{"$f":"Лист1!DS14","v":658447.25},{"$f":"Лист1!ES14","v":118.24},{"$f":"Лист1!Y14","v":15287.58},{"$f":"Лист1!AW14+Лист1!AY14+Лист1!BA14","v":387869.56},{"$f":"Лист1!FK14","v":4690.8500000000004},{"$f":"Лист1!AJ14","v":53022.32},{"$f":"Лист1!AA14","v":9147.42},{"$f":"Лист1!GE14+Лист1!GG14","v":1298.21},{"$f":"Лист1!EW14","v":2500.86},{"$f":"Лист1!AH14","v":330498.40999999997},{"$f":"Лист1!FP14","v":17529.5},{"$f":"Лист1!EO14-Лист1!EQ14","v":487.73},{"$f":"Лист1!FS14","v":34068.239999999998},{"$f":"Лист1!CF14+Лист1!CH14","v":11972.75},{"$f":"Лист1!S14+Лист1!U14","v":14363.53},{"$f":"Лист1!CJ14","v":91374.09},{"$f":"Лист1!CL14","v":54107.1},{"$f":"Лист1!CP14","v":33199.61},{"$f":"Лист1!CN14","v":119275.54},{"$f":"Лист1!CX14","v":19517.28},{"$f":"Лист1!CR14","v":8014.7},{"$f":"Лист1!CV14","v":6658.3},{"$f":"Лист1!CT14","v":99964.75},{"$f":"Лист1!DQ14","v":13598.14},{"$f":"Лист1!DM14+Лист1!DO14","v":14607.7},{"$f":"Лист1!FZ14","v":112512.53},{"$f":"Лист1!DG14","v":3888.93},{"$f":"Лист1!BE14","v":10898.74},{"$f":"Лист1!AF14","v":5108.01},{"$f":"Лист1!CZ14","v":7801.83},{"$f":"Лист1!EF14","v":273531.25},{"$f":"Лист1!EB14","v":7687.84},{"$f":"Лист1!DX14+Лист1!DZ14","v":57397.21},{"$f":"Лист1!ED14","v":5208.03},{"$f":"Лист1!EJ14","v":8690.5},{"$f":"Лист1!EH14","v":16434.5},5582263.7700000023]
[13,{"$f":"паспорт!S25","v":37.743699999999997},{"$f":"Лист1!AL15+Лист1!AN15+Лист1!AP15","v":1083804.9400000002},{"$f":"Лист1!EU15","v":2448.83},{"$f":"Лист1!BC15","v":121188.92},{"$f":"Лист1!G15","v":215771.44},{"$f":"Лист1!BI15","v":8611.35},{"$f":"Лист1!DK15","v":2056.79},{"$f":"Лист1!DE15","v":138933.84},{"$f":"Лист1!BY15+Лист1!W15","v":93028.29},{"$f":"Лист1!BG15","v":3516.9},{"$f":"Лист1!BQ15","v":3237.14},{"$f":"Лист1!Q15","v":7303.94},{"$f":"Лист1!BM15","v":4946.99},{"$f":"Лист1!K15","v":547906.93999999994},0,{"$f":"Лист1!FA15","v":9669.4699999999993},{"$f":"Лист1!DI15","v":11834.47},{"$f":"Лист1!BK15","v":5320.04},{"$f":"Лист1!FD15+Лист1!FF15","v":46254.68},{"$f":"Лист1!BS15","v":63170.62},{"$f":"Лист1!BU15+Лист1!BW15","v":155471.91},{"$f":"Лист1!BO15","v":40359.230000000003},{"$f":"Лист1!CD15","v":534012.25},{"$f":"Лист1!AR15","v":13618.47},{"$f":"Лист1!O15","v":6240.06},{"$f":"Лист1!DS15","v":641269.18999999994},{"$f":"Лист1!ES15","v":350.55},{"$f":"Лист1!Y15","v":14565.97},{"$f":"Лист1!AW15+Лист1!AY15+Лист1!BA15","v":367355.56},{"$f":"Лист1!FK15","v":11390.14},{"$f":"Лист1!AJ15","v":51317.14},{"$f":"Лист1!AA15","v":8503.49},{"$f":"Лист1!GE15+Лист1!GG15","v":1297.6199999999999},{"$f":"Лист1!EW15","v":2521.9899999999998},{"$f":"Лист1!AH15","v":320104.19},{"$f":"Лист1!FP15","v":25282.26},{"$f":"Лист1!EO15-Лист1!EQ15","v":1646.86},{"$f":"Лист1!FS15","v":60257.66},{"$f":"Лист1!CF15+Лист1!CH15","v":8673.34},{"$f":"Лист1!S15+Лист1!U15","v":13974.46},{"$f":"Лист1!CJ15","v":89322.27},{"$f":"Лист1!CL15","v":53321.46},{"$f":"Лист1!CP15","v":31590.76},{"$f":"Лист1!CN15","v":114347.3},{"$f":"Лист1!CX15","v":18904.54},{"$f":"Лист1!CR15","v":7520.41},{"$f":"Лист1!CV15","v":6378.97},{"$f":"Лист1!CT15","v":92069.98},{"$f":"Лист1!DQ15","v":13045.64},{"$f":"Лист1!DM15+Лист1!DO15","v":38955.65},{"$f":"Лист1!FZ15","v":117195.34},{"$f":"Лист1!DG15","v":3685.49},{"$f":"Лист1!BE15","v":9987.2999999999993},{"$f":"Лист1!AF15","v":4984.09},{"$f":"Лист1!CZ15","v":7477.21},{"$f":"Лист1!EF15","v":265832.15999999997},{"$f":"Лист1!EB15","v":7555.5},{"$f":"Лист1!DX15+Лист1!DZ15","v":56768.2},{"$f":"Лист1!ED15","v":5079.8500000000004},{"$f":"Лист1!EJ15","v":8653.4},{"$f":"Лист1!EH15","v":16442.27},5616335.7200000016]
[14,{"$f":"паспорт!S26","v":37.743699999999997},{"$f":"Лист1!AL16+Лист1!AN16+Лист1!AP16","v":1080838.73},{"$f":"Лист1!EU16","v":2546.08},{"$f":"Лист1!BC16","v":123800.66},{"$f":"Лист1!G16","v":216336.3},{"$f":"Лист1!BI16","v":9586.11},{"$f":"Лист1!DK16","v":2082.83},{"$f":"Лист1!DE16","v":134597.91},{"$f":"Лист1!BY16+Лист1!W16","v":97677.8},{"$f":"Лист1!BG16","v":3552.52},{"$f":"Лист1!BQ16","v":3146.7},{"$f":"Лист1!Q16","v":7409.36},{"$f":"Лист1!BM16","v":4989.22},{"$f":"Лист1!K16","v":554643.13},0,{"$f":"Лист1!FA16","v":11036.35},{"$f":"Лист1!DI16","v":11544.26},{"$f":"Лист1!BK16","v":5528.04},{"$f":"Лист1!FD16+Лист1!FF16","v":128238.68},{"$f":"Лист1!BS16","v":64258.78},{"$f":"Лист1!BU16+Лист1!BW16","v":78.5},{"$f":"Лист1!BO16","v":40721.82},{"$f":"Лист1!CD16","v":530873.63},{"$f":"Лист1!AR16","v":13888.07},{"$f":"Лист1!O16","v":6403.78},{"$f":"Лист1!DS16","v":648565.93999999994},{"$f":"Лист1!ES16","v":742.05},{"$f":"Лист1!Y16","v":15928.29},{"$f":"Лист1!AW16+Лист1!AY16+Лист1!BA16","v":365985.16},{"$f":"Лист1!FK16","v":8429.2800000000007},{"$f":"Лист1!AJ16","v":50706.64},{"$f":"Лист1!AA16","v":8895.57},{"$f":"Лист1!GE16+Лист1!GG16","v":1287.97},{"$f":"Лист1!EW16","v":2249.58},{"$f":"Лист1!AH16","v":327197.59000000003},{"$f":"Лист1!FP16","v":26646.19},{"$f":"Лист1!EO16-Лист1!EQ16","v":3153.76},{"$f":"Лист1!FS16","v":268.97000000000003},{"$f":"Лист1!CF16+Лист1!CH16","v":17032.599999999999},{"$f":"Лист1!S16+Лист1!U16","v":14165.89},{"$f":"Лист1!CJ16","v":91660.74},{"$f":"Лист1!CL16","v":51673.27},{"$f":"Лист1!CP16","v":33192.86},{"$f":"Лист1!CN16","v":116767.43},{"$f":"Лист1!CX16","v":19328.13},{"$f":"Лист1!CR16","v":7826.21},{"$f":"Лист1!CV16","v":6601.59},{"$f":"Лист1!CT16","v":91442.44},{"$f":"Лист1!DQ16","v":13207.1},{"$f":"Лист1!DM16+Лист1!DO16","v":78609.98},{"$f":"Лист1!FZ16","v":102700.65},{"$f":"Лист1!DG16","v":3840.54},{"$f":"Лист1!BE16","v":10328.870000000001},{"$f":"Лист1!AF16","v":5140.17},{"$f":"Лист1!CZ16","v":7676.69},{"$f":"Лист1!EF16","v":277665.06},{"$f":"Лист1!EB16","v":8049.53},{"$f":"Лист1!DX16+Лист1!DZ16","v":58457.16},{"$f":"Лист1!ED16","v":5427.86},{"$f":"Лист1!EJ16","v":9168.89},{"$f":"Лист1!EH16","v":17625.98},5561425.8899999997]
[15,{"$f":"паспорт!S27","v":37.743699999999997},{"$f":"Лист1!AL17+Лист1!AN17+Лист1!AP17","v":1030799.65},{"$f":"Лист1!EU17","v":4698.76},{"$f":"Лист1!BC17","v":116739.23},{"$f":"Лист1!G17","v":204268.17},{"$f":"Лист1!BI17","v":8546.51},{"$f":"Лист1!DK17","v":1964.47},{"$f":"Лист1!DE17","v":124581.37},{"$f":"Лист1!BY17+Лист1!W17","v":91893.77},{"$f":"Лист1!BG17","v":3301.51},{"$f":"Лист1!BQ17","v":3137.71},{"$f":"Лист1!Q17","v":7048.42},{"$f":"Лист1!BM17","v":4834.1499999999996},{"$f":"Лист1!K17","v":521264.03},0,{"$f":"Лист1!FA17","v":10879.66},{"$f":"Лист1!DI17","v":11442.23},{"$f":"Лист1!BK17","v":5392.64},{"$f":"Лист1!FD17+Лист1!FF17","v":130264.73},{"$f":"Лист1!BS17","v":60467.54},{"$f":"Лист1!BU17+Лист1!BW17","v":0},{"$f":"Лист1!BO17","v":38493.33},{"$f":"Лист1!CD17","v":489199},{"$f":"Лист1!AR17","v":13119.33},{"$f":"Лист1!O17","v":6070.87},{"$f":"Лист1!DS17","v":592538.63},{"$f":"Лист1!ES17","v":427.06},{"$f":"Лист1!Y17","v":14278.84},{"$f":"Лист1!AW17+Лист1!AY17+Лист1!BA17","v":343314.4},{"$f":"Лист1!FK17","v":4813.43},{"$f":"Лист1!AJ17","v":49570.03},{"$f":"Лист1!AA17","v":8414.1},{"$f":"Лист1!GE17+Лист1!GG17","v":1222.21},{"$f":"Лист1!EW17","v":2001.21},{"$f":"Лист1!AH17","v":298273.06},{"$f":"Лист1!FP17","v":22802.01},{"$f":"Лист1!EO17-Лист1!EQ17","v":1943.5700000000002},{"$f":"Лист1!FS17","v":3838.99},{"$f":"Лист1!CF17+Лист1!CH17","v":12421.54},{"$f":"Лист1!S17+Лист1!U17","v":13399.14},{"$f":"Лист1!CJ17","v":85406.6},{"$f":"Лист1!CL17","v":49052.49},{"$f":"Лист1!CP17","v":29276.04},{"$f":"Лист1!CN17","v":108639.93},{"$f":"Лист1!CX17","v":17525.29},{"$f":"Лист1!CR17","v":7561.86},{"$f":"Лист1!CV17","v":6201.94},{"$f":"Лист1!CT17","v":83875.08},{"$f":"Лист1!DQ17","v":12596.76},{"$f":"Лист1!DM17+Лист1!DO17","v":12565.29},{"$f":"Лист1!FZ17","v":108764.16},{"$f":"Лист1!DG17","v":3653.11},{"$f":"Лист1!BE17","v":9946.81},{"$f":"Лист1!AF17","v":4939.92},{"$f":"Лист1!CZ17","v":7201.82},{"$f":"Лист1!EF17","v":267355.15999999997},{"$f":"Лист1!EB17","v":7676.31},{"$f":"Лист1!DX17+Лист1!DZ17","v":55370.9},{"$f":"Лист1!ED17","v":5303.73},{"$f":"Лист1!EJ17","v":8680.68},{"$f":"Лист1!EH17","v":16576.8},5165835.9800000004]
[16,{"$f":"паспорт!S28","v":37.689399999999999},{"$f":"Лист1!AL18+Лист1!AN18+Лист1!AP18","v":1158614.1199999999},{"$f":"Лист1!EU18","v":2648.03},{"$f":"Лист1!BC18","v":125658.73},{"$f":"Лист1!G18","v":225707.81},{"$f":"Лист1!BI18","v":8643.66},{"$f":"Лист1!DK18","v":2058.36},{"$f":"Лист1!DE18","v":150093.35999999999},{"$f":"Лист1!BY18+Лист1!W18","v":99440.91},{"$f":"Лист1!BG18","v":3726.19},{"$f":"Лист1!BQ18","v":3477.28},{"$f":"Лист1!Q18","v":7361.9},{"$f":"Лист1!BM18","v":5002.12},{"$f":"Лист1!K18","v":572864.06000000006},0,{"$f":"Лист1!FA18","v":8855.14},{"$f":"Лист1!DI18","v":12627.02},{"$f":"Лист1!BK18","v":5480.75},{"$f":"Лист1!FD18+Лист1!FF18","v":117156.56},{"$f":"Лист1!BS18","v":67717.3},{"$f":"Лист1!BU18+Лист1!BW18","v":0},{"$f":"Лист1!BO18","v":42136.21},{"$f":"Лист1!CD18","v":565739.5},{"$f":"Лист1!AR18","v":13801.03},{"$f":"Лист1!O18","v":6252.89},{"$f":"Лист1!DS18","v":674265.5},{"$f":"Лист1!ES18","v":256.41000000000003},{"$f":"Лист1!Y18","v":15717.97},{"$f":"Лист1!AW18+Лист1!AY18+Лист1!BA18","v":380674.11},{"$f":"Лист1!FK18","v":8657.52},{"$f":"Лист1!AJ18","v":52467.02},{"$f":"Лист1!AA18","v":8878.4599999999991},{"$f":"Лист1!GE18+Лист1!GG18","v":1123.43},{"$f":"Лист1!EW18","v":2229.63},{"$f":"Лист1!AH18","v":327348.44},{"$f":"Лист1!FP18","v":27378.49},{"$f":"Лист1!EO18-Лист1!EQ18","v":1682.56},{"$f":"Лист1!FS18","v":303.89999999999998},{"$f":"Лист1!CF18+Лист1!CH18","v":12209.54},{"$f":"Лист1!S18+Лист1!U18","v":13968.95},{"$f":"Лист1!CJ18","v":95412.160000000003},{"$f":"Лист1!CL18","v":52148.35},{"$f":"Лист1!CP18","v":34790.300000000003},{"$f":"Лист1!CN18","v":116064.92},{"$f":"Лист1!CX18","v":20216.32},{"$f":"Лист1!CR18","v":7535.09},{"$f":"Лист1!CV18","v":6579.55},{"$f":"Лист1!CT18","v":95831.8},{"$f":"Лист1!DQ18","v":13027.76},{"$f":"Лист1!DM18+Лист1!DO18","v":18670.63},{"$f":"Лист1!FZ18","v":105339.63},{"$f":"Лист1!DG18","v":3721.22},{"$f":"Лист1!BE18","v":10332.26},{"$f":"Лист1!AF18","v":4972.33},{"$f":"Лист1!CZ18","v":7396.64},{"$f":"Лист1!EF18","v":274561.96999999997},{"$f":"Лист1!EB18","v":7727.5},{"$f":"Лист1!DX18+Лист1!DZ18","v":56889.07},{"$f":"Лист1!ED18","v":5395.75},{"$f":"Лист1!EJ18","v":8786.7999999999993},{"$f":"Лист1!EH18","v":17076.28},5694701.1899999976]
[17,{"$f":"паспорт!S29","v":37.689399999999999},{"$f":"Лист1!AL19+Лист1!AN19+Лист1!AP19","v":1096991.74},{"$f":"Лист1!EU19","v":2483.75},{"$f":"Лист1!BC19","v":100250.21},{"$f":"Лист1!G19","v":222492.72},{"$f":"Лист1!BI19","v":7841.71},{"$f":"Лист1!DK19","v":2064.37},{"$f":"Лист1!DE19","v":137545.53},{"$f":"Лист1!BY19+Лист1!W19","v":97325.55},{"$f":"Лист1!BG19","v":3747.31},{"$f":"Лист1!BQ19","v":3500.3},{"$f":"Лист1!Q19","v":7647.57},{"$f":"Лист1!BM19","v":5255.06},{"$f":"Лист1!K19","v":544906.5},0,{"$f":"Лист1!FA19","v":8932.7199999999993},{"$f":"Лист1!DI19","v":11664.3},{"$f":"Лист1!BK19","v":5617.51},{"$f":"Лист1!FD19+Лист1!FF19","v":113706.33},{"$f":"Лист1!BS19","v":65369.77},{"$f":"Лист1!BU19+Лист1!BW19","v":0},{"$f":"Лист1!BO19","v":42703.61},{"$f":"Лист1!CD19","v":529134.38},{"$f":"Лист1!AR19","v":14112.79},{"$f":"Лист1!O19","v":6634.81},{"$f":"Лист1!DS19","v":655817.5},{"$f":"Лист1!ES19","v":462.99},{"$f":"Лист1!Y19","v":15450.6},{"$f":"Лист1!AW19+Лист1!AY19+Лист1!BA19","v":372158.18},{"$f":"Лист1!FK19","v":6727.04},{"$f":"Лист1!AJ19","v":51766.34},{"$f":"Лист1!AA19","v":8865.26},{"$f":"Лист1!GE19+Лист1!GG19","v":1319.17},{"$f":"Лист1!EW19","v":2317.5300000000002},{"$f":"Лист1!AH19","v":325460.25},{"$f":"Лист1!FP19","v":29198.98},{"$f":"Лист1!EO19-Лист1!EQ19","v":1688.3500000000001},{"$f":"Лист1!FS19","v":88244.7},{"$f":"Лист1!CF19+Лист1!CH19","v":12821.9},{"$f":"Лист1!S19+Лист1!U19","v":14041.25},{"$f":"Лист1!CJ19","v":88359.89},{"$f":"Лист1!CL19","v":49819.97},{"$f":"Лист1!CP19","v":33048.46},{"$f":"Лист1!CN19","v":113134.46},{"$f":"Лист1!CX19","v":19072.400000000001},{"$f":"Лист1!CR19","v":7704.5},{"$f":"Лист1!CV19","v":6462.44},{"$f":"Лист1!CT19","v":88077.62},{"$f":"Лист1!DQ19","v":13376.93},{"$f":"Лист1!DM19+Лист1!DO19","v":24352.3},{"$f":"Лист1!FZ19","v":116653.25},{"$f":"Лист1!DG19","v":3847.7},{"$f":"Лист1!BE19","v":10800.56},{"$f":"Лист1!AF19","v":5137.8500000000004},{"$f":"Лист1!CZ19","v":7313.9},{"$f":"Лист1!EF19","v":282334.34000000003},{"$f":"Лист1!EB19","v":7952.62},{"$f":"Лист1!DX19+Лист1!DZ19","v":58184.44},{"$f":"Лист1!ED19","v":5630},{"$f":"Лист1!EJ19","v":9064.07},{"$f":"Лист1!EH19","v":17749.04},5584345.3200000012]
[18,{"$f":"паспорт!S30","v":37.689399999999999},{"$f":"Лист1!AL20+Лист1!AN20+Лист1!AP20","v":994409.52},{"$f":"Лист1!EU20","v":1458.98},{"$f":"Лист1!BC20","v":110958.92},{"$f":"Лист1!G20","v":190670.97},{"$f":"Лист1!BI20","v":7404.81},{"$f":"Лист1!DK20","v":1952.08},{"$f":"Лист1!DE20","v":116184.25},{"$f":"Лист1!BY20+Лист1!W20","v":89251.61},{"$f":"Лист1!BG20","v":3429.47},{"$f":"Лист1!BQ20","v":3005.34},{"$f":"Лист1!Q20","v":6952.65},{"$f":"Лист1!BM20","v":4816.55},{"$f":"Лист1!K20","v":494740.97},0,{"$f":"Лист1!FA20","v":6448.21},{"$f":"Лист1!DI20","v":10264.040000000001},{"$f":"Лист1!BK20","v":5118.71},{"$f":"Лист1!FD20+Лист1!FF20","v":6693.06},{"$f":"Лист1!BS20","v":58849.65},{"$f":"Лист1!BU20+Лист1!BW20","v":0},{"$f":"Лист1!BO20","v":37773.42},{"$f":"Лист1!CD20","v":464458},{"$f":"Лист1!AR20","v":12908.02},{"$f":"Лист1!O20","v":6075.35},{"$f":"Лист1!DS20","v":613463.5},{"$f":"Лист1!ES20","v":291.89},{"$f":"Лист1!Y20","v":13628.32},{"$f":"Лист1!AW20+Лист1!AY20+Лист1!BA20","v":328534.36},{"$f":"Лист1!FK20","v":1064.5999999999999},{"$f":"Лист1!AJ20","v":46401.99},{"$f":"Лист1!AA20","v":8295.7199999999993},{"$f":"Лист1!GE20+Лист1!GG20","v":1266.3499999999999},{"$f":"Лист1!EW20","v":1868.24},{"$f":"Лист1!AH20","v":285885.59000000003},{"$f":"Лист1!FP20","v":17263.68},{"$f":"Лист1!EO20-Лист1!EQ20","v":1392},{"$f":"Лист1!FS20","v":2480.91},{"$f":"Лист1!CF20+Лист1!CH20","v":10519.19},{"$f":"Лист1!S20+Лист1!U20","v":12771.44},{"$f":"Лист1!CJ20","v":78093.45},{"$f":"Лист1!CL20","v":49010.44},{"$f":"Лист1!CP20","v":28438.28},{"$f":"Лист1!CN20","v":105533.36},{"$f":"Лист1!CX20","v":16603.240000000002},{"$f":"Лист1!CR20","v":7211.26},{"$f":"Лист1!CV20","v":6010.36},{"$f":"Лист1!CT20","v":81511.69},{"$f":"Лист1!DQ20","v":12565.84},{"$f":"Лист1!DM20+Лист1!DO20","v":9607.9},{"$f":"Лист1!FZ20","v":100269.6},{"$f":"Лист1!DG20","v":3622.99},{"$f":"Лист1!BE20","v":9530.01},{"$f":"Лист1!AF20","v":4769.1000000000004},{"$f":"Лист1!CZ20","v":6901.8},{"$f":"Лист1!EF20","v":254805.92},{"$f":"Лист1!EB20","v":7332.05},{"$f":"Лист1!DX20+Лист1!DZ20","v":53000.72},{"$f":"Лист1!ED20","v":5113.12},{"$f":"Лист1!EJ20","v":8371.4699999999993},{"$f":"Лист1!EH20","v":16150.22},4843405.18]
[19,{"$f":"паспорт!S31","v":37.689399999999999},{"$f":"Лист1!AL21+Лист1!AN21+Лист1!AP21","v":901483.2300000001},{"$f":"Лист1!EU21","v":1270.72},{"$f":"Лист1!BC21","v":108414.84},{"$f":"Лист1!G21","v":177065.98},{"$f":"Лист1!BI21","v":6174.13},{"$f":"Лист1!DK21","v":1803.18},{"$f":"Лист1!DE21","v":108064.38},{"$f":"Лист1!BY21+Лист1!W21","v":88189.01999999999},{"$f":"Лист1!BG21","v":3108.76},{"$f":"Лист1!BQ21","v":2409.29},{"$f":"Лист1!Q21","v":6285.55},{"$f":"Лист1!BM21","v":4345.4399999999996},{"$f":"Лист1!K21","v":455474.34},0,{"$f":"Лист1!FA21","v":5182.6400000000003},{"$f":"Лист1!DI21","v":9419.49},{"$f":"Лист1!BK21","v":4772.42},{"$f":"Лист1!FD21+Лист1!FF21","v":2094.61},{"$f":"Лист1!BS21","v":53861.75},{"$f":"Лист1!BU21+Лист1!BW21","v":0},{"$f":"Лист1!BO21","v":35356.35},{"$f":"Лист1!CD21","v":433655.56},{"$f":"Лист1!AR21","v":11903.34},{"$f":"Лист1!O21","v":5463.47},{"$f":"Лист1!DS21","v":556225.75},{"$f":"Лист1!ES21","v":209.35},{"$f":"Лист1!Y21","v":12495.56},{"$f":"Лист1!AW21+Лист1!AY21+Лист1!BA21","v":299528.98},{"$f":"Лист1!FK21","v":7196.73},{"$f":"Лист1!AJ21","v":45392.75},{"$f":"Лист1!AA21","v":7723.47},{"$f":"Лист1!GE21+Лист1!GG21","v":1255.76},{"$f":"Лист1!EW21","v":1333.21},{"$f":"Лист1!AH21","v":261758.7},{"$f":"Лист1!FP21","v":13680.66},{"$f":"Лист1!EO21-Лист1!EQ21","v":1030.43},{"$f":"Лист1!FS21","v":39332.629999999997},{"$f":"Лист1!CF21+Лист1!CH21","v":13643.3},{"$f":"Лист1!S21+Лист1!U21","v":11856.46},{"$f":"Лист1!CJ21","v":75351.3},{"$f":"Лист1!CL21","v":49744.2},{"$f":"Лист1!CP21","v":25303.73},{"$f":"Лист1!CN21","v":96475.63},{"$f":"Лист1!CX21","v":14755.4},{"$f":"Лист1!CR21","v":6741.05},{"$f":"Лист1!CV21","v":5518.05},{"$f":"Лист1!CT21","v":69794.880000000005},{"$f":"Лист1!DQ21","v":11849.94},{"$f":"Лист1!DM21+Лист1!DO21","v":8800.59},{"$f":"Лист1!FZ21","v":106545.12},{"$f":"Лист1!DG21","v":3274.21},{"$f":"Лист1!BE21","v":8608.48},{"$f":"Лист1!AF21","v":4303.38},{"$f":"Лист1!CZ21","v":6293.53},{"$f":"Лист1!EF21","v":239424.19},{"$f":"Лист1!EB21","v":6876.13},{"$f":"Лист1!DX21+Лист1!DZ21","v":49240.71},{"$f":"Лист1!ED21","v":4684.97},{"$f":"Лист1!EJ21","v":8020.47},{"$f":"Лист1!EH21","v":15017.99},4515086.1799999988]
[20,{"$f":"паспорт!S32","v":37.689399999999999},{"$f":"Лист1!AL22+Лист1!AN22+Лист1!AP22","v":883922.8},{"$f":"Лист1!EU22","v":2524.5500000000002},{"$f":"Лист1!BC22","v":101838.28},{"$f":"Лист1!G22","v":175326.84},{"$f":"Лист1!BI22","v":6000.42},{"$f":"Лист1!DK22","v":1658.34},{"$f":"Лист1!DE22","v":106817.87},{"$f":"Лист1!BY22+Лист1!W22","v":87985.93},{"$f":"Лист1!BG22","v":2924.16},{"$f":"Лист1!BQ22","v":2427.0100000000002},{"$f":"Лист1!Q22","v":5958.63},{"$f":"Лист1!BM22","v":4167.58},{"$f":"Лист1!K22","v":438670.75},0,{"$f":"Лист1!FA22","v":7819.31},{"$f":"Лист1!DI22","v":9273.89},{"$f":"Лист1!BK22","v":4437.58},{"$f":"Лист1!FD22+Лист1!FF22","v":103503.58},{"$f":"Лист1!BS22","v":49769.26},{"$f":"Лист1!BU22+Лист1!BW22","v":123479.15},{"$f":"Лист1!BO22","v":32383.439999999999},{"$f":"Лист1!CD22","v":403819.75},{"$f":"Лист1!AR22","v":10974.33},{"$f":"Лист1!O22","v":5001.99},{"$f":"Лист1!DS22","v":555207.75},{"$f":"Лист1!ES22","v":373.77},{"$f":"Лист1!Y22","v":12447.39},{"$f":"Лист1!AW22+Лист1!AY22+Лист1!BA22","v":284227.56},{"$f":"Лист1!FK22","v":6509.02},{"$f":"Лист1!AJ22","v":43701.4},{"$f":"Лист1!AA22","v":6992.36},{"$f":"Лист1!GE22+Лист1!GG22","v":963.16},{"$f":"Лист1!EW22","v":1718.58},{"$f":"Лист1!AH22","v":249002.06},{"$f":"Лист1!FP22","v":21149.7},{"$f":"Лист1!EO22-Лист1!EQ22","v":1548.96},{"$f":"Лист1!FS22","v":51708.480000000003},{"$f":"Лист1!CF22+Лист1!CH22","v":12935.11},{"$f":"Лист1!S22+Лист1!U22","v":10111.379999999999},{"$f":"Лист1!CJ22","v":69640.73},{"$f":"Лист1!CL22","v":45846.53},{"$f":"Лист1!CP22","v":23186.86},{"$f":"Лист1!CN22","v":86688.53},{"$f":"Лист1!CX22","v":13486.65},{"$f":"Лист1!CR22","v":5819.07},{"$f":"Лист1!CV22","v":4784.63},{"$f":"Лист1!CT22","v":63580.81},{"$f":"Лист1!DQ22","v":11041.4},{"$f":"Лист1!DM22+Лист1!DO22","v":8951.5},{"$f":"Лист1!FZ22","v":108473.1},{"$f":"Лист1!DG22","v":3024.43},{"$f":"Лист1!BE22","v":7910.34},{"$f":"Лист1!AF22","v":3974.26},{"$f":"Лист1!CZ22","v":5540.83},{"$f":"Лист1!EF22","v":218279.78},{"$f":"Лист1!EB22","v":6409.49},{"$f":"Лист1!DX22+Лист1!DZ22","v":45508.05},{"$f":"Лист1!ED22","v":4403.1000000000004},{"$f":"Лист1!EJ22","v":7502.93},{"$f":"Лист1!EH22","v":14071.12},4587406.2599999988]
[21,{"$f":"паспорт!S33","v":37.689399999999999},{"$f":"Лист1!AL23+Лист1!AN23+Лист1!AP23","v":874440.42999999993},{"$f":"Лист1!EU23","v":1916.4},{"$f":"Лист1!BC23","v":100836.41},{"$f":"Лист1!G23","v":174417.39},{"$f":"Лист1!BI23","v":6077.99},{"$f":"Лист1!DK23","v":1656.2},{"$f":"Лист1!DE23","v":102794.82},{"$f":"Лист1!BY23+Лист1!W23","v":81564.849999999991},{"$f":"Лист1!BG23","v":2867.74},{"$f":"Лист1!BQ23","v":2340},{"$f":"Лист1!Q23","v":5972},{"$f":"Лист1!BM23","v":3953.17},{"$f":"Лист1!K23","v":443260.84},0,{"$f":"Лист1!FA23","v":8399.18},{"$f":"Лист1!DI23","v":8877.77},{"$f":"Лист1!BK23","v":4339.6899999999996},{"$f":"Лист1!FD23+Лист1!FF23","v":130485.06},{"$f":"Лист1!BS23","v":48345.3},{"$f":"Лист1!BU23+Лист1!BW23","v":26558},{"$f":"Лист1!BO23","v":31685.23},{"$f":"Лист1!CD23","v":406123.28},{"$f":"Лист1!AR23","v":11094.34},{"$f":"Лист1!O23","v":4999.87},{"$f":"Лист1!DS23","v":536679.31000000006},{"$f":"Лист1!ES23","v":550.13},{"$f":"Лист1!Y23","v":12165.91},{"$f":"Лист1!AW23+Лист1!AY23+Лист1!BA23","v":276873.83999999997},{"$f":"Лист1!FK23","v":3810.48},{"$f":"Лист1!AJ23","v":43553.54},{"$f":"Лист1!AA23","v":7035.72},{"$f":"Лист1!GE23+Лист1!GG23","v":0.09},{"$f":"Лист1!EW23","v":2120.66},{"$f":"Лист1!AH23","v":252053.7},{"$f":"Лист1!FP23","v":20222.11},{"$f":"Лист1!EO23-Лист1!EQ23","v":2036.0600000000002},{"$f":"Лист1!FS23","v":81527.740000000005},{"$f":"Лист1!CF23+Лист1!CH23","v":12209.93},{"$f":"Лист1!S23+Лист1!U23","v":11421.55},{"$f":"Лист1!CJ23","v":68035.3},{"$f":"Лист1!CL23","v":48514.03},{"$f":"Лист1!CP23","v":24232.240000000002},{"$f":"Лист1!CN23","v":90337.98},{"$f":"Лист1!CX23","v":14339.72},{"$f":"Лист1!CR23","v":5557.7},{"$f":"Лист1!CV23","v":4924.82},{"$f":"Лист1!CT23","v":64596.6},{"$f":"Лист1!DQ23","v":10783.65},{"$f":"Лист1!DM23+Лист1!DO23","v":4024.01},{"$f":"Лист1!FZ23","v":101377.01},{"$f":"Лист1!DG23","v":3078.19},{"$f":"Лист1!BE23","v":7897.41},{"$f":"Лист1!AF23","v":3999.56},{"$f":"Лист1!CZ23","v":5896.31},{"$f":"Лист1!EF23","v":214596.5},{"$f":"Лист1!EB23","v":6407.35},{"$f":"Лист1!DX23+Лист1!DZ23","v":45190.3},{"$f":"Лист1!ED23","v":4337.6899999999996},{"$f":"Лист1!EJ23","v":7583.67},{"$f":"Лист1!EH23","v":14028.45},4495005.22]
[22,{"$f":"паспорт!S34","v":37.689399999999999},{"$f":"Лист1!AL24+Лист1!AN24+Лист1!AP24","v":838970.34},{"$f":"Лист1!EU24","v":1992.04},{"$f":"Лист1!BC24","v":97694.02},{"$f":"Лист1!G24","v":168407.34},{"$f":"Лист1!BI24","v":6521.35},{"$f":"Лист1!DK24","v":3062.6},{"$f":"Лист1!DE24","v":102911.37},{"$f":"Лист1!BY24+Лист1!W24","v":76668.61},{"$f":"Лист1!BG24","v":2880.27},{"$f":"Лист1!BQ24","v":2614.9},{"$f":"Лист1!Q24","v":5990.98},{"$f":"Лист1!BM24","v":4054.46},{"$f":"Лист1!K24","v":439643.31},0,{"$f":"Лист1!FA24","v":8715.5},{"$f":"Лист1!DI24","v":8917.2999999999993},{"$f":"Лист1!BK24","v":4471.8500000000004},{"$f":"Лист1!FD24+Лист1!FF24","v":152920.82999999999},{"$f":"Лист1!BS24","v":50519.94},{"$f":"Лист1!BU24+Лист1!BW24","v":0},{"$f":"Лист1!BO24","v":31437.38},{"$f":"Лист1!CD24","v":407740.28},{"$f":"Лист1!AR24","v":10987.72},{"$f":"Лист1!O24","v":5051.4799999999996},{"$f":"Лист1!DS24","v":552439.68999999994},{"$f":"Лист1!ES24","v":853.08},{"$f":"Лист1!Y24","v":11788.11},{"$f":"Лист1!AW24+Лист1!AY24+Лист1!BA24","v":273579.01},{"$f":"Лист1!FK24","v":3412.11},{"$f":"Лист1!AJ24","v":43305.87},{"$f":"Лист1!AA24","v":7188.46},{"$f":"Лист1!GE24+Лист1!GG24","v":1140.0899999999999},{"$f":"Лист1!EW24","v":1966.69},{"$f":"Лист1!AH24","v":254192.77},{"$f":"Лист1!FP24","v":19047.919999999998},{"$f":"Лист1!EO24-Лист1!EQ24","v":1825.0900000000001},{"$f":"Лист1!FS24","v":99906.57},{"$f":"Лист1!CF24+Лист1!CH24","v":7754.97},{"$f":"Лист1!S24+Лист1!U24","v":10886.58},{"$f":"Лист1!CJ24","v":71137.97},{"$f":"Лист1!CL24","v":49470.91},{"$f":"Лист1!CP24","v":24817.56},{"$f":"Лист1!CN24","v":91217.33},{"$f":"Лист1!CX24","v":14700.74},{"$f":"Лист1!CR24","v":6052.43},{"$f":"Лист1!CV24","v":5051.24},{"$f":"Лист1!CT24","v":64497.7},{"$f":"Лист1!DQ24","v":10580.65},{"$f":"Лист1!DM24+Лист1!DO24","v":0},{"$f":"Лист1!FZ24","v":111528.38},{"$f":"Лист1!DG24","v":2988.78},{"$f":"Лист1!BE24","v":7949.81},{"$f":"Лист1!AF24","v":3980.07},{"$f":"Лист1!CZ24","v":5849.99},{"$f":"Лист1!EF24","v":209605.22},{"$f":"Лист1!EB24","v":6274.16},{"$f":"Лист1!DX24+Лист1!DZ24","v":44614.89},{"$f":"Лист1!ED24","v":4222.17},{"$f":"Лист1!EJ24","v":7366.89},{"$f":"Лист1!EH24","v":13417.69},4476785.46]
[23,{"$f":"паспорт!S35","v":37.689399999999999},{"$f":"Лист1!AL25+Лист1!AN25+Лист1!AP25","v":828444.66},{"$f":"Лист1!EU25","v":2098.94},{"$f":"Лист1!BC25","v":103209.79},{"$f":"Лист1!G25","v":170906.19},{"$f":"Лист1!BI25","v":7142.9},{"$f":"Лист1!DK25","v":3442.81},{"$f":"Лист1!DE25","v":103318.35},{"$f":"Лист1!BY25+Лист1!W25","v":77735.05},{"$f":"Лист1!BG25","v":2852.89},{"$f":"Лист1!BQ25","v":2332.21},{"$f":"Лист1!Q25","v":6184.86},{"$f":"Лист1!BM25","v":4028.92},{"$f":"Лист1!K25","v":450537.94},0,{"$f":"Лист1!FA25","v":7763.06},{"$f":"Лист1!DI25","v":9378.75},{"$f":"Лист1!BK25","v":4502.9399999999996},{"$f":"Лист1!FD25+Лист1!FF25","v":117590.22},{"$f":"Лист1!BS25","v":50767.91},{"$f":"Лист1!BU25+Лист1!BW25","v":0},{"$f":"Лист1!BO25","v":32072.78},{"$f":"Лист1!CD25","v":410115.91},{"$f":"Лист1!AR25","v":11299.44},{"$f":"Лист1!O25","v":5084.3},{"$f":"Лист1!DS25","v":548427.68999999994},{"$f":"Лист1!ES25","v":462.17},{"$f":"Лист1!Y25","v":12276.57},{"$f":"Лист1!AW25+Лист1!AY25+Лист1!BA25","v":279305.83},{"$f":"Лист1!FK25","v":4492.01},{"$f":"Лист1!AJ25","v":40493.46},{"$f":"Лист1!AA25","v":7362.8},{"$f":"Лист1!GE25+Лист1!GG25","v":1093.97},{"$f":"Лист1!EW25","v":1835.79},{"$f":"Лист1!AH25","v":257401.33},{"$f":"Лист1!FP25","v":19309.37},{"$f":"Лист1!EO25-Лист1!EQ25","v":1658.4199999999998},{"$f":"Лист1!FS25","v":40624.32},{"$f":"Лист1!CF25+Лист1!CH25","v":11433.53},{"$f":"Лист1!S25+Лист1!U25","v":11094.2},{"$f":"Лист1!CJ25","v":69234},{"$f":"Лист1!CL25","v":42192.87},{"$f":"Лист1!CP25","v":24391.84},{"$f":"Лист1!CN25","v":91532.66},{"$f":"Лист1!CX25","v":14387.92},{"$f":"Лист1!CR25","v":6260.82},{"$f":"Лист1!CV25","v":5139.7299999999996},{"$f":"Лист1!CT25","v":65250.22},{"$f":"Лист1!DQ25","v":10573.93},{"$f":"Лист1!DM25+Лист1!DO25","v":2136.69},{"$f":"Лист1!FZ25","v":100012.16},{"$f":"Лист1!DG25","v":3095.2},{"$f":"Лист1!BE25","v":8223.34},{"$f":"Лист1!AF25","v":4158.3999999999996},{"$f":"Лист1!CZ25","v":5979.96},{"$f":"Лист1!EF25","v":213479.77},{"$f":"Лист1!EB25","v":6603.41},{"$f":"Лист1!DX25+Лист1!DZ25","v":45354.29},{"$f":"Лист1!ED25","v":4361.2299999999996},{"$f":"Лист1!EJ25","v":7479.2},{"$f":"Лист1!EH25","v":13894.66},4391824.58]
[24,{"$f":"паспорт!S36","v":37.970199999999998},{"$f":"Лист1!AL26+Лист1!AN26+Лист1!AP26","v":844439.23},{"$f":"Лист1!EU26","v":2150.69},{"$f":"Лист1!BC26","v":92311.58},{"$f":"Лист1!G26","v":157220.48000000001},{"$f":"Лист1!BI26","v":4681.7},{"$f":"Лист1!DK26","v":3099.83},{"$f":"Лист1!DE26","v":88078.05},{"$f":"Лист1!BY26+Лист1!W26","v":70517.36},{"$f":"Лист1!BG26","v":2734.73},{"$f":"Лист1!BQ26","v":2059.9299999999998},{"$f":"Лист1!Q26","v":5623.87},{"$f":"Лист1!BM26","v":3937.65},{"$f":"Лист1!K26","v":394835.81},0,{"$f":"Лист1!FA26","v":7879.03},{"$f":"Лист1!DI26","v":8072.55},{"$f":"Лист1!BK26","v":4099.0600000000004},{"$f":"Лист1!FD26+Лист1!FF26","v":98923.49},{"$f":"Лист1!BS26","v":43890.94},{"$f":"Лист1!BU26+Лист1!BW26","v":5452.6},{"$f":"Лист1!BO26","v":29078},{"$f":"Лист1!CD26","v":356776.53},{"$f":"Лист1!AR26","v":10244.5},{"$f":"Лист1!O26","v":4684.76},{"$f":"Лист1!DS26","v":483851.53},{"$f":"Лист1!ES26","v":402},{"$f":"Лист1!Y26","v":11219.7},{"$f":"Лист1!AW26+Лист1!AY26+Лист1!BA26","v":241461.95},{"$f":"Лист1!FK26","v":2341.0300000000002},{"$f":"Лист1!AJ26","v":38732.39},{"$f":"Лист1!AA26","v":6736.48},{"$f":"Лист1!GE26+Лист1!GG26","v":1145.1199999999999},{"$f":"Лист1!EW26","v":1852.1},{"$f":"Лист1!AH26","v":220529.31},{"$f":"Лист1!FP26","v":18453.87},{"$f":"Лист1!EO26-Лист1!EQ26","v":1625.97},{"$f":"Лист1!FS26","v":5595.81},{"$f":"Лист1!CF26+Лист1!CH26","v":13795.33},{"$f":"Лист1!S26+Лист1!U26","v":9603.49},{"$f":"Лист1!CJ26","v":57837.05},{"$f":"Лист1!CL26","v":31075.59},{"$f":"Лист1!CP26","v":21373.71},{"$f":"Лист1!CN26","v":85166.69},{"$f":"Лист1!CX26","v":12268.52},{"$f":"Лист1!CR26","v":5624.67},{"$f":"Лист1!CV26","v":4789.1499999999996},{"$f":"Лист1!CT26","v":61582.65},{"$f":"Лист1!DQ26","v":9927.2900000000009},{"$f":"Лист1!DM26+Лист1!DO26","v":37571.919999999998},{"$f":"Лист1!FZ26","v":92020.65},{"$f":"Лист1!DG26","v":2891.96},{"$f":"Лист1!BE26","v":7619.14},{"$f":"Лист1!AF26","v":3671.34},{"$f":"Лист1!CZ26","v":5630.57},{"$f":"Лист1!EF26","v":188907.34},{"$f":"Лист1!EB26","v":6063.57},{"$f":"Лист1!DX26+Лист1!DZ26","v":39780.78},{"$f":"Лист1!ED26","v":3999.86},{"$f":"Лист1!EJ26","v":6976.43},{"$f":"Лист1!EH26","v":12596.79},3995514.12]
[25,{"$f":"паспорт!S37","v":37.970199999999998},{"$f":"Лист1!AL27+Лист1!AN27+Лист1!AP27","v":953836.54},{"$f":"Лист1!EU27","v":1151.95},{"$f":"Лист1!BC27","v":102575.6},{"$f":"Лист1!G27","v":177370.91},{"$f":"Лист1!BI27","v":7578.44},{"$f":"Лист1!DK27","v":2567.09},{"$f":"Лист1!DE27","v":106490.81},{"$f":"Лист1!BY27+Лист1!W27","v":80373.84},{"$f":"Лист1!BG27","v":2838.81},{"$f":"Лист1!BQ27","v":2453.81},{"$f":"Лист1!Q27","v":5785.5},{"$f":"Лист1!BM27","v":4114.4799999999996},{"$f":"Лист1!K27","v":464588.16},0,{"$f":"Лист1!FA27","v":6614.48},{"$f":"Лист1!DI27","v":9613.94},{"$f":"Лист1!BK27","v":4342.63},{"$f":"Лист1!FD27+Лист1!FF27","v":3406.31},{"$f":"Лист1!BS27","v":52187.5},{"$f":"Лист1!BU27+Лист1!BW27","v":0},{"$f":"Лист1!BO27","v":31672.44},{"$f":"Лист1!CD27","v":426625.91},{"$f":"Лист1!AR27","v":10502.28},{"$f":"Лист1!O27","v":4869.97},{"$f":"Лист1!DS27","v":549342.18999999994},{"$f":"Лист1!ES27","v":147.76},{"$f":"Лист1!Y27","v":12503.27},{"$f":"Лист1!AW27+Лист1!AY27+Лист1!BA27","v":269615.13},{"$f":"Лист1!FK27","v":1289.67},{"$f":"Лист1!AJ27","v":43277.55},{"$f":"Лист1!AA27","v":6936.28},{"$f":"Лист1!GE27+Лист1!GG27","v":444.2},{"$f":"Лист1!EW27","v":2135.66},{"$f":"Лист1!AH27","v":251635.08},{"$f":"Лист1!FP27","v":11980.84},{"$f":"Лист1!EO27-Лист1!EQ27","v":1659.32},{"$f":"Лист1!FS27","v":39302.46},{"$f":"Лист1!CF27+Лист1!CH27","v":16029.32},{"$f":"Лист1!S27+Лист1!U27","v":11030.15},{"$f":"Лист1!CJ27","v":70676.37},{"$f":"Лист1!CL27","v":38248.36},{"$f":"Лист1!CP27","v":25427},{"$f":"Лист1!CN27","v":90548.52},{"$f":"Лист1!CX27","v":14664.34},{"$f":"Лист1!CR27","v":5762.94},{"$f":"Лист1!CV27","v":5093.3900000000003},{"$f":"Лист1!CT27","v":64804.43},{"$f":"Лист1!DQ27","v":10235.709999999999},{"$f":"Лист1!DM27+Лист1!DO27","v":113014.34},{"$f":"Лист1!FZ27","v":106434.78},{"$f":"Лист1!DG27","v":3039.47},{"$f":"Лист1!BE27","v":7886.08},{"$f":"Лист1!AF27","v":3816.58},{"$f":"Лист1!CZ27","v":5801.53},{"$f":"Лист1!EF27","v":203892.44},{"$f":"Лист1!EB27","v":6094.1},{"$f":"Лист1!DX27+Лист1!DZ27","v":44620.14},{"$f":"Лист1!ED27","v":4256.5},{"$f":"Лист1!EJ27","v":7163.11},{"$f":"Лист1!EH27","v":13348.64},4523719.0499999989]
[26,{"$f":"паспорт!S38","v":37.970199999999998},{"$f":"Лист1!AL28+Лист1!AN28+Лист1!AP28","v":970680.53},{"$f":"Лист1!EU28","v":889.82},{"$f":"Лист1!BC28","v":101348.2},{"$f":"Лист1!G28","v":186230.7},{"$f":"Лист1!BI28","v":6150.28},{"$f":"Лист1!DK28","v":1656.28},{"$f":"Лист1!DE28","v":111099.6},{"$f":"Лист1!BY28+Лист1!W28","v":80493.53},{"$f":"Лист1!BG28","v":2970.59},{"$f":"Лист1!BQ28","v":2447.59},{"$f":"Лист1!Q28","v":6173.45},{"$f":"Лист1!BM28","v":4363.38},{"$f":"Лист1!K28","v":457504.56},0,{"$f":"Лист1!FA28","v":4806.79},{"$f":"Лист1!DI28","v":9808.42},{"$f":"Лист1!BK28","v":4583.8},{"$f":"Лист1!FD28+Лист1!FF28","v":1805.41},{"$f":"Лист1!BS28","v":55311.26},{"$f":"Лист1!BU28+Лист1!BW28","v":0},{"$f":"Лист1!BO28","v":33430.050000000003},{"$f":"Лист1!CD28","v":439752.75},{"$f":"Лист1!AR28","v":11154.66},{"$f":"Лист1!O28","v":5131.74},{"$f":"Лист1!DS28","v":558620.5},{"$f":"Лист1!ES28","v":366},{"$f":"Лист1!Y28","v":13308.81},{"$f":"Лист1!AW28+Лист1!AY28+Лист1!BA28","v":287834.75},{"$f":"Лист1!FK28","v":3886.61},{"$f":"Лист1!AJ28","v":43973.46},{"$f":"Лист1!AA28","v":7384.05},{"$f":"Лист1!GE28+Лист1!GG28","v":0},{"$f":"Лист1!EW28","v":1237.78},{"$f":"Лист1!AH28","v":259232.7},{"$f":"Лист1!FP28","v":9345.51},{"$f":"Лист1!EO28-Лист1!EQ28","v":1024.5999999999999},{"$f":"Лист1!FS28","v":42066.18},{"$f":"Лист1!CF28+Лист1!CH28","v":14075.11},{"$f":"Лист1!S28+Лист1!U28","v":11351.75},{"$f":"Лист1!CJ28","v":75583.03},{"$f":"Лист1!CL28","v":37606.71},{"$f":"Лист1!CP28","v":26019.34},{"$f":"Лист1!CN28","v":93327.55},{"$f":"Лист1!CX28","v":15066.76},{"$f":"Лист1!CR28","v":6049.97},{"$f":"Лист1!CV28","v":5288.24},{"$f":"Лист1!CT28","v":65759.44},{"$f":"Лист1!DQ28","v":10748.09},{"$f":"Лист1!DM28+Лист1!DO28","v":118342.62},{"$f":"Лист1!FZ28","v":108770.88},{"$f":"Лист1!DG28","v":3216.14},{"$f":"Лист1!BE28","v":8374.16},{"$f":"Лист1!AF28","v":4088.48},{"$f":"Лист1!CZ28","v":6029.92},{"$f":"Лист1!EF28","v":216285.77},{"$f":"Лист1!EB28","v":6694.84},{"$f":"Лист1!DX28+Лист1!DZ28","v":46118.81},{"$f":"Лист1!ED28","v":4392.54},{"$f":"Лист1!EJ28","v":7494.69},{"$f":"Лист1!EH28","v":13933.13},4630692.3099999987]
[27,{"$f":"паспорт!S39","v":37.970199999999998},{"$f":"Лист1!AL29+Лист1!AN29+Лист1!AP29","v":930847.25},{"$f":"Лист1!EU29","v":2432.36},{"$f":"Лист1!BC29","v":97689.69},{"$f":"Лист1!G29","v":183347.16},{"$f":"Лист1!BI29","v":6436.06},{"$f":"Лист1!DK29","v":1732.36},{"$f":"Лист1!DE29","v":110467.31},{"$f":"Лист1!BY29+Лист1!W29","v":79956.479999999996},{"$f":"Лист1!BG29","v":2994.95},{"$f":"Лист1!BQ29","v":2212.89},{"$f":"Лист1!Q29","v":6127.81},{"$f":"Лист1!BM29","v":4200.03},{"$f":"Лист1!K29","v":445391.44},0,{"$f":"Лист1!FA29","v":8483.94},{"$f":"Лист1!DI29","v":8897.49},{"$f":"Лист1!BK29","v":4442.42},{"$f":"Лист1!FD29+Лист1!FF29","v":29323.759999999998},{"$f":"Лист1!BS29","v":53041.49},{"$f":"Лист1!BU29+Лист1!BW29","v":0},{"$f":"Лист1!BO29","v":32028.639999999999},{"$f":"Лист1!CD29","v":421814.34},{"$f":"Лист1!AR29","v":11114.44},{"$f":"Лист1!O29","v":5146.43},{"$f":"Лист1!DS29","v":541909.18999999994},{"$f":"Лист1!ES29","v":662.35},{"$f":"Лист1!Y29","v":12397.86},{"$f":"Лист1!AW29+Лист1!AY29+Лист1!BA29","v":282504.90999999997},{"$f":"Лист1!FK29","v":4531.0600000000004},{"$f":"Лист1!AJ29","v":44071.67},{"$f":"Лист1!AA29","v":7318.62},{"$f":"Лист1!GE29+Лист1!GG29","v":0},{"$f":"Лист1!EW29","v":1858.89},{"$f":"Лист1!AH29","v":263325.90999999997},{"$f":"Лист1!FP29","v":18581.080000000002},{"$f":"Лист1!EO29-Лист1!EQ29","v":1506.42},{"$f":"Лист1!FS29","v":58215.19},{"$f":"Лист1!CF29+Лист1!CH29","v":12026.55},{"$f":"Лист1!S29+Лист1!U29","v":11026.88},{"$f":"Лист1!CJ29","v":69500.479999999996},{"$f":"Лист1!CL29","v":36795.050000000003},{"$f":"Лист1!CP29","v":24208.89},{"$f":"Лист1!CN29","v":90714.39},{"$f":"Лист1!CX29","v":13924.54},{"$f":"Лист1!CR29","v":6140.34},{"$f":"Лист1!CV29","v":5047.5600000000004},{"$f":"Лист1!CT29","v":62628.09},{"$f":"Лист1!DQ29","v":10559.35},{"$f":"Лист1!DM29+Лист1!DO29","v":109307.88},{"$f":"Лист1!FZ29","v":110973.12},{"$f":"Лист1!DG29","v":3194.78},{"$f":"Лист1!BE29","v":8201.85},{"$f":"Лист1!AF29","v":4085.75},{"$f":"Лист1!CZ29","v":5862.77},{"$f":"Лист1!EF29","v":211410.89},{"$f":"Лист1!EB29","v":6461.78},{"$f":"Лист1!DX29+Лист1!DZ29","v":44221.3},{"$f":"Лист1!ED29","v":4304.8},{"$f":"Лист1!EJ29","v":7367.93},{"$f":"Лист1!EH29","v":13497.03},4556473.8899999987]
[28,{"$f":"паспорт!S40","v":37.970199999999998},{"$f":"Лист1!AL30+Лист1!AN30+Лист1!AP30","v":895899.7300000001},{"$f":"Лист1!EU30","v":2804.59},{"$f":"Лист1!BC30","v":87623.88},{"$f":"Лист1!G30","v":177381.72},{"$f":"Лист1!BI30","v":5599.89},{"$f":"Лист1!DK30","v":1615.58},{"$f":"Лист1!DE30","v":103476.46},{"$f":"Лист1!BY30+Лист1!W30","v":75209.340000000011},{"$f":"Лист1!BG30","v":2708.38},{"$f":"Лист1!BQ30","v":2055.2199999999998},{"$f":"Лист1!Q30","v":5771.07},{"$f":"Лист1!BM30","v":3994.74},{"$f":"Лист1!K30","v":420990.59},0,{"$f":"Лист1!FA30","v":8795.59},{"$f":"Лист1!DI30","v":9010.56},{"$f":"Лист1!BK30","v":4165.68},{"$f":"Лист1!FD30+Лист1!FF30","v":55792.639999999999},{"$f":"Лист1!BS30","v":47323.59},{"$f":"Лист1!BU30+Лист1!BW30","v":10896.75},{"$f":"Лист1!BO30","v":29944.59},{"$f":"Лист1!CD30","v":390165.94},{"$f":"Лист1!AR30","v":10497.66},{"$f":"Лист1!O30","v":4684.41},{"$f":"Лист1!DS30","v":519245.09},{"$f":"Лист1!ES30","v":405.31},{"$f":"Лист1!Y30","v":11560.66},{"$f":"Лист1!AW30+Лист1!AY30+Лист1!BA30","v":258774.27},{"$f":"Лист1!FK30","v":635.61},{"$f":"Лист1!AJ30","v":43245.32},{"$f":"Лист1!AA30","v":6861.8},{"$f":"Лист1!GE30+Лист1!GG30","v":0},{"$f":"Лист1!EW30","v":1972.63},{"$f":"Лист1!AH30","v":239844.53},{"$f":"Лист1!FP30","v":17427.599999999999},{"$f":"Лист1!EO30-Лист1!EQ30","v":1743.1499999999999},{"$f":"Лист1!FS30","v":4980.71},{"$f":"Лист1!CF30+Лист1!CH30","v":13779.9},{"$f":"Лист1!S30+Лист1!U30","v":10085.09},{"$f":"Лист1!CJ30","v":62363},{"$f":"Лист1!CL30","v":37489.5},{"$f":"Лист1!CP30","v":21226.94},{"$f":"Лист1!CN30","v":81289.440000000002},{"$f":"Лист1!CX30","v":12107.1},{"$f":"Лист1!CR30","v":5442.75},{"$f":"Лист1!CV30","v":4499.75},{"$f":"Лист1!CT30","v":59154.44},{"$f":"Лист1!DQ30","v":9938.48},{"$f":"Лист1!DM30+Лист1!DO30","v":96418.29},{"$f":"Лист1!FZ30","v":106446.39999999999},{"$f":"Лист1!DG30","v":2903.09},{"$f":"Лист1!BE30","v":7605.17},{"$f":"Лист1!AF30","v":3799.64},{"$f":"Лист1!CZ30","v":5233.6899999999996},{"$f":"Лист1!EF30","v":196255.08},{"$f":"Лист1!EB30","v":6130.72},{"$f":"Лист1!DX30+Лист1!DZ30","v":42356.68},{"$f":"Лист1!ED30","v":3984.28},{"$f":"Лист1!EJ30","v":6969.03},{"$f":"Лист1!EH30","v":12880.85},4271464.5899999989]
[29,37.957500000000003,104484.13,2550.58,172597.3,6731.51,28282.91,71078.45,3780.78,16478.54,0,2663.42,null,null,null,null,null,null,null,null,null,null,null,null,null,null,null,null,null,null,null,null,null,null,null,null,null,null,null,null,null,null,null,null,null,null,null,null,null,null,null,null,null,null,null,null,34255.96,null,null,1996.43,null,16142.52,461042.53]
[30,37.96,93755.22,2251.65,156928.03,6054.5,26299.84,60324.38,3142.81,15516.28,0,2593.8200000000002,null,null,null,null,null,null,null,null,null,null,null,null,null,null,null,null,null,null,null,null,null,null,null,null,null,null,null,null,null,null,null,null,null,null,null,null,null,null,null,null,null,null,null,null,30650.76,null,null,2703.67,null,63785.93,464006.89]
[31,37.957500000000003,92050.880000000005,3124.98,157999.45000000001,6122.1,23698.82,60708.33,3145.17,14948.5,0,3269.38,null,null,null,null,null,null,null,null,null,null,null,null,null,null,null,null,null,null,null,null,null,null,null,null,null,null,null,null,null,null,null,null,null,null,null,null,null,null,null,null,null,null,null,null,2593.8200000000002,null,null,2663.42,null,64169.09,434493.93999999994]
["Загальний обсяг газу, м3",null,{"$f":"SUM(C7:C34)","v":30110674.739999998},{"$f":"SUM(D7:D34)","v":64569.020000000004},3172191.53,5831973.0700000003,223038.45000000004,61943.199999999997,3703455.9899999998,2618427.5099999993,96512,86451.15,{"$f":"SUM(M7:M34)","v":201119.46999999997},135247.63999999998,14817965.289999999,0,251989.86000000004,316350.41999999993,145660.34999999998,1953301.2600000002,1709898.5499999998,654903.27,1101907.7299999997,14027223.499999996,371234.14,169734.79,17753177.149999999,12623.78,408791.24,9759070.9299999978,161136.53,1401430.52,235830.64999999997,54850.540000000008,67233.919999999998,8609923.7799999993,632562.47999999986,47228.169999999991,978472.58999999985,376462.04000000004,378733.65000000014,2386086.54,1307428.58,842831.57999999984,3029986.57,493860.97,200716.00000000003,170504.52000000002,2364943.61,355068.27000000008,1619528.6999999997,3017596.7299999995,102124.24,275707.65999999997,136017.25,195217.05999999997,7389345.7699999986,{"$f":"SUM(BF7:BF34)","v":211285.93},1532237.98,146448.74,{"$f":"SUM(BI7:BI34)","v":244355.06},461943.42999999988,{"$f":"SUM(BK7:BK34)","v":149186536.08999997}]
["Енергія, МДж",null,{"$f":"SUMPRODUCT(B7:B34,C7:C34)","v":1138207714.9130397},{"$f":"SUMPRODUCT(B7:B34,D7:D34)","v":2440473.3910420001},{"$f":"SUMPRODUCT(B7:B34,E7:E34)","v":119908776.514107},{"$f":"SUMPRODUCT(B7:B34,F7:F34)","v":220450210.90398395},{"$f":"SUMPRODUCT(B7:B34,G7:G34)","v":8430574.3913589995},{"$f":"SUMPRODUCT(B7:B34,H7:H34)","v":2341530.8347200002},{"$f":"SUMPRODUCT(B7:B34,I7:I34)","v":139986528.76778999},{"$f":"SUMPRODUCT(B7:B34,J7:J34)","v":98972572.261400014},{"$f":"SUMPRODUCT(B7:B34,K7:K34)","v":3648072.1293259994},{"$f":"SUMPRODUCT(B7:B34,L7:L34)","v":3267563.7843670002},{"$f":"SUMPRODUCT(B7:B34,M7:M34)","v":7602156.8541219998},{"$f":"SUMPRODUCT(B7:B34,N7:N34)","v":5112382.079251999},{"$f":"SUMPRODUCT(B7:B34,O7:O34)","v":560107337.38078713},{"$f":"SUMPRODUCT(B7:B34,P7:P34)","v":0},{"$f":"SUMPRODUCT(B7:B34,Q7:Q34)","v":9525374.8395120017},{"$f":"SUMPRODUCT(B7:B34,R7:R34)","v":11957922.237223996},{"$f":"SUMPRODUCT(B7:B34,S7:S34)","v":5505840.0170639986},{"$f":"SUMPRODUCT(B7:B34,T7:T34)","v":73790030.818637997},{"$f":"SUMPRODUCT(B7:B34,U7:U34)","v":64632618.380934},{"$f":"SUMPRODUCT(B7:B34,V7:V34)","v":24747016.212088004},{"$f":"SUMPRODUCT(B7:B34,W7:W34)","v":41650471.398309991},{"$f":"SUMPRODUCT(B7:B34,X7:X34)","v":530210771.31531},{"$f":"SUMPRODUCT(B7:B34,Y7:Y34)","v":14032130.512184},{"$f":"SUMPRODUCT(B7:B34,Z7:Z34)","v":6415743.6760290014},{"$f":"SUMPRODUCT(B7:B34,AA7:AA34)","v":671059990.72001505},{"$f":"SUMPRODUCT(B7:B34,AB7:AB34)","v":477205.55037199997},{"$f":"SUMPRODUCT(B7:B34,AC7:AC34)","v":15452030.233624002},{"$f":"SUMPRODUCT(B7:B34,AD7:AD34)","v":368872966.16270006},{"$f":"SUMPRODUCT(B7:B34,AE7:AE34)","v":6088232.4345730012},{"$f":"SUMPRODUCT(B7:B34,AF7:AF34)","v":52974195.181418002},{"$f":"SUMPRODUCT(B7:B34,AG7:AG34)","v":8914106.0593120009},{"$f":"SUMPRODUCT(B7:B34,AH7:AH34)","v":2074121.7130429996},{"$f":"SUMPRODUCT(B7:B34,AI7:AI34)","v":2541593.3524439996},{"$f":"SUMPRODUCT(B7:B34,AJ7:AJ34)","v":325444062.76402402},{"$f":"SUMPRODUCT(B7:B34,AK7:AK34)","v":23905896.848590005},{"$f":"SUMPRODUCT(B7:B34,AL7:AL34)","v":1785164.5199170001},{"$f":"SUMPRODUCT(B7:B34,AM7:AM34)","v":36974810.940040007},{"$f":"SUMPRODUCT(B7:B34,AN7:AN34)","v":14234278.610350998},{"$f":"SUMPRODUCT(B7:B34,AO7:AO34)","v":14315950.800050998},{"$f":"SUMPRODUCT(B7:B34,AP7:AP34)","v":90189233.543927997},{"$f":"SUMPRODUCT(B7:B34,AQ7:AQ34)","v":49409789.467916995},{"$f":"SUMPRODUCT(B7:B34,AR7:AR34)","v":31857653.194397997},{"$f":"SUMPRODUCT(B7:B34,AS7:AS34)","v":114528107.819529},{"$f":"SUMPRODUCT(B7:B34,AT7:AT34)","v":18666503.380849995},{"$f":"SUMPRODUCT(B7:B34,AU7:AU34)","v":7586665.853370999},{"$f":"SUMPRODUCT(B7:B34,AV7:AV34)","v":6444760.3035859987},{"$f":"SUMPRODUCT(B7:B34,AW7:AW34)","v":89388535.935459003},{"$f":"SUMPRODUCT(B7:B34,AX7:AX34)","v":13421133.602616999},{"$f":"SUMPRODUCT(B7:B34,AY7:AY34)","v":61303659.361769997},{"$f":"SUMPRODUCT(B7:B34,AZ7:AZ34)","v":114067541.02844699},{"$f":"SUMPRODUCT(B7:B34,BA7:BA34)","v":3860266.8136449996},{"$f":"SUMPRODUCT(B7:B34,BB7:BB34)","v":10421398.186579999},{"$f":"SUMPRODUCT(B7:B34,BC7:BC34)","v":5141294.1664160006},{"$f":"SUMPRODUCT(B7:B34,BD7:BD34)","v":7378702.8513719989},{"$f":"SUMPRODUCT(B7:B34,BE7:BE34)","v":279304677.63939601},{"$f":"SUMPRODUCT(B7:B34,BF7:BF34)","v":7986520.5913780006},{"$f":"SUMPRODUCT(B7:B34,BG7:BG34)","v":57916435.280230001},{"$f":"SUMPRODUCT(B7:B34,BH7:BH34)","v":5535662.2784360005},{"$f":"SUMPRODUCT(B7:B34,BI7:BI34)","v":9236553.9146990012},{"$f":"SUMPRODUCT(B7:B34,BJ7:BJ34)","v":17460909.253185},{"$f":"SUMPRODUCT(B7:B34,BK7:BK34)","v":5639164423.9702721}]
["Теплота згоряння (середньозважене значення за місяць), МДж/м³",null,{"$f":"C39/C38","v":37.800804025192022},{"$f":"D39/D38","v":37.796351734035923},{"$f":"E39/E38","v":37.799980039070029},{"$f":"F39/F38","v":37.800279297926174},37.798749011029258,37.80125719562438,37.798890859180965,37.79847709490344,37.799155849282982,37.796649140780666,{"$f":"M39/M38","v":37.799208868847956},37.800157394628101,37.799207004404259,{"$error":"#DIV/0!"},37.800627531250662,37.799609171449809,37.799167838495514,37.777086581430858,37.799095379625889,37.787284543697581,37.798510950013934,37.798697034756032,37.798599321129245,37.798636779348541,37.799430775128336,37.802112392009363,37.799318384669895,37.7979593353258,37.783067778442302,37.800086715264342,37.798759657881632,37.814061867813869,37.802248514499816,37.798715886428447,37.792151138319191,37.798723090837534,37.788295061019554,37.810661097068369,37.799521642851097,37.79797255129229,37.791578235131581,37.798362033845486,37.7982229206808,37.797081597377485,37.798012382525549,37.798178626502086,37.797322336771913,37.798741077644017,37.852777392441396,37.80079024291858,37.799711543948817,37.798725601530258,37.798839238523058,37.797428418254022,37.798295861772353,37.799585572868011,37.798590059900484,37.799316528336135,37.799724362978203,37.798804180817129,37.799419248988563]
["Теплота згоряння (середньозважене значення за місяць), ккал/м³",null,{"$f":"C40*238.8459","v":9028.5670581206105},{"$f":"D40*238.8459","v":9027.5036466323709},9028.370252413717,9028.4417291645459,9028.0762264133937,9028.6752960203812,9028.1101062628513,9028.0112803615975,9028.1733980622575,9027.5746810139844,{"$f":"M40*238.8459","v":9028.1860615679725},9028.4126130616041,9028.1856162532385,{"$error":"#DIV/0!"},9028.5249032663432,9028.2816722031839,9028.1762616365158,9022.9022439197761,9028.1589551325869,9025.3379853955375,9028.0193665159331,9028.0638120936364,9028.0404735945031,9028.0494203366034,9028.2390629732254,9028.8795561706283,9028.2122189730271,9027.887615609292,9024.3308283030528,9028.395731585355,9028.0787693704315,9031.7336394736849,9028.9120684693717,9028.0683147383006,9026.5003515678709,9028.0700354818728,9025.5793433147701,9030.9213793242816,9028.2607663562485,9027.8907721887026,9026.3635159904134,9027.9837984996557,9027.9505718906348,9027.6779714990626,9027.9002857154592,9027.9399924076552,9027.7354711163898,9028.0743315568543,9040.9806837973192,9028.5637662811077,9028.3061234548441,9028.070635150536,9028.097776880355,9027.7608082434581,9027.9679935712938,9028.2760357786756,9028.0382615879844,9028.2117755953204,9028.3091852274556,9028.0894034910307,9028.2363100019975]
["Теплота згоряння (середньозважене значення за місяць), кВт*год./м³",null,{"$f":"C40/3.6","v":10.500223340331116},{"$f":"D40/3.6","v":10.498986592787757},10.49999445529723,10.500077582757271,10.499652503063682,10.500349221006772,10.499691905328046,10.49957697080651,10.499765513689717,10.499069205772408,{"$f":"M40/3.6","v":10.499780241346654},10.500043720730028,10.499779723445627,{"$error":"#DIV/0!"},10.500174314236295,10.499891436513836,10.499768844026532,10.493635161508571,10.499748716562747,10.496467928804883,10.49958637500387,10.499638065210009,10.499610922535901,10.499621327596817,10.499841881980092,10.500586775558157,10.499810662408304,10.499433148701611,10.495296605122862,10.500024087573427,10.499655460522675,10.503906074392741,10.50062458736106,10.49964330178568,10.497819760644219,10.499645303010427,10.496748628060987,10.502961415852324,10.499867123014193,10.499436819803414,10.497660620869883,10.499545009401524,10.499506366855778,10.499189332604857,10.499447884034874,10.499494062917245,10.499256204658865,10.499650299345561,10.514660386789277,10.500219511921827,10.499919873319115,10.499646000425072,10.499677566256405,10.499285671737228,10.499526628270099,10.499884881352225,10.499608349972357,10.499810146760037,10.499923434160612,10.499667828004759,10.499838680274602]

{"sheet":"додаток","index":2,"n_rows":75,"n_cols":6,"rows_kept":75,"cut":false,"hidden":false,"merged":[[0,0,0,1],[65,0,65,1],[3,2,3,4],[3,1,4,1],[3,0,4,0],[5,0,58,0],[59,0,64,0]]}
[]
["Додаток до Паспорту фізико-хімічних показників природного газу №676"]
[]
["Область","ГРС, прямий споживач","Cередньозважене значення вищої теплоти згоряння"]
[null,null," МДж/м³","ккал/м³","кВт*год./м³"]
["Донецька область",{"$f":"' розрахунок'!C6","v":"ГРС Краматорськ"},{"$f":"' розрахунок'!C40","v":37.800804025192022},{"$f":"' розрахунок'!C41","v":9028.5670581206105},{"$f":"' розрахунок'!C42","v":10.500223340331116}]
[null,{"$f":"' розрахунок'!D6","v":"АГНКС м.Краматорськ"},{"$f":"' розрахунок'!D40","v":37.796351734035923},{"$f":"' розрахунок'!D41","v":9027.5036466323709},{"$f":"' розрахунок'!D42","v":10.498986592787757}]
[null,{"$f":"' розрахунок'!E6","v":"ГРС Бахмутська ПТФ"},{"$f":"' розрахунок'!E40","v":37.799980039070029},{"$f":"' розрахунок'!E41","v":9028.370252413717},{"$f":"' розрахунок'!E42","v":10.49999445529723}]
[null,{"$f":"' розрахунок'!F6","v":"ГРС м. Дзержинськ"},{"$f":"' розрахунок'!F40","v":37.800279297926174},{"$f":"' розрахунок'!F41","v":9028.4417291645459},{"$f":"' розрахунок'!F42","v":10.500077582757271}]
[null,{"$f":"' розрахунок'!G6","v":"ГРС к-п Козаченко"},{"$f":"' розрахунок'!G40","v":37.798749011029258},{"$f":"' розрахунок'!G41","v":9028.0762264133937},{"$f":"' розрахунок'!G42","v":10.499652503063682}]
[null,{"$f":"' розрахунок'!H6","v":"ГРС с. Рай-Олександрівка"},{"$f":"' розрахунок'!H40","v":37.80125719562438},{"$f":"' розрахунок'!H41","v":9028.6752960203812},{"$f":"' розрахунок'!H42","v":10.500349221006772}]
[null,{"$f":"' розрахунок'!I6","v":"ГРС м.Красний Лиман"},{"$f":"' розрахунок'!I40","v":37.798890859180965},{"$f":"' розрахунок'!I41","v":9028.1101062628513},{"$f":"' розрахунок'!I42","v":10.499691905328046}]
[null,{"$f":"' розрахунок'!J6","v":"ГРС м.Часів Яр"},{"$f":"' розрахунок'!J40","v":37.79847709490344},{"$f":"' розрахунок'!J41","v":9028.0112803615975},{"$f":"' розрахунок'!J42","v":10.49957697080651}]
[null,{"$f":"' розрахунок'!K6","v":"ГРС р-п ім.Кірова"},{"$f":"' розрахунок'!K40","v":37.799155849282982},{"$f":"' розрахунок'!K41","v":9028.1733980622575},{"$f":"' розрахунок'!K42","v":10.499765513689717}]
[null,{"$f":"' розрахунок'!L6","v":"ГРС к-п ім. Тимірязєва"},{"$f":"' розрахунок'!L40","v":37.796649140780666},{"$f":"' розрахунок'!L41","v":9027.5746810139844},{"$f":"' розрахунок'!L42","v":10.499069205772408}]
[null,{"$f":"' розрахунок'!M6","v":"ГРС к-п ім. Леніна"},{"$f":"' розрахунок'!M40","v":37.799208868847956},{"$f":"' розрахунок'!M41","v":9028.1860615679725},{"$f":"' розрахунок'!M42","v":10.499780241346654}]
[null,{"$f":"' розрахунок'!N6","v":"ГРС к-пів Правди та ім. Кірова"},{"$f":"' розрахунок'!N40","v":37.800157394628101},{"$f":"' розрахунок'!N41","v":9028.4126130616041},{"$f":"' розрахунок'!N42","v":10.500043720730028}]
[null,{"$f":"' розрахунок'!O6","v":"ГРС 1 м.Костянтинівка"},{"$f":"' розрахунок'!O40","v":37.799207004404259},{"$f":"' розрахунок'!O41","v":9028.1856162532385},{"$f":"' розрахунок'!O42","v":10.499779723445627}]
[null,{"$f":"' розрахунок'!P6","v":"ГРС 2 м.Костянтинівка"},{"$f":"' розрахунок'!P40","v":{"$error":"#DIV/0!"}},{"$f":"' розрахунок'!P41","v":{"$error":"#DIV/0!"}},{"$f":"' розрахунок'!P42","v":{"$error":"#DIV/0!"}}]
[null,{"$f":"' розрахунок'!Q6","v":"ТОВ \"ТД \"ЛІДЕР\""},{"$f":"' розрахунок'!Q40","v":37.800627531250662},{"$f":"' розрахунок'!Q41","v":9028.5249032663432},{"$f":"' розрахунок'!Q42","v":10.500174314236295}]
[null,{"$f":"' розрахунок'!R6","v":"ГРС Правдинська ПТФ"},{"$f":"' розрахунок'!R40","v":37.799609171449809},{"$f":"' розрахунок'!R41","v":9028.2816722031839},{"$f":"' розрахунок'!R42","v":10.499891436513836}]
[null,{"$f":"' розрахунок'!S6","v":"ГРС с. Покровське"},{"$f":"' розрахунок'!S40","v":37.799167838495514},{"$f":"' розрахунок'!S41","v":9028.1762616365158},{"$f":"' розрахунок'!S42","v":10.499768844026532}]
[null,{"$f":"' розрахунок'!T6","v":"ТОВ \"КНАУФ ГИПС ДОНБАС\""},{"$f":"' розрахунок'!T40","v":37.777086581430858},{"$f":"' розрахунок'!T41","v":9022.9022439197761},{"$f":"' розрахунок'!T42","v":10.493635161508571}]
[null,{"$f":"' розрахунок'!U6","v":"ГРС 1 Вуглегірська ДРЕС"},{"$f":"' розрахунок'!U40","v":37.799095379625889},{"$f":"' розрахунок'!U41","v":9028.1589551325869},{"$f":"' розрахунок'!U42","v":10.499748716562747}]
[null,{"$f":"' розрахунок'!V6","v":"ГРС 2 Вуглегірська ДРЕС"},{"$f":"' розрахунок'!V40","v":37.787284543697581},{"$f":"' розрахунок'!V41","v":9025.3379853955375},{"$f":"' розрахунок'!V42","v":10.496467928804883}]
[null,{"$f":"' розрахунок'!W6","v":"ГРС м. Сіверськ"},{"$f":"' розрахунок'!W40","v":37.798510950013934},{"$f":"' розрахунок'!W41","v":9028.0193665159331},{"$f":"' розрахунок'!W42","v":10.49958637500387}]
[null,{"$f":"' розрахунок'!X6","v":"ГРС м. Красноармійськ"},{"$f":"' розрахунок'!X40","v":37.798697034756032},{"$f":"' розрахунок'!X41","v":9028.0638120936364},{"$f":"' розрахунок'!X42","v":10.499638065210009}]
[null,{"$f":"' розрахунок'!Y6","v":"ГРС к-п Промінь"},{"$f":"' розрахунок'!Y40","v":37.798599321129245},{"$f":"' розрахунок'!Y41","v":9028.0404735945031},{"$f":"' розрахунок'!Y42","v":10.499610922535901}]
[null,{"$f":"' розрахунок'!Z6","v":"ГРС к-п Костянтинівський"},{"$f":"' розрахунок'!Z40","v":37.798636779348541},{"$f":"' розрахунок'!Z41","v":9028.0494203366034},{"$f":"' розрахунок'!Z42","v":10.499621327596817}]
[null,{"$f":"' розрахунок'!AA6","v":"ГРС м. Слов'янськ"},{"$f":"' розрахунок'!AA40","v":37.799430775128336},{"$f":"' розрахунок'!AA41","v":9028.2390629732254},{"$f":"' розрахунок'!AA42","v":10.499841881980092}]
[null,{"$f":"' розрахунок'!AB6","v":"АГНКС м. Слов'янськ"},{"$f":"' розрахунок'!AB40","v":37.802112392009363},{"$f":"' розрахунок'!AB41","v":9028.8795561706283},{"$f":"' розрахунок'!AB42","v":10.500586775558157}]
[null,{"$f":"' розрахунок'!AC6","v":"ГРС к-п Широкий Шлях"},{"$f":"' розрахунок'!AC40","v":37.799318384669895},{"$f":"' розрахунок'!AC41","v":9028.2122189730271},{"$f":"' розрахунок'!AC42","v":10.499810662408304}]
[null,{"$f":"' розрахунок'!AD6","v":"ГРС м. Артемівськ"},{"$f":"' розрахунок'!AD40","v":37.7979593353258},{"$f":"' розрахунок'!AD41","v":9027.887615609292},{"$f":"' розрахунок'!AD42","v":10.499433148701611}]
[null,{"$f":"' розрахунок'!AE6","v":"ПАТ \"ЗОКМ\""},{"$f":"' розрахунок'!AE40","v":37.783067778442302},{"$f":"' розрахунок'!AE41","v":9024.3308283030528},{"$f":"' розрахунок'!AE42","v":10.495296605122862}]
[null,{"$f":"' розрахунок'!AF6","v":"ГРС с. Кіндратівка"},{"$f":"' розрахунок'!AF40","v":37.800086715264342},{"$f":"' розрахунок'!AF41","v":9028.395731585355},{"$f":"' розрахунок'!AF42","v":10.500024087573427}]
[null,{"$f":"' розрахунок'!AG6","v":"ГРС Щербинівська ТПФ"},{"$f":"' розрахунок'!AG40","v":37.798759657881632},{"$f":"' розрахунок'!AG41","v":9028.0787693704315},{"$f":"' розрахунок'!AG42","v":10.499655460522675}]
[null,{"$f":"' розрахунок'!AH6","v":"ГРС Шидловського КВЗ (Прат \"СКВЗ\")"},{"$f":"' розрахунок'!AH40","v":37.814061867813869},{"$f":"' розрахунок'!AH41","v":9031.7336394736849},{"$f":"' розрахунок'!AH42","v":10.503906074392741}]
[null,{"$f":"' розрахунок'!AI6","v":"АГНКС м. Костянтинівка"},{"$f":"' розрахунок'!AI40","v":37.802248514499816},{"$f":"' розрахунок'!AI41","v":9028.9120684693717},{"$f":"' розрахунок'!AI42","v":10.50062458736106}]
[null,{"$f":"' розрахунок'!AJ6","v":"ГРС м. Дружківка"},{"$f":"' розрахунок'!AJ40","v":37.798715886428447},{"$f":"' розрахунок'!AJ41","v":9028.0683147383006},{"$f":"' розрахунок'!AJ42","v":10.49964330178568}]
[null,{"$f":"' розрахунок'!AK6","v":"ТОВ \"ГІРНИЧІ МАШИНИ - ДРМЗ\""},{"$f":"' розрахунок'!AK40","v":37.792151138319191},{"$f":"' розрахунок'!AK41","v":9026.5003515678709},{"$f":"' розрахунок'!AK42","v":10.497819760644219}]
[null,{"$f":"' розрахунок'!AL6","v":"АГНКС м. Дружківка"},{"$f":"' розрахунок'!AL40","v":37.798723090837534},{"$f":"' розрахунок'!AL41","v":9028.0700354818728},{"$f":"' розрахунок'!AL42","v":10.499645303010427}]
[null,{"$f":"' розрахунок'!AM6","v":"ГРС 1 м. Курахове (ТОВ \"ДТЕК СХІДЕНЕРГО\")"},{"$f":"' розрахунок'!AM40","v":37.788295061019554},{"$f":"' розрахунок'!AM41","v":9025.5793433147701},{"$f":"' розрахунок'!AM42","v":10.496748628060987}]
[null,{"$f":"' розрахунок'!AN6","v":"ГРС 2 м. Курахове"},{"$f":"' розрахунок'!AN40","v":37.810661097068369},{"$f":"' розрахунок'!AN41","v":9030.9213793242816},{"$f":"' розрахунок'!AN42","v":10.502961415852324}]
[null,{"$f":"' розрахунок'!AO6","v":"ГРС смт. Очеретино"},{"$f":"' розрахунок'!AO40","v":37.799521642851097},{"$f":"' розрахунок'!AO41","v":9028.2607663562485},{"$f":"' розрахунок'!AO42","v":10.499867123014193}]
[null,{"$f":"' розрахунок'!AP6","v":"ГРС м. Селідове"},{"$f":"' розрахунок'!AP40","v":37.79797255129229},{"$f":"' розрахунок'!AP41","v":9027.8907721887026},{"$f":"' розрахунок'!AP42","v":10.499436819803414}]
[null,{"$f":"' розрахунок'!AQ6","v":"ГРС с. Володимірівка"},{"$f":"' розрахунок'!AQ40","v":37.791578235131581},{"$f":"' розрахунок'!AQ41","v":9026.3635159904134},{"$f":"' розрахунок'!AQ42","v":10.497660620869883}]
[null,{"$f":"' розрахунок'!AR6","v":"ГРС с. Донське"},{"$f":"' розрахунок'!AR40","v":37.798362033845486},{"$f":"' розрахунок'!AR41","v":9027.9837984996557},{"$f":"' розрахунок'!AR42","v":10.499545009401524}]
[null,{"$f":"' розрахунок'!AS6","v":"ГРС м. Волноваха"},{"$f":"' розрахунок'!AS40","v":37.7982229206808},{"$f":"' розрахунок'!AS41","v":9027.9505718906348},{"$f":"' розрахунок'!AS42","v":10.499506366855778}]
[null,{"$f":"' розрахунок'!AT6","v":"ГРС с. Новотроїцьке"},{"$f":"' розрахунок'!AT40","v":37.797081597377485},{"$f":"' розрахунок'!AT41","v":9027.6779714990626},{"$f":"' розрахунок'!AT42","v":10.499189332604857}]
[null,{"$f":"' розрахунок'!AU6","v":"ГРС к-п Оленівський"},{"$f":"' розрахунок'!AU40","v":37.798012382525549},{"$f":"' розрахунок'!AU41","v":9027.9002857154592},{"$f":"' розрахунок'!AU42","v":10.499447884034874}]
[null,{"$f":"' розрахунок'!AV6","v":"ГРС с.Ольгинка"},{"$f":"' розрахунок'!AV40","v":37.798178626502086},{"$f":"' розрахунок'!AV41","v":9027.9399924076552},{"$f":"' розрахунок'!AV42","v":10.499494062917245}]
[null,{"$f":"' розрахунок'!AW6","v":"ГРС м. Вугледар"},{"$f":"' розрахунок'!AW40","v":37.797322336771913},{"$f":"' розрахунок'!AW41","v":9027.7354711163898},{"$f":"' розрахунок'!AW42","v":10.499256204658865}]
[null,{"$f":"' розрахунок'!AX6","v":"ГРС 1 Слов'янська ДРЕС"},{"$f":"' розрахунок'!AX40","v":37.798741077644017},{"$f":"' розрахунок'!AX41","v":9028.0743315568543},{"$f":"' розрахунок'!AX42","v":10.499650299345561}]
[null,{"$f":"' розрахунок'!AY6","v":"ГРС 2 Слов'янська ДРЕС"},{"$f":"' розрахунок'!AY40","v":37.852777392441396},{"$f":"' розрахунок'!AY41","v":9040.9806837973192},{"$f":"' розрахунок'!AY42","v":10.514660386789277}]
[null,{"$f":"' розрахунок'!AZ6","v":"ГРС НКМЗ (ПАТ \"НКМЗ\")"},{"$f":"' розрахунок'!AZ40","v":37.80079024291858},{"$f":"' розрахунок'!AZ41","v":9028.5637662811077},{"$f":"' розрахунок'!AZ42","v":10.500219511921827}]
[null,{"$f":"' розрахунок'!BA6","v":"ГРС с. Малинівка"},{"$f":"' розрахунок'!BA40","v":37.799711543948817},{"$f":"' розрахунок'!BA41","v":9028.3061234548441},{"$f":"' розрахунок'!BA42","v":10.499919873319115}]
[null,{"$f":"' розрахунок'!BB6","v":"ГРС к-п ім. Горького"},{"$f":"' розрахунок'!BB40","v":37.798725601530258},{"$f":"' розрахунок'!BB41","v":9028.070635150536},{"$f":"' розрахунок'!BB42","v":10.499646000425072}]
[null,{"$f":"' розрахунок'!BC6","v":"ГРС с. Очеретино"},{"$f":"' розрахунок'!BC40","v":37.798839238523058},{"$f":"' розрахунок'!BC41","v":9028.097776880355},{"$f":"' розрахунок'!BC42","v":10.499677566256405}]
[null,{"$f":"' розрахунок'!BD6","v":"ГРС р-п Маріупольський"},{"$f":"' розрахунок'!BD40","v":37.797428418254022},{"$f":"' розрахунок'!BD41","v":9027.7608082434581},{"$f":"' розрахунок'!BD42","v":10.499285671737228}]
["Харківська область",{"$f":"' розрахунок'!BE6","v":"ГРС Ізюм"},{"$f":"' розрахунок'!BE40","v":37.798295861772353},{"$f":"' розрахунок'!BE41","v":9027.9679935712938},{"$f":"' розрахунок'!BE42","v":10.499526628270099}]
[null,{"$f":"' розрахунок'!BF6","v":"ГРС с. Бражківка"},{"$f":"' розрахунок'!BF40","v":37.799585572868011},{"$f":"' розрахунок'!BF41","v":9028.2760357786756},{"$f":"' розрахунок'!BF42","v":10.499884881352225}]
[null,{"$f":"' розрахунок'!BG6","v":"ГРС м. Барвінкове"},{"$f":"' розрахунок'!BG40","v":37.798590059900484},{"$f":"' розрахунок'!BG41","v":9028.0382615879844},{"$f":"' розрахунок'!BG42","v":10.499608349972357}]
[null,{"$f":"' розрахунок'!BH6","v":"ГРС к-пу \"Жовтень\""},{"$f":"' розрахунок'!BH40","v":37.799316528336135},{"$f":"' розрахунок'!BH41","v":9028.2117755953204},{"$f":"' розрахунок'!BH42","v":10.499810146760037}]
[null,{"$f":"' розрахунок'!BI6","v":"ГРС к-п Степок"},{"$f":"' розрахунок'!BI40","v":37.799724362978203},{"$f":"' розрахунок'!BI41","v":9028.3091852274556},{"$f":"' розрахунок'!BI42","v":10.499923434160612}]
[null,{"$f":"' розрахунок'!BJ6","v":"ГРС с.Петрівське"},{"$f":"' розрахунок'!BJ40","v":37.798804180817129},{"$f":"' розрахунок'!BJ41","v":9028.0894034910307},{"$f":"' розрахунок'!BJ42","v":10.499667828004759}]
["Середньозважене значення вищої теплоти згоряння по маршруту № 676",null,{"$f":"AVERAGE(C20:C65)","v":37.799141070322108},{"$f":"AVERAGE(D20:D65)","v":9028.1698681680482},10.499761408422808]
[]
[]
[]
["Начальник управління Северодонецького ЛВУМГ                                  Головко Ю.О.                                                                                       "]
["Підрозділу підприємства, якому підпорядкована лабораторія",null,null,"прізвище","підпис","дата"]
["Інженер ІІ кат. ВХАЛ                                                                                        Єрьоменко М.О.                                                                                                       "]
["Лабораторія, де здійснювалось вимірювання газу",null,null,"прізвище","підпис","дата"]
["Начальник служби метрології                                                                        Левкович А.М."]
["Підрозділу, відповідального за облік газу за маршрутом",null,null,"прізвище","підпис","дата"]

{"sheet":"variablesList","index":3,"n_rows":3,"n_cols":4,"rows_kept":3,"cut":false,"hidden":true,"merged":[]}
[3,"x:\\gaysin","10, 11, 24, 25, 127, 128, 132, 180, 207, 215","x:\\"]
[null,"x:\\Illinci"]
[null,"x:\\Talne"]

{"sheet":"Лист1","index":4,"n_rows":31,"n_cols":191,"rows_kept":31,"cut":false,"hidden":false,"merged":[]}
[" подобъектов объекта Константиновка УГГ (осн.) за 2/17.",null,null,null,null,null,null,null,null,null,null,null,null,null,null,null,null,null,null,null,null,null,null,null,null,null,null,null,null," подобъектов объекта Краматорск УГГ (осн.) за 2/17.",null,null,null,null,null,null,null,null,null,null,null,null,null,null,null,null," подобъектов объекта Бахмут УГГ (осн.) за 2/17.",null,null,null,null,null,null,null,null,null,null,null,null,null,null,null,null,null,null,null,null,null,null,null,null,null,null,null,null,null,null,null,null," подобъектов объекта Покровск УГГ (осн.) за 2/17.",null,null,null,null,null,null,null,null,null,null,null,null,null,null,null,null,null,null,null,null,null,null,null,null,null,null," подобъектов объекта Славянск УГГ (осн.) за 2/17.",null,null,null,null,null,null,null,null,null,null,null,null,null,null,null,null,null,null," подобъектов объекта ПАО ХАРЬКОВГАЗ (осн.) за 2/17.",null,null,null,null,null,null,null,null,null,null,null,null,null,null,null,null," подобъектов объекта АГНКС 1 (осн.) за 2/17.",null,null,null,null,null,null,null,null,null,null,null,null,null,null," подобъектов объекта Покровское Кнауф (осн.) за 2/17.",null,null,null,null,null,null," подобъектов объекта ГРС Артемовск ЗЦМ (осн.) за 2/17.",null,null,null,null," подобъектов объекта Mashzavod (осн.) за 2/17.",null,null," подобъектов объекта ГРС 1 Курахово (осн.) за 2/17.",null,null,null,null,null,null," подобъектов объекта ГРС НКМЗ (осн.) за 2/17.",null,null,null,null," подобъектов объекта ГРС Шидловка (Флоутек) (осн.) за 2/17."]
["День",null,"Авдеевка (счетчик)",null,"Авдеевка (перепад)",null,"dzerginsk",null,"Kobyt_2",null,"Koprom_2",null,"Komz_2",null,"Konstantinovski",null,"Lenina",null,"Очеретино перепад",null,"Очеретино счетчик",null,"chasovyar2",null,"sliah",null,"Sherb_PTF",null,"Константиновка УГГ","День",null,"OCHERETINO",null,"Drugkovka",null,"Kondratevka",null,"BYT",null,"PROM",null,"krmz",null,"Promin",null,"Краматорск УГГ","День",null,"art1_1",null,"art1_2",null,"art2",null,"bahmutka",null,"Gorkogo",null,"Kirova",null,"Kazachenko",null,"Покровское село",null,"PrKirova",null,"Seversk",null,"Timiryazevo",null,"UGL BYT",null,"Ugl2-2",null,"Ugl_4",null,"chasovyar1",null,"Бахмут УГГ","День",null,"Krasnoarme",null,"Курахово-2 УЗ1",null,"Курахово-2",null,"Селидово 1(перепад)",null,"Владимировка",null,"Волноваха",null,"Донское",null,"Еленовка",null,"Угледар",null,"Ольгинка",null,"Новотроицкое (УЗ)",null,"Чермалык",null,"Покровск УГГ","День",null,"liman",null,"malinovka",null,"Правдинская ПТФ",null,"ray-aleks",null,"SLTES1",null,"SLTES2",null,"SLAVGRSBYT",null,"Slaviansk",null,"Славянск УГГ","День",null,"Ду80",null,"Ду150",null,"bragkovka",null,"Govten",null,"IZIUM",null,"Петровское",null,"Stepok",null,"ПАО ХАРЬКОВГАЗ","День",null,"DrugAGNKS1",null,"DrugAGNKS2",null,"Slav.AGNKS1",null,"KramatAGNKS1",null,"Константиновка",null,"AGNKS",null,"АГНКС 1","День",null,"Кнауф 1",null,"Кнауф 2",null,"Покровское Кнауф","День",null,"ART3",null,"ГРС Артемовск ЗЦМ","День",null,"Mashzavod","День",null,"Курахово-1 (перепад)",null,"Курахово-1 (счетчик)",null,"ГРС 1 Курахово","День",null,"NKMZ",null,"ГРС НКМЗ","День",null,"SMIZ",null,"Shidlovka",null,"ГРС Шидловка (Флоутек)"]
[1,null,0,null,296772.28000000003,"A",257369.09,null,0,null,628383.43999999994,null,0,null,7346.88,"A",8906.2900000000009,null,16544.060000000001,null,0,null,5793.38,null,17600.61,null,10071.77,"A",1248787.81,1,null,6026.29,null,383894.81,null,57216.55,null,138976.07999999999,null,972769.56,"A",26771.200000000001,null,16367.02,"A",1602021.52,1,null,258201.58,null,184512.16,null,0,null,133415.57999999999,null,12385.56,null,4182.12,"A",9691.73,null,6349.19,null,5816.97,null,48443.7,null,3955.84,null,73588.789999999994,null,0,null,0,null,104260.26,"A",844803.47,1,null,601648.06000000006,null,25828.04,null,0.4,null,103688.76,null,45404.76,null,129714.5,null,36512.54,null,8838.33,null,108782.99,null,7468.16,null,22300.639999999999,null,8432.68,null,1098619.8600000001,1,"A",163466.94,null,4452.74,null,13352.87,null,2333.62,"A",102614.02,null,0,null,14975.53,null,765505.25,"A",1066700.95,1,null,0,null,67802.320000000007,null,9187.3700000000008,null,6577.76,null,335646.22,null,20390.419999999998,null,10589.57,null,450193.66,1,"A",1584.2,"A",1.71,"A",730.22,"A",2684.53,"A",2740.47,"A",2661.1,"A",10402.23,1,null,0.32,null,123422.39,null,123422.71,1,null,7730.79,null,7730.79,1,null,34181.42,1,"A",889.19,null,7.31,"A",896.49,1,"A",84971.74,"A",84971.74,1,"A",4126.13,null,0,"A",4126.13]
[2,null,0,null,308008.63," B",239971.95," B",0," B",589944.43999999994," B",0," B",6940.24," B",8228," B",15452.49," B",0," B",5328.33," B",15545.2," B",9100.7800000000007," B",1198520.05,2," B",5505.53,"AB",349797.63," B",55304.66," B",135658.31," B",1009406.88,"AB",23067.22," B",14992.2,"AB",1593732.43,2," B",238344.98," B",170263.84," B",0," B",112703.1," B",10946.76," B",3892.4," B",9035.07," B",5801.75," B",5321.77," B",44974.09," B",3793.16," B",68866.17," B",0," B",0," B",97247.679999999993," B",771190.79,2," B",563518.38,"AB",17527.22," B",0.15," B",96632.61," B",42638.29," B",119442.13," B",35804.36," B",8071.75," B",102019.34,null,6877.63," B",19717.68," B",7699.05,"AB",1019948.59,2,"AB",151350.38," B",4106.76," B",13283.9," B",2256.81,"AB",64324.08," B",0," B",14133.67," B",701031.69,"AB",950487.28,2," B",0," B",61485.21," B",8317.99," B",5904.82," B",304756.63," B",18309.849999999999," B",9706.89," B",408481.39,2,"AB",1708.27,"AB",0.81,"AB",741.36,"AB",2989.43,"AB",2637.44,"AB",2809.09,"AB",10886.4,2,"AB",132075.97,"AB",736.74,"AB",132812.70000000001,2," B",8734.31," B",8734.31,2,"AB",27287.37,2,"AB",728.85," B",0,"AB",728.85,2,"AB",104713.02,"AB",104713.02,2," B",4366.45," B",0," B",4366.45]
[3,null,0,null,268725.65999999997,null,223240.58,null,0,null,565824,null,0,null,6641.52,"A",7756.95,null,15100.34,null,0,null,5020,null,14877.94,null,8799.9,"A",1115986.8799999999,3,null,5268.37,null,322981.28000000003,null,52818.11,null,131295.26999999999,null,948077.94,"A",11257.16,null,14362.19,"A",1486060.31,3,null,215157.31,null,153456.89000000001,null,0,null,115719.71,null,10709.08,null,3722.22,null,8091.6,null,5571.23,null,5284.08,null,43131.040000000001,null,3557.68,null,63595.97,null,0,null,0,null,90017.67,null,718014.49,3,null,516288.53,"A",15040.82,null,0.09,null,89801.43,null,41331.440000000002,null,114134.56,null,33304.080000000002,null,7758.1,null,88881.600000000006,null,6533.1,null,18600.57,null,7103.26,"A",938777.59,3,"A",139973.63,null,3941.75,null,11560.05,null,2195.5300000000002,"A",37725.43,null,0,null,13722.9,null,669781.5,"A",878900.78,3,null,0,null,59417.72,null,8109.28,null,5822.25,null,286266.56,null,17706.77,null,9425.08,null,386747.67,3,"A",1764.71,"A",0.64,"A",337.51,"A",2177.0300000000002,"A",3317.51,"A",2911.59,"A",10508.99,3,null,71265.45,null,0.11,null,71265.55,3,"A",6355.84,"A",6355.84,3,null,25828.59,3,"A",689.76,null,0,"A",689.76,3,"A",101416.46,"A",101416.46,3,"A",3670.61,"A",9.15,"A",3679.76]
[4,null,0,null,221125.63,null,202391.39,null,0,null,491736.28,null,0,null,6025.63,null,7123.18,null,14091.7,null,0,null,4581.82,null,13305.09,null,8199.24,null,968579.96,4,null,4822.7700000000004,null,279040.78000000003,null,48361.34,null,123053.66,null,895778.06,"A",9485.5300000000007,"A",12877.41,"A",1373419.56,4,null,189237.92,null,135280.09,null,0,null,115637.95,null,9485.7199999999993,null,3449.96,null,7334.51,null,5141.95,null,4732.5200000000004,"A",38127.300000000003,null,3014.36,null,55897.25,null,0,null,0,null,82919.63,"A",650259.16,4,null,449957.66,"A",13040.16,null,0.03,null,75788.570000000007,null,38716.720000000001,null,103171.66,null,29090.080000000002,null,7159.68,null,82834.27,null,5974.22,null,15456.64,null,6734.38,"A",827924.07,4,"A",114539.31,null,3578.79,null,10742.21,null,1996.35,"A",27997.599999999999,null,0,null,12580.99,null,575078.81000000006,"A",746514.06,4,null,0,null,53401.4,null,7500.14,null,5280.29,null,259105.48,null,16218.04,null,8662.32,null,350167.67,4,"A",1273.8499999999999,"A",0.56999999999999995,"A",219.09,"A",942.25,"A",2681.2,"A",2138.91,"A",7255.87,4,null,12567.21,null,0,null,12567.21,4,null,563.54,null,563.54,4,"A",12937.09,4,"A",3541.84,null,0,"A",3541.84,4,"A",114267.99,"A",114267.99,4,null,4336.99,null,0,null,4336.99]
[5,null,0,null,220940.64,null,192908.3,null,0,null,489540.44,null,0,null,5712.18,"A",6757.35,null,13528.14,null,0,null,4449.5,null,12771.67,null,7838.34,"A",954446.55,5,null,4628.26,null,284386.21999999997,null,47097.599999999999,null,123381.3,null,901654.88,"A",8750.7800000000007,null,12710.45,"A",1382609.49,5,null,188806.45,null,134848.76999999999,null,0,null,115265.72,null,9104.48,"A",3304.98,null,7193.84,null,4950.8900000000003,null,4610.4799999999996,null,37341.839999999997,null,2581.25,null,57294.21,"A",101791.75,"A",13331.08,null,81319.66,"A",761745.4,5,null,465378.91,"A",13702.99,null,0.08,null,79729.52,null,46994.400000000001,null,101792.77,null,27841.05,null,6897.23,null,78894.53,null,5623.21,null,16443.2,null,6284.01,"A",849581.9,5,"A",121261.67,null,3477.3,null,10700.88,null,2323.19,"A",19616.05,null,0,null,12480.69,null,599734.56000000006,"A",769594.34,5,null,0,null,52633.82,null,7082.02,null,5012.4799999999996,null,253749.45,null,16165.64,null,8723.25,null,343366.67,5,"A",804.8,"A",0.37,"A",161.51,"A",1008.38,"A",2213.8000000000002,"A",1814.39,"A",6003.25,5,null,36767.919999999998,null,0,null,36767.919999999998,5,"A",1659.93,"A",1659.93,5,null,12967.46,5,"A",90548.800000000003,null,0,"A",90548.800000000003,5,"A",112956.15,"A",112956.15,5,null,4514.95,null,0,null,4514.95]
[6,null,0,null,295691.13,"A",218616.14,null,0,null,572661.75,null,0,null,6299.13,"A",7421,null,15165.11,null,0,null,5007.71,null,15964.31,null,8651.7000000000007,"A",1145477.98,6,null,5156.17,null,337719.31,null,55307.85,null,133327.92000000001,null,1080420.1299999999,"A",12268.39,null,13785.87,"A",1637985.63,6,null,226426.53,null,161162.88,null,0,"A",127868.66,"A",10339.64,null,3607.28,null,9818.15,null,5442.02,null,5117.78,null,41855.39,null,3302.32,null,66180.31,null,0,"A",29609.79,null,97254.7,"A",787985.46,6,null,555458.43999999994,"A",12563.53,null,0.23,null,94091.21,null,48024.83,null,108772.16,null,31467.43,null,6978.84,null,89699.05,null,5917.56,null,18565.849999999999,null,6748.94,"A",978288.06,6,"A",154951.13,null,3836.91,null,12953.53,null,2132.5100000000002,"A",54372.29,null,0,null,13549.58,null,710755.75,"A",952551.7,6,null,0,null,59487.4,null,8037.03,null,5716.18,null,290614.53000000003,null,18105.7,null,9532.6200000000008,null,391493.46,6,"A",2306.71,"A",0.4,"A",699.76,"A",2919.05,"A",3064.24,"A",3089.53,"A",12079.69,6,null,49968.32,null,0,null,49968.32,6,"A",9074.92,"A",9074.92,6,null,25120.55,6,"A",20404.169999999998,null,0,"A",20404.169999999998,6,"A",100805.34,"A",100805.34,6,"A",3676.49,null,0,"A",3676.49]
[7,null,0,null,326058.88,"A",247421.09,null,0,null,655742.43999999994,null,0,null,7162.25,"A",8495.2800000000007,null,16740.89,null,0,null,5816.3,null,19352.03,null,9883.9599999999991,"A",1296673.1200000001,7,null,5939.48,null,387654.72,null,60051.89,null,137802.95000000001,null,1222450.25,"A",13352.31,null,15840.69,"A",1843092.29,7,null,258883.02,null,183772.13,null,0,null,138831.54999999999,null,12094.93,null,4010.85,null,11394,null,6136,null,5637.08,null,48250.59,null,3939.86,null,75617.009999999995,"A",54493.7,"A",30972.91,null,109234.45,"A",943268.08,7,null,625839.13,"A",13744.67,null,0.42,null,107324.55,null,51897.08,null,130026.44,null,37773.269999999997,null,8053.61,null,105671.73,null,7179.43,null,22563.58,null,7797.14,"A",1117871.04,7,"A",176076.61,null,4296.5600000000004,null,14853.72,null,2409.4299999999998,"A",114292.56,"A",131395.14000000001,null,15180.3,null,771824.63,"A",1230328.95,7,null,0,null,67315.63,null,9179.7199999999993,null,6501.91,null,334202.90999999997,null,20127.310000000001,null,10566.81,null,447894.29,7,"A",2254.71,"A",3.82,"A",722.76,"A",3379.05,"A",3421.57,"A",3044.27,"A",12826.18,7,null,60222.89,null,0,null,60222.89,7,null,9040.7199999999993,null,9040.7199999999993,7,null,32733.01,7,"A",103843.78,null,0,"A",103843.78,7,"A",109775.12,"A",109775.12,7,"A",4453.3999999999996,null,0,"A",4453.3999999999996]
[8,null,0,null,295809.84000000003,"AB",259807.22," B",0," B",700255.06," B",0," B",7500.35,"AB",9119.1," B",17743.64," B",0," B",6101.27," B",20388.16," B",10574.35,"AB",1327299,8," B",6292.15," B",412009.25," B",62475.34," B",138262.38," B",1296829.25,"AB",14847.61," B",16968.07,"AB",1947684.05,8,"AB",270139.13,"AB",191656.39," B",0,"AB",124646.88,"AB",12934," B",4166.4799999999996," B",11451.3," B",6358.49," B",5959.45," B",51994.74," B",4314.1499999999996," B",78890.03,"AB",52392.3,"AB",40560.300000000003," B",115469.81,"AB",970933.45,8," B",658290.25,"AB",13604," B",0.79," B",113803.55," B",52757.14," B",136632.56," B",38118.69," B",8535.98," B",109260.51,null,7604.62," B",23090.69," B",8538.3799999999992,"AB",1170237.1599999999,8," B",188049.66," B",4592.5600000000004," B",15894.7," B",2536.69,"AB",49194.02,"AB",198824.88," B",15994.3," B",824243.13,"AB",1299329.93,8," B",0," B",70600.77," B",9664.64," B",6931.18," B",354245.34," B",21491.1," B",11118.05," B",474051.09,8,"AB",3062.52,"AB",16.190000000000001,"AB",457.56,"AB",3620.98,"AB",3483.87,"AB",3036.21,"AB",13677.33,8," B",85760.49," B",0.01," B",85760.5,8,"ABC",10292.74,"ABC","10292,74*",8," B",35295.93,8,"AB",36263.18," B",0,"AB",36263.18,8,"AB",126175.06,"AB",126175.06,8,"AB",3405.11," B",0,"AB",3405.11]
[9,null,0,null,283068.75,"A",257800.8,null,0,null,674739.69,null,0,null,7468.08,"A",8950.08,null,17220.23,null,0,null,5942.53,null,18750.73,null,10561.97,"A",1284502.8700000001,9,null,6195.83,null,411995.72,null,62392.67,null,138345.91,null,1287856.5,"A",69666.86,null,16908.59,"A",1993362.08,9,null,269188.53000000003,null,190890.02,null,0,null,140911.85999999999,"A",12814.47,null,4221.24,"A",10166.94,null,6083.09,null,5864.57,null,50509.53,null,4268.2299999999996,null,76779.899999999994,null,0,null,0,null,113736.97,"A",885435.35,9,null,647934.25,"A",12102.17,null,0.54,null,111604.79,null,52552.38,null,134404.04999999999,null,37277.589999999997,null,8552.0499999999993,null,109803.91,null,7553.07,null,22442.080000000002,null,8810.43,"A",1153037.31,9,null,182721.53,null,4541.8100000000004,null,14781.7,null,2497.6,"A",24234.03,"A",33609.58,null,15593.8,null,806750.38,"A",1084730.43,9,"A",0,"A",69934.559999999998,null,9343.89,null,6838.53,null,350379.06,null,21091.24,null,11008.69,"A",468595.96,9,"A",2594.69,"A",43.62,"A",775.81,"A",3430.02,"A",3279.1,"A",2687.28,"A",12810.51,9,null,57323.46,null,0,null,57323.46,9,null,10422.08,null,10422.08,9,null,36316.42,9,"A",19258.02,null,0,"A",19258.02,9,"A",122398.23,"A",122398.23,9,null,4694.1099999999997,null,0,null,4694.1099999999997]
[10,null,0,null,258710.11,"A",252479.34,null,0,null,639289.13,null,0,"A",7266.97,"A",8742.17,null,16618.41,null,0,null,5783.3,null,17608.2,null,10175.59,"A",1216673.22,10,null,5840.92,null,379930.22,null,58658.45,null,139418.60999999999,null,1186156.25,"A",20059.990000000002,null,15990.79,"A",1806055.22,10,null,259518.8,null,184043.19,null,0,null,120491.2,"A",11723.13,"A",4123.53,null,9170.91,null,5972.09,null,5510.73,null,47765.77,null,3916.94,null,73774.38,"A",9814.5300000000007,null,0,null,104356.26,"A",840181.44,10,null,631906.93999999994,"A",12214.23,null,0.18,null,107779.89,null,55013.14,null,134260.75,null,37255.050000000003,null,8584.6200000000008,null,109758.04,null,7533,null,22594.11,null,8806.75,"A",1135706.7,10,null,170924.52,null,4322.84,null,14012.61,null,2347.16,"A",17899.080000000002,"A",35232.480000000003,null,15000.22,null,753400.56,"A",1013139.48,10,null,0,null,66937.95,null,8880.15,null,6280.07,null,324903.09000000003,null,19842.46,null,10395.370000000001,null,437239.08,10,"A",1957.63,"A",30.83,"A",520.14,"A",3056.78,"A",3676.88,"A",2762.7,"A",12004.94,10,null,61350.63,null,0,null,61350.63,10,"A",7384.39,"A",7384.39,10,null,33244.33,10,"A",4013.37,null,0,"A",4013.37,10,"A",106749.32,"A",106749.32,10,"A",1307,null,0,"A",1307]
[11,null,0,null,230519.25,"A",231893.03,null,0,null,598220.06000000006,null,0,null,6951.33,null,8249.64,null,15376.45,null,0,null,5328.61,null,15605.89,null,9432.99,"A",1121577.26,11,null,5412.55,null,336770.22,null,56747.17,null,136250.42000000001,null,1038637.63,"A",19533.63,null,14651.49,"A",1608003.1,11,null,231455.88,null,164226.88,null,0,null,127628.23,"A",11069.56,null,3899.41,null,8929.7900000000009,null,5620.7,null,5221.21,null,44590.27,null,3664.4,null,68578.48,null,0,null,0,null,98942.8,"A",773827.61,11,null,560364.5,"A",13757.17,null,0.22,null,96853.23,null,55981.57,null,126573.33,null,34663.019999999997,null,8460.0400000000009,null,104915.02,null,7210.81,null,21217.040000000001,null,8373.0499999999993,"A",1038369.01,11,null,151513.19,null,4009.99,null,12232.95,null,2271.0500000000002,"A",12260.17,null,0,null,14199.63,null,688754.69,"A",885241.67,11,null,0,null,60147.55,"A",7986.8,null,5477.79,null,287253.65999999997,null,17753.46,null,9286.25,"A",387905.51,11,"A",372.08,"A",10.29,"A",176.95,"A",1631.93,"A",2996.81,"A",2116.83,"A",7304.88,11,null,11933.33,null,0,null,11933.33,11,null,6000.08,null,6000.08,11,null,21350.54,11,"A",45568.17,null,0,"A",45568.17,11,"A",117351.54,"A",117351.54,11,"A",1432.8,null,0,"A",1432.8]
[12,null,0,null,192032.69,"A",225152.02,null,0,null,564405.18999999994,null,0,null,6624.05,"A",7772.87,null,14363.53,null,0,null,5142.2,null,15287.58,null,9147.42,"A",1039927.54,12,null,5108.01,null,330498.40999999997,null,53022.32,null,134482.82999999999,null,1035817.44,"A",27080.21,null,14558.95,"A",1600568.16,12,null,226930,null,160939.56,null,0,null,106932.13,"A",10898.74,null,3776.35,null,7763.3,null,5617.19,"A",5167.0600000000004,"A",43646.95,null,3285.64,null,65983.45,null,0,null,0,null,92060.73,"A",733001.1,12,null,540631.43999999994,"A",11972.61,null,0.14000000000000001,null,91374.09,null,54107.1,null,119275.54,null,33199.61,null,8014.7,null,99964.75,null,6658.3,null,19517.28,null,7801.83,"A",992517.4,12,null,143172.14000000001,null,3888.93,null,11334.82,null,2170.09,"A",14607.7,null,0,null,13598.14,null,658447.25,"A",847219.06,12,null,0,null,57397.21,null,7687.84,null,5208.03,null,273531.25,null,16434.5,null,8690.5,null,368949.34,12,"A",491.41,"A",3.68,"A",118.24,"A",1213.0999999999999,"A",2500.86,"A",1621.24,"A",5948.52,12,null,11746.07,null,0,null,11746.07,12,null,4690.8500000000004,null,4690.8500000000004,12,null,17529.5,12,"A",34068.239999999998,null,0,"A",34068.239999999998,12,"A",112512.53,"A",112512.53,12,"A",1298.21,null,0,"A",1298.21]
[13,null,0,null,159550.51999999999,null,215771.44,null,0,null,547906.93999999994,null,0,null,6240.06,null,7303.94,null,13974.46,null,0,null,4871.6400000000003,null,14565.97,null,8503.49,null,978688.46,13,null,4984.09,null,320104.19,null,51317.14,null,132480.07999999999,null,930613,"A",20711.86,null,13618.47,"A",1473828.83,13,null,214875.58,null,152479.98000000001,null,0,null,121188.92,"A",9987.2999999999993,null,3516.9,null,8611.35,null,5320.04,null,4946.99,null,40359.230000000003,null,3237.14,null,63170.62,"A",2103.63,"A",153368.28,null,88156.65,"A",871322.61,13,null,534012.25,"A",8673.32,null,0.02,null,89322.27,null,53321.46,null,114347.3,null,31590.76,null,7520.41,null,92069.98,null,6378.97,null,18904.54,null,7477.21,"A",963618.48,13,"A",138933.84,null,3685.49,null,11834.47,"A",2056.79,"A",38955.65,null,0,null,13045.64,null,641269.18999999994,"A",849781.07,13,null,0,null,56768.2,null,7555.5,null,5079.8500000000004,null,265832.15999999997,null,16442.27,null,8653.4,null,360331.37,13,"A",1652.58,"A",5.72,"A",350.55,"A",2448.83,"A",2521.9899999999998,"A",2689.8,"A",9669.4699999999993,13,null,46254.68,null,0,null,46254.69,13,null,11390.14,null,11390.14,13,null,25282.26,13,"A",60257.66,null,0,"A",60257.66,13,"A",117195.34,"A",117195.34,13,null,1297.6199999999999,null,0,null,1297.6199999999999]
[14,null,0,null,150501,null,216336.3,null,0,null,554643.13,null,0,null,6403.78,"A",7409.36,null,14165.89,null,0,null,5009.28,null,15928.29,null,8895.57,"A",979292.6,14,null,5140.17,null,327197.59000000003,null,50706.64,null,132198.76999999999,null,927493.75,"A",21146.21,null,13888.07,"A",1477771.21,14,null,214076.79999999999,null,151908.35999999999,null,0,"A",123800.66,"A",10328.870000000001,"A",3552.52,null,9586.11,null,5528.04,null,4989.22,"A",40721.82,null,3146.7,null,64258.78,null,0,"A",78.5,null,92668.52,"A",724644.88,14,null,530873.63,"A",17032.599999999999,null,0,null,91660.74,null,51673.27,null,116767.43,null,33192.86,null,7826.21,null,91442.44,null,6601.59,null,19328.13,null,7676.69,"A",974075.57,14,"A",134597.91,"A",3840.54,null,11544.26,null,2082.83,"A",78609.98,null,0,null,13207.1,null,648565.93999999994,"A",892448.55,14,null,0,null,58457.16,null,8049.53,null,5427.86,"ABC",277665.06,null,17625.98,null,9168.89,"ABC","376394,47*",14,"A",3159.51,"A",5.75,"A",742.05,"A",2546.08,"A",2249.58,"A",2333.38,"A",11036.35,14,null,128219.78,null,18.899999999999999,null,128238.68,14,null,8429.2800000000007,null,8429.2800000000007,14,null,26646.19,14,"A",268.97000000000003,null,0,"A",268.97000000000003,14,"A",102700.65,"A",102700.65,14,null,1287.97,null,0,null,1287.97]
[15,"A",0,"A",149473.5,null,204268.17,null,0,null,521264.03,null,0,null,6070.87,"A",7048.42,null,13399.14,null,0,null,4793.1099999999997,null,14278.84,null,8414.1,"A",929010.18,15,null,4939.92,null,298273.06,null,49570.03,null,124656.52,null,885041.06,"A",21102.07,"A",13119.33,"A",1396702,15,null,200841.98,null,142472.42000000001,null,0,null,116739.23,"A",9946.81,"A",3301.51,null,8546.51,null,5392.64,null,4834.1499999999996,null,38493.33,null,3137.71,null,60467.54,null,0,null,0,null,87100.66,"A",681274.51,15,null,489199,"A",12421.54,null,0,null,85406.6,null,49052.49,null,108639.93,null,29276.04,null,7561.86,null,83875.08,null,6201.94,null,17525.29,null,7201.82,"A",896361.59,15,"A",124581.37,null,3653.11,null,11442.23,null,1964.47,"A",12565.29,null,0,null,12596.76,"A C",592538.63,"A C","759341,86*",15,null,0,null,55370.9,null,7676.31,null,5303.73,null,267355.15999999997,null,16576.8,null,8680.68,null,360963.58,15,"A",1949.16,"A",5.59,"A",427.06,"A",4698.76,"A",2001.21,"A",1797.87,"A",10879.66,15,null,130244.2,null,20.53,null,130264.73,15,null,4813.43,null,4813.43,15,null,22802.01,15,"A",3838.99,null,0,"A",3838.99,15,"A",108764.16,"A",108764.16,15,"A",1206.92,"A",15.29,"A",1222.21]
[16,null,0,null,150848.73000000001,"AB",225707.81," B",0," B",572864.06000000006," B",0," B",6252.89,"AB",7361.9," B",13968.95," B",0," B",4966.1099999999997," B",15717.97," B",8878.4599999999991,"AB",1006566.9,16," B",4972.33," B",327348.44," B",52467.02," B",134911," B",1002147.38," B",21555.74," B",13801.03," B",1557202.93,16," B",222755.78," B",157918.32999999999," B",0," B",125658.73,"AB",10332.26," B",3726.19," B",8643.66," B",5480.75," B",5002.12," B",42136.21," B",3477.28," B",67717.3," B",0," B",0," B",94474.8,"AB",747323.42,16,"ABC",565739.5,"A",12209.54,null,0," B",95412.160000000003," B",52148.35," B",116064.92," B",34790.300000000003," B",7535.09," B",95831.8,null,6579.55," B",20216.32," B",7396.64,"ABC","1013924,18*",16," B",150093.35999999999," B",3721.22," B",12627.02," B",2058.36,"AB",18670.63," B",0," B",13027.76," B",674265.5,"AB",874463.85,16," B",0," B",56889.07," B",7727.5," B",5395.75," B",274561.96999999997," B",17076.28," B",8786.7999999999993," B",370437.36,16,"AB",1712.12,"AB",29.56,"AB",256.41000000000003,"AB",2648.03,"AB",2229.63,"AB",1979.4,"AB",8855.14,16," B",117153.64," B",2.92," B",117156.56,16," B",8657.52," B",8657.52,16," B",27378.49,16,"AB",303.89999999999998," B",0,"AB",303.89999999999998,16,"AB",105339.63,"AB",105339.63,16,"AB",1123.21,"AB",0.22,"AB",1123.44]
[17,null,0,null,150128.32999999999,"A",222492.72,null,0,null,544906.5,null,0,null,6634.81,"A",7647.57,null,14041.25,null,0,null,5159.9399999999996,null,15450.6,null,8865.26,"A",975326.98,17,null,5137.8500000000004,"A C",325460.25,null,51766.34,null,131900.92000000001,null,933935.38,null,31155.439999999999,null,14112.79,"A C","1493468,97*",17,null,217808.41,null,154349.76999999999,null,0,null,100250.21,"A",10800.56,null,3747.31,null,7841.71,null,5617.51,null,5255.06,null,42703.61,null,3500.3,null,65369.77,null,0,null,0,null,92165.61,"A",709409.84,17,null,529134.38,"AB",12821.9," B",0,null,88359.89,null,49819.97,null,113134.46,null,33048.46,null,7704.5,null,88077.62,null,6462.44,null,19072.400000000001,null,7313.9,"AB",954949.93,17,"A",137545.53,null,3847.7,null,11664.3,"A",2064.37,null,24352.3,null,0,null,13376.93,null,655817.5,"A",848668.63,17,null,0,null,58184.44,null,7952.62,null,5630,null,282334.34000000003,null,17749.04,null,9064.07,null,380914.51,17,"A C",1788.71,"A",100.36,"A",462.99,"A",2483.75,"A",2317.5300000000002,"A",1779.37,"A C",8932.7199999999993,17,null,113698.46,null,7.87,null,113706.33,17,null,6727.04,null,6727.04,17,null,29198.98,17,"A",88244.7,null,0,"A",88244.7,17,"A",116653.25,"A",116653.25,17,null,1319.17,null,0,null,1319.17]
[18,null,0,null,143501.94,null,190670.97,null,0,null,494740.97,null,0,null,6075.35,null,6952.65,null,12771.44,null,0,null,4775.6899999999996,null,13628.32,null,8295.7199999999993,null,881413.04,18,null,4769.1000000000004,null,285885.59000000003,null,46401.99,null,126260.96,null,841855.88,"A",26292.68,null,12908.02,"A",1344374.22,18,null,192281.45,null,136252.91,null,0,null,110958.92,"A",9530.01,null,3429.47,null,7404.81,null,5118.71,null,4816.55,null,37773.42,null,3005.34,null,58849.65,null,0,null,0,null,84475.92,"A",653897.17000000004,18,null,464458,"A",10519.19,null,0,null,78093.45,null,49010.44,null,105533.36,null,28438.28,null,7211.26,null,81511.69,null,6010.36,null,16603.240000000002,null,6901.8,"A",854291.05,18,"A",116184.25,null,3622.99,null,10264.040000000001,null,1952.08,"A",9607.9,null,0,null,12565.84,null,613463.5,"A",767660.6,18,null,0,null,53000.72,"A",7332.05,null,5113.12,null,254805.92,null,16150.22,null,8371.4699999999993,"A",344773.5,18,"A",1441.75,"A",49.75,"A",291.89,"A",1458.98,"A",1868.24,"A",1337.6,"A",6448.21,18,"A",6693.06,null,0,"A",6693.06,18,"A",1064.5999999999999,"A",1064.5999999999999,18,null,17263.68,18,"A",2480.91,null,0,"A",2480.91,18,"A",100269.6,"A",100269.6,18,null,1266.3499999999999,null,0,null,1266.3499999999999]
[19,null,0,null,138853.51999999999,null,177065.98,null,0,null,455474.34,null,0,null,5463.47,null,6285.55,null,11856.46,null,0,null,4383.79,null,12495.56,null,7723.47,null,819602.15,19,null,4303.38,null,261758.7,null,45392.75,null,123325.13,null,754046.06,"A",24112.04,null,11903.34,"A",1224841.3999999999,19,null,174849.17,null,124679.81,null,0,null,108414.84,null,8608.48,null,3108.76,null,6174.13,null,4772.42,null,4345.4399999999996,null,35356.35,null,2409.29,null,53861.75,null,0,null,0,null,83805.23,null,610385.68000000005,19,null,433655.56,"A",13643.3,null,0,"A",75351.3,null,49744.2,null,96475.63,null,25303.73,null,6741.05,null,69794.880000000005,null,5518.05,null,14755.4,null,6293.53,"A",797276.62,19,null,108064.38,"A",3274.21,null,9419.49,null,1803.18,"A",8800.59,null,0,null,11849.94,null,556225.75,"A",699437.55,19,null,0,null,49240.71,null,6876.13,null,4684.97,null,239424.19,null,15017.99,null,8020.47,null,323264.46000000002,19,"A",1068.25,"A",37.82,"A",209.35,"A",1270.72,"A",1333.21,"A",1263.29,"A",5182.6400000000003,19,null,2094.61,null,0,null,2094.61,19,"A",7196.73,"A",7196.73,19,null,13680.66,19,"A",39332.629999999997,null,0,"A",39332.629999999997,19,"A",106545.12,"A",106545.12,19,null,1255.76,null,0,null,1255.76]
[20,null,0,null,144079.72,null,175326.84,null,0,"A C",438670.75,null,0,"A",5001.99,"A",5958.63,null,10111.379999999999,null,0,null,3846.34,null,12447.39,null,6992.36,"A C","802435,41*",20,null,3974.26,null,249002.06,null,43701.4,null,119529.45,null,734909.06,null,29484.29,"A",10974.33,"A",1191574.8600000001,20,null,165359.32999999999,null,118868.23,null,0,null,101838.28,null,7910.34,null,2924.16,null,6000.42,null,4437.58,null,4167.58,null,32383.439999999999,null,2427.0100000000002,null,49769.26,"A",97638.98,"A",25840.17,null,84139.59,"A",703704.36,20,null,403819.75,"A",12935.11,null,0,null,69640.73,null,45846.53,null,86688.53,null,23186.86,null,5819.07,null,63580.81,null,4784.63,null,13486.65,null,5540.83,"A",735329.5,20,"A",106817.87,"A",3024.43,null,9273.89,"A",1658.34,"A",8951.5,null,0,null,11041.4,null,555207.75,"A",695975.18,20,null,0,null,45508.05,null,6409.49,null,4403.1000000000004,null,218279.78,null,14071.12,null,7502.93,null,296174.46999999997,20,"A",1571.38,"A",22.42,"A",373.77,"A",2524.5500000000002,"A",1718.58,"A",1608.6,"A",7819.31,20,"A",103489.73,null,13.85,"A",103503.57,20,null,6509.02,null,6509.02,20,null,21149.7,20,"A",51708.480000000003,null,0,"A",51708.480000000003,20,"A",108473.1,"A",108473.1,20,"A",961.93,"A",1.23,"A",963.17]
[21,null,0,null,141085.10999999999,null,174417.39,null,0,null,443260.84,null,0,"A",4999.87,null,5972,null,11421.55,null,0,null,3974.54,null,12165.91,null,7035.72,"A",804332.93,21,null,3999.56,null,252053.7,null,43553.54,null,116018.36,null,741270.25,"A",17151.82,null,11094.34,"A",1185141.58,21,null,160821.25,null,116052.59,null,0,null,100836.41,"A",7897.41,null,2867.74,null,6077.99,null,4339.6899999999996,null,3953.17,null,31685.23,null,2340,null,48345.3,"A",54.96,"A",26503.040000000001,null,77590.31,"A",589365.1,21,null,406123.28,"A",12209.93,null,0,null,68035.3,null,48514.03,null,90337.98,null,24232.240000000002,null,5557.7,null,64596.6,null,4924.82,null,14339.72,null,5896.31,"A",744767.91,21,"A",102794.82,null,3078.19,null,8877.77,null,1656.2,"A",4024.01,null,0,null,10783.65,null,536679.31000000006,"A",667893.94999999995,21,null,0,null,45190.3,null,6407.35,null,4337.6899999999996,null,214596.5,null,14028.45,null,7583.67,null,292143.96000000002,21,"A",2044.93,"A",8.8699999999999992,"A",550.13,"A",1916.4,"A",2120.66,"A",1758.18,"A",8399.18,21,null,130458.14,null,26.92,null,130485.06,21,null,3810.48,null,3810.48,21,null,20222.11,21,"ABC",81527.740000000005,"ABC",0,"ABC",81527.740000000005,21,"A",101377.01,"A",101377.01,21,null,0,"A",0.09,"A",0.09]
[22,null,0,null,143001.79999999999,null,168407.34,null,0,null,439643.31,null,0,null,5051.4799999999996,"A",5990.98,null,10886.58,null,0,null,3938.06,null,11788.11,null,7188.46,"A",795896.11,22,null,3980.07,null,254192.77,null,43305.87,null,116917.1,null,695875.13,null,26178.11,null,10987.72,null,1151436.76,22,null,158904.39000000001,null,114674.62,null,0,null,97694.02,"A",7949.81,null,2880.27,null,6521.35,null,4471.8500000000004,null,4054.46,null,31437.38,null,2614.9,null,50519.94,null,0,null,0,null,72730.55,"A",554453.54,22,null,407740.28,"AB",0,"ABC",7754.97,null,71137.97,null,49470.91,null,91217.33,null,24817.56,null,6052.43,null,64497.7,null,5051.24,null,14700.74,null,5849.99,"ABC","748291,11*",22,"A",102911.37,null,2988.78,null,8917.2999999999993,null,3062.6,null,0,null,0,null,10580.65,null,552439.68999999994,"A",680900.39,22,null,0,null,44614.89,null,6274.16,null,4222.17,null,209605.22,null,13417.69,null,7366.89,null,285501.01,22,"A",1850.17,"A",25.08,"A",853.08,"A",1992.04,"A",1966.69,"A",2028.44,"A",8715.5,22,"A",5737.3,"A",147183.53,"A",152920.82999999999,22,null,3412.11,null,3412.11,22,null,19047.919999999998,22,"A",99906.57,null,0,"A",99906.57,22,"A",111528.38,"A",111528.38,22,"A",1140.0899999999999,null,0,"A",1140.0899999999999]
[23,null,0,null,143066.82999999999,null,170906.19,null,0,null,450537.94,null,0,null,5084.3,null,6184.86,null,11094.2,null,0,null,4106.4399999999996,null,12276.57,null,7362.8,null,810620.13,23,null,4158.3999999999996,null,257401.33,null,40493.46,null,116627.77,null,690783.81,"A",21033.08,null,11299.44,"A",1141797.3,23,null,162187.42000000001,null,117118.41,null,0,null,103209.79,"A",8223.34,null,2852.89,null,7142.9,null,4502.9399999999996,null,4028.92,null,32072.78,null,2332.21,null,50767.91,null,0,null,0,null,73628.61,"A",568068.12,23,null,410115.91,null,0,"A",11433.53,null,69234,null,42192.87,null,91532.66,null,24391.84,null,6260.82,null,65250.22,null,5139.7299999999996,null,14387.92,null,5979.96,"A",745919.45,23,"A",103318.35,null,3095.2,null,9378.75,null,3442.81,"A",2136.69,null,0,null,10573.93,null,548427.68999999994,"A",680373.41,23,null,0,null,45354.29,null,6603.41,null,4361.2299999999996,null,213479.77,null,13894.66,null,7479.2,null,291172.56,23,"A",1660.33,"A",1.91,"A",462.17,"A",2098.94,"A",1835.79,"A",1703.92,"A",7763.06,23,null,0.02,null,117590.2,null,117590.22,23,null,4492.01,null,4492.01,23,null,19309.37,23,"A",40624.32,"A",0,"A",40624.32,23,"ABC",100012.16,"ABC",100012.16,23,"A",1093.97,null,0,"A",1093.97]
[24," B",0," B",136801.69," B",157220.48000000001," B",0," B",394835.81," B",0," B",4684.76," B",5623.87," B",9603.49," B",0," B",3792.02," B",11219.7," B",6736.48," B",730518.29,24," B",3671.34," B",220529.31," B",38732.39," B",106393.61," B",657392.88," B",80652.740000000005," B",10244.5," B",1117616.76,24," B",222656.67,"AB",18805.28," B",0," B",92311.58," B",7619.14," B",2734.73," B",4681.7," B",4099.0600000000004," B",3937.65," B",29078," B",2059.9299999999998," B",43890.94,"AB",5452.6," B",0," B",66725.34,"AB",504052.62,24," B",356776.53," B",0,"AB",13795.33," B",57837.05," B",31075.59," B",85166.69," B",21373.71," B",5624.67," B",61582.65,null,4789.1499999999996," B",12268.52," B",5630.57,"AB",655920.46,24," B",88078.05," B",2891.96," B",8072.55," B",3099.83,"AB",37571.919999999998," B",0," B",9927.2900000000009," B",483851.53,"AB",633493.14,24," B",0," B",39780.78," B",6063.57," B",3999.86," B",188907.34," B",12596.79," B",6976.43," B",258324.78,24,"AB",1628.05,"AB",2.08,"AB",402,"ABC",2150.69,"AB",1852.1,"AB",1844.12,"ABC",7879.03,24," B",0," B",98923.49," B",98923.5,24,"AB",2341.0300000000002,"AB",2341.0300000000002,24," B",18453.87,24,"AB",5595.81," B",0,"AB",5595.81,24,"AB",92020.65,"AB",92020.65,24,"AB",1144.83,"AB",0.28999999999999998,"AB",1145.1199999999999]
[25,null,0,null,138029.29999999999,null,177370.91,null,0,null,464588.16,null,0,null,4869.97,null,5785.5,null,11030.15,null,0,null,3822.47,null,12503.27,null,6936.28,null,824936.01,25,null,3816.58,null,251635.08,null,43277.55,null,116746.6,null,722663.25,null,114426.69,null,10502.28,null,1263068.02,25,null,269615.13,null,0,null,0,null,102575.6,"A",7886.08,null,2838.81,null,7578.44,null,4342.63,null,4114.4799999999996,null,31672.44,null,2453.81,"A",52187.5,null,0,null,0,null,76551.37,"A",561816.27,25,"A",426625.91,null,0,"A",16029.32,null,70676.37,null,38248.36,null,90548.52,null,25427,null,5762.94,null,64804.43,null,5093.3900000000003,null,14664.34,null,5801.53,"A",763682.11,25,"A",106490.81,null,3039.47,null,9613.94,null,2567.09,null,113014.34,null,0,null,10235.709999999999,null,549342.18999999994,"A",794303.55,25,null,0,null,44620.14,null,6094.1,null,4256.5,null,203892.44,null,13348.64,null,7163.11,null,279374.93,25,"A",1668.02,"A",8.6999999999999993,"A",147.76,"A",1151.95,"A",2135.66,"A",1502.4,"A",6614.48,25,null,0,"A",3406.31,"A",3406.31,25,"A",1289.67,"A",1289.67,25,null,11980.84,25,"A",39302.46,null,0,"A",39302.46,25,"A",106434.78,"A",106434.78,25,"A",442.93,"A",1.27,"A",444.2]
[26,null,0,null,141387.95000000001,null,186230.7,null,0,"A",457504.56,null,0,null,5131.74,null,6173.45,null,11351.75,null,0,null,4093.42,null,13308.81,null,7384.05,"A",832566.44,26,null,4088.48,null,259232.7,null,43973.46,null,122026.21,null,744284.81,null,104369.51,null,11154.66,null,1289129.8400000001,26,null,287834.75,null,0,null,0,null,101348.2,"A",8374.16,null,2970.59,null,6150.28,null,4583.8,null,4363.38,null,33430.050000000003,null,2447.59,null,55311.26,null,0,null,0,null,76400.11,"A",583214.17000000004,26,"A",439752.75,null,0,"A",14075.11,null,75583.03,null,37606.71,null,93327.55,null,26019.34,null,6049.97,null,65759.44,null,5288.24,null,15066.76,null,6029.92,"A",784558.82,26,"A",111099.6,null,3216.14,null,9808.42,null,1656.28,null,118342.62,null,0,null,10748.09,null,558620.5,"A",813491.65,26,null,0,null,46118.81,null,6694.84,null,4392.54,null,216285.77,null,13933.13,null,7494.69,null,294919.78000000003,26,"A",1032.08,"A",7.48,"A",366,"A",889.82,"A",1237.78,"A",1273.6300000000001,"A",4806.79,26,null,0,null,1805.41,null,1805.41,26,"A",3886.61,"A",3886.61,26,null,9345.51,26,"A",42066.18,null,0,"A",42066.18,26,"A",108770.88,"A",108770.88,26,null,0,null,0,null,0]
[27,null,0,null,143824.79999999999,null,183347.16,null,0,null,445391.44,null,0,null,5146.43,null,6127.81,null,11026.88,null,0,null,4073.78,null,12397.86,null,7318.62,null,818654.77,27,null,4085.75,null,263325.90999999997,null,44071.67,null,118863.71,null,707206.56,null,104776.98,null,11114.44,null,1253445.02,27,null,282504.90999999997,null,0,null,0,null,97689.69,null,8201.85,null,2994.95,null,6436.06,"A",4442.42,null,4200.03,null,32028.639999999999,null,2212.89,null,53041.49,null,0,null,0,null,75882.7,"A",569635.63,27,"A",421814.34,null,0,"A",12026.55,null,69500.479999999996,null,36795.050000000003,null,90714.39,null,24208.89,null,6140.34,null,62628.09,null,5047.5600000000004,null,13924.54,null,5862.77,"A",748663.02,27,"A",110467.31,null,3194.78,null,8897.49,null,1732.36,null,109307.88,null,0,null,10559.35,null,541909.18999999994,"A",786068.37,27,null,0,null,44221.3,null,6461.78,null,4304.8,null,211410.89,null,13497.03,null,7367.93,null,287263.73,27,"A",1533.79,"A",27.37,"A",662.35,"A",2432.36,"A",1858.89,"A",1969.17,"A",8483.94,27,"A C",0,"A C",29323.759999999998,"A C","29323,76*",27,"A",4531.0600000000004,"A",4531.0600000000004,27,null,18581.080000000002,27,"A",58215.19,null,0,"A",58215.19,27,"A",110973.12,"A",110973.12,27,null,0,null,0,null,0]
[28,null,0,null,142501.91,null,177381.72,null,0,null,420990.59,null,0,null,4684.41,null,5771.07,null,10085.09,null,0,null,3790.02,null,11560.66,null,6861.8,null,783627.28,28,null,3799.64,null,239844.53,null,43245.32,null,115121.8,null,685970.31,null,94807.62,null,10497.66,null,1193286.8700000001,28,null,258774.27,null,0,null,0,null,87623.88,"A",7605.17,null,2708.38,null,5599.89,null,4165.68,null,3994.74,null,29944.59,null,2055.2199999999998,null,47323.59,"A",10887.15,"A",9.6,null,71419.320000000007,"A",532111.47,28,"A",390165.94,null,0,"A",13779.9,null,62363,null,37489.5,null,81289.440000000002,null,21226.94,null,5442.75,null,59154.44,null,4499.75,null,12107.1,null,5233.6899999999996,"A",692752.44,28,"A",103476.46,null,2903.09,null,9010.56,null,1615.58,null,96418.29,null,0,null,9938.48,null,519245.09,"A",742607.55,28,null,0,null,42356.68,null,6130.72,null,3984.28,null,196255.08,null,12880.85,null,6969.03,null,268576.64000000001,28,"A",1791.31,"A",48.16,"A",405.31,"A",2804.59,"A",1972.63,"A",1773.59,"A",8795.59,28,null,0,null,55792.639999999999,null,55792.639999999999,28,"A",635.61,"A",635.61,28,null,17427.599999999999,28,"A",4980.71,null,0,"A",4980.71,28,"A",106446.39999999999,"A",106446.39999999999,28,null,0,null,0,null,0]
["Итого","AB",0,"AB",5514100.0899999999,"AB",5831973.0800000001," B",0,"ABC","14817965,28*"," B",0,"AB",169734.79,"AB",201119.47," B",378733.63," B",0," B",133691.63," B",408791.24," B",235830.67,"ABC","27691939,89*","Итого"," B",136017.26999999999,"ABC","8609923,78*"," B",1401430.54," B",3564233.63," B",25531343.309999999,"AB",1015097.74,"AB",371234.12,"ABC","40629280,39*","Итого","AB",6238437.4100000001,"AB",3520633.49," B",0,"AB",3172191.54,"AB",275707.67,"AB",96512.02,"AB",223038.43,"AB",145660.35,"AB",135247.60999999999,"AB",1101907.73," B",86451.18,"AB",1709898.55,"AB",334629.59999999998,"AB",320273.67," B",2484735.91,"AB",19845325.149999999,"Итого","ABC","14027223,47*","AB",287564.03000000003,"ABC","88897,99*","AB",2386086.5299999998," B",1307428.57," B",3029986.59," B",842831.6," B",200715.97," B",2364943.61,null,170504.53," B",493860.97," B",195217.05,"ABC","25395260,92*","Итого","AB",3703455.98,"AB",102124.24," B",316350.40000000002,"AB",61943.199999999997,"AB",1220466.6000000001,"AB",399062.08," B",355068.28,"ABC","17753177,13*","ABC","23911647,91*","Итого","AB",0,"AB",1532237.97,"AB",211285.93," B",146448.73000000001,"ABC","7389345,77*"," B",461943.43," B",244355.06,"ABC","9985616,89*","Итого","ABC","47727,67*","AB",499.55,"AB",12623.79,"ABC","64569,04*","AB",67233.929999999993,"AB",59335.88,"ABC","251989,86*","Итого","ABC","1375025,68*","ABC","578275,58*","ABC","1953301,26*","Итого","ABC","161136,55*","ABC","161136,55*","Итого","AB",632562.48,"Итого","ABC","978472,61*","ABC","7,31*","ABC","978479,92*","Итого","ABC","3017596,71*","ABC","3017596,71*","Итого","AB",54823.01,"AB",27.54,"AB",54850.55]