{"text_format":"1","workbook":"xlsx","n_sheets":4,"sheets":["паспорт"," розрахунок","додаток","variablesList"],"not_rendered":{"charts":0,"images":0,"macros":1,"external_links":0,"defined_names":4,"comments":0,"pivot_tables":0},"unopened":[],"bounds":{"document_bytes":16777216,"sheet_cells":100000,"rows_first":2000,"rows_last":500,"rows_between":2000,"halvings":0,"cell_chars":16384,"cell_head_chars":4096},"cells_cut":0,"cells_raw":0,"read":"whole","date_system":"1900"}

{"sheet":"паспорт","index":0,"n_rows":51,"n_cols":31,"rows_kept":51,"cut":false,"hidden":false,"merged":[[6,0,9,0],[8,11,9,11],[41,18,42,18],[41,19,42,19],[41,14,42,14],[42,7,42,13],[41,15,42,15],[41,16,42,16],[41,17,42,17],[8,9,9,9],[8,10,9,10],[41,0,41,13],[8,3,9,3],[8,1,9,1],[8,2,9,2],[8,5,9,5],[8,6,9,6],[8,4,9,4],[43,20,43,27],[42,20,42,27],[41,20,41,27],[6,27,9,27],[8,8,9,8],[6,26,9,26],[6,24,9,24],[6,23,9,23],[6,25,9,25],[0,6,0,24],[1,6,1,24],[0,25,0,27],[4,23,4,24],[8,12,9,12],[4,21,4,22],[8,14,8,16],[8,17,8,19],[8,20,8,22],[7,14,7,22],[2,6,2,24],[4,26,4,27],[8,7,9,7],[6,1,7,12],[7,13,9,13],[6,13,6,22]]}
["ПАТ \"УКРТРАНСГАЗ\"",null,null,null,null,null,"ПАСПОРТ ФІЗИКО-ХІМІЧНИХ ПОКАЗНИКІВ ПРИРОДНОГО ГАЗУ  № 642"]
["Філія УМГ \"ХАРКІВТРАНСГАЗ\"",null,null,null,null,null,"переданого Пролетарським ВУПЗГ та прийнятого  ПАТ \"ДНІПРОПЕТРОВСЬКГАЗ\""]
["Пролетарське ВУПЗГ",null,null,null,null,null,"Маршрут № 642"]
["Вимірювальна хіміко-аналітична лабораторія"]
["Свідоцтво № ПЧ-07-0/1158-2014 чинно до 22.10.2017 р.",null,null,null,null,null,null,null,null,null,"по газопроводу  -відгалудженню Пролетарська СПЗГ-ШДКРІ",null,null,null,null,null,null,null,null,null,null,"за період з",null,"01.02.2017 р.",null," по","28.02.2017 р."]
[]
["Число місяця","Компонентний склад, мол. % ",null,null,null,null,null,null,null,null,null,null,null,"Фізико-хімічні показники газу обчислені на основі компонентного складу, 101,325 кПа",null,null,null,null,null,null,null,null,null,"Температура точки роси за вологою (Р = 3.92 МПа), °С","Температура точки роси за вуглеводнями, °С","Вміст сірководню, г/м3","Вміст меркаптанової сірки, г/м3","Вміст механічних домішок, г/м3"]
[null,null,null,null,null,null,null,null,null,null,null,null,null,"Густина абсолютна, кг/м3,при 20 °С, ","Температура вимірювання/згоряння при  20/25°С"]
[null,"метан, С1","етан, С2","пропан, С3","ізо-бутан, і-С4","н-бутан, н-С4","нео-пентан, нео-С5","ізо-пентан, і-С5","н-пентан, н-С5","гексани та вищі, С6+","кисень, О2","азот, N2","діоксид вуглецю, CО2",null,"Теплота згоряння нижча",null,null,"Теплота згоряння вища",null,null,"Число Воббе вище"]
[null,null,null,null,null,null,null,null,null,null,null,null,null,null," ккал/м³"," МДж/м³","кВт⋅год/м³"," ккал/м³"," МДж/м³","кВт⋅год/м³"," ккал/м³"," МДж/м³","кВт⋅год/м³",null,null,null,null,null,null,null,"  "]
[1,null,null,null,null,null,null,null,null,null,null,null,null,null,{"$f":"P11*238.8459","v":8262.1573728000003},34.591999999999999,{"$f":"P11/3.6","v":9.6088888888888881},{"$f":"S11*238.8459","v":9152.4076958699989},38.319299999999998,{"$f":"S11/3.6","v":10.64425},null,null,null,null,null,null,null,null,{"$f":"SUM(B11:M11)+$K$42+$N$42","v":0}]
[2,null,null,null,null,null,null,null,null,null,null,null,null,null,{"$f":"P12*238.8459","v":8262.1573728000003},34.591999999999999,9.6088888888888881,{"$f":"S12*238.8459","v":9152.4076958699989},38.319299999999998,10.64425,null,null,null,null,null,null,null,null,0]
[3,null,null,null,null,null,null,null,null,null,null,null,null,null,8262.1573728000003,34.591999999999999,9.6088888888888881,9152.4076958699989,38.319299999999998,10.64425,null,null,null,null,null,null,null,null,0,{"$f":"IF(AC13=100,\"ОК\",\" \")","v":" "}]
[4,null,null,null,null,null,null,null,null,null,null,null,null,null,8262.1573728000003,34.591999999999999,9.6088888888888881,9152.4076958699989,38.319299999999998,10.64425,null,null,null,null,null,null,null,null,0,{"$f":"IF(AC14=100,\"ОК\",\" \")","v":" "}]
[5,null,null,null,null,null,null,null,null,null,null,null,null,null,8262.1573728000003,34.591999999999999,9.6088888888888881,9152.4076958699989,38.319299999999998,10.64425,null,null,null,null,null,null,null,null,0," "]
[6,93.489199999999997,3.3336999999999999,0.96609999999999996,0.13539999999999999,0.17080000000000001,1.2999999999999999E-3,4.2099999999999999E-2,3.2800000000000003E-2,0.1147,4.8999999999999998E-3,1.4257,0.2833,0.72009999999999996,8286.6151929600001,34.694400000000002,9.6373333333333342,9178.4896681499995,38.4285,10.674583333333333,{"$f":"V16*238.8459","v":11870.641230000001},49.7,{"$f":"V16/3.6","v":13.805555555555555},null,null,null,null,null,100,"ОК"]
[7,93.527900000000002,3.3294999999999999,0.96250000000000002,0.13469999999999999,0.16930000000000001,4.0000000000000002E-4,4.1399999999999999E-2,3.1699999999999999E-2,0.10349999999999999,4.4000000000000003E-3,1.4133,0.28139999999999998,0.71950000000000003,8282.5786972500009,34.677500000000002,9.6326388888888896,9174.2143265400009,38.410600000000002,10.669611111111111,11869.924692300001,49.697000000000003,13.804722222222223,null,null,1E-4,2E-3,null,100.00000000000001,"ОК"]
[8,null,null,null,null,null,null,null,null,null,null,null,null,null,8282.5786972500009,34.677500000000002,9.6326388888888896,9174.2143265400009,38.410600000000002,10.669611111111111,null,null,null,null,null,null,null,null,0," "]
[9,null,null,null,null,null,null,null,null,null,null,null,null,null,8282.5786972500009,34.677500000000002,9.6326388888888896,9174.2143265400009,38.410600000000002,10.669611111111111,null,null,null,null,null,null,null,null,0," "]
[10,null,null,null,null,null,null,null,null,null,null,null,null,null,8282.5786972500009,34.677500000000002,{"$f":"P20/3.6","v":9.6326388888888896},9174.2143265400009,38.410600000000002,{"$f":"S20/3.6","v":10.669611111111111},null,null,null,null,null,null,null,null,0," "]
[11,null,null,null,null,null,null,null,null,null,null,null,null,null,8282.5786972500009,34.677500000000002,9.6326388888888896,9174.2143265400009,38.410600000000002,10.669611111111111,null,null,null,null,null,null,null,null,0," "]
[12,null,null,null,null,null,null,null,null,null,null,null,null,null,8282.5786972500009,34.677500000000002,9.6326388888888896,9174.2143265400009,38.410600000000002,10.669611111111111,null,null,null,null,null,null,null,null,0," "]
[13,93.417900000000003,3.3780000000000001,0.96360000000000001,0.1318,0.1651,3.7000000000000002E-3,4.0099999999999997E-2,2.9899999999999999E-2,8.7400000000000005E-2,4.4000000000000003E-3,1.4908999999999999,0.2873,0.71970000000000001,8272.8098999400008,34.636600000000001,9.6212777777777774,9163.4901456299995,38.365699999999997,10.657138888888888,11854.757977649999,49.633499999999998,13.787083333333332,null,null,null,null,null,100.00009999999999," "]
[14,93.470100000000002,3.3572000000000002,0.95899999999999996,0.1318,0.1656,2.5000000000000001E-3,4.1099999999999998E-2,3.09E-2,7.3099999999999998E-2,4.5999999999999999E-3,1.48,0.28420000000000001,0.71899999999999997,8267.93744358,34.616199999999999,9.6156111111111109,9158.2833050099998,38.343899999999998,10.651083333333332,11853.4443252,49.628,13.785555555555556,null,null,null,null,"відсутні",100.0001," "]
[15,93.442800000000005,3.335,0.95479999999999998,0.13289999999999999,0.1678,2E-3,4.2099999999999999E-2,3.2300000000000002E-2,0.1278,4.7999999999999996E-3,1.4733000000000001,0.2843,0.72050000000000003,8284.48946445,34.685499999999998,9.6348611111111104,9176.0534399700009,38.418300000000002,10.671750000000001,11864.07296775,49.672499999999999,13.797916666666666,-11.5,-2,null,null,null,99.999900000000011," "]
[16,null,null,null,null,null,null,null,null,null,null,null,null,null,8284.48946445,34.685499999999998,{"$f":"P26/3.6","v":9.6348611111111104},9176.0534399700009,38.418300000000002,{"$f":"S26/3.6","v":10.671750000000001},null,null,null,null,null,null,null,null,0," "]
[17,null,null,null,null,null,null,null,null,null,null,null,null,null,8284.48946445,34.685499999999998,9.6348611111111104,9176.0534399700009,38.418300000000002,10.671750000000001,null,null,null,null,null,null,null,null,0," "]
[18,null,null,null,null,null,null,null,null,null,null,null,null,null,8284.48946445,34.685499999999998,9.6348611111111104,9176.0534399700009,38.418300000000002,10.671750000000001,null,null,null,null,null,null,null,null,0," "]
[19,null,null,null,null,null,null,null,null,null,null,null,null,null,8284.48946445,34.685499999999998,9.6348611111111104,9176.0534399700009,38.418300000000002,10.671750000000001,null,null,null,null,null,null,null,null,0," "]
[20,93.551100000000005,3.2746,0.96960000000000002,0.1368,0.1726,5.9999999999999995E-4,4.2099999999999999E-2,3.27E-2,0.13139999999999999,6.8999999999999999E-3,1.4032,0.27839999999999998,0.72009999999999996,8290.9621883399996,34.712600000000002,9.64238888888889,9183.2188169700003,38.448300000000003,10.680083333333334,11876.20633947,49.723300000000002,13.812027777777779,null,null,null,null,null,100.00000000000003,{"$f":"IF(AC30=100,\"ОК\",\" \")","v":"ОК"}]
[21,93.578000000000003,3.2667000000000002,0.9637,0.1348,0.17080000000000001,1E-3,4.1000000000000002E-2,3.1699999999999999E-2,0.13300000000000001,5.4999999999999997E-3,1.3962000000000001,0.27760000000000001,0.71989999999999998,8289.8157280199994,34.707799999999999,9.641055555555555,9182.0007028799992,38.443199999999997,10.678666666666667,11876.540723730001,49.724699999999999,13.812416666666666,null,null,2.0000000000000001E-4,2E-3,null,100,"ОК"]
[22,93.656199999999998,3.2519,0.95389999999999997,0.13220000000000001,0.1663,5.0000000000000001E-4,3.8899999999999997E-2,2.9700000000000001E-2,9.4299999999999995E-2,5.7000000000000002E-3,1.3937999999999999,0.27639999999999998,0.71830000000000005,8273.5742068199997,34.639800000000001,9.6221666666666668,9164.6366059499996,38.3705,10.658472222222223,11867.201849040001,49.685600000000001,13.801555555555556,null,null,null,null,null,99.999800000000022," "]
[23,93.598500000000001,3.2675000000000001,0.96399999999999997,0.1353,0.17,6.9999999999999999E-4,4.0899999999999999E-2,3.1600000000000003E-2,0.11600000000000001,5.4000000000000003E-3,1.3915999999999999,0.27850000000000003,0.71940000000000004,8284.7521949399998,34.686599999999999,{"$f":"P33/3.6","v":9.6351666666666667},9176.6266701299992,38.420699999999997,{"$f":"S33/3.6","v":10.672416666666665},11873.865649650001,49.713500000000003,13.809305555555556,null,null,null,null,null,99.999999999999972,{"$f":"IF(AC33=100,\"ОК\",\" \")","v":"ОК"}]
[24,93.593299999999999,3.2679,0.96809999999999996,0.1358,0.17219999999999999,1.1000000000000001E-3,4.1799999999999997E-2,3.2500000000000001E-2,0.12139999999999999,5.3E-3,1.3823000000000001,0.2782,0.71970000000000001,8288.812575240001,34.703600000000002,9.6398888888888887,9180.9975501000008,38.439,10.6775,11877.37668438,49.728200000000001,13.813388888888889,null,null,null,null,null,99.999899999999997," "]
[25,null,null,null,null,null,null,null,null,null,null,null,null,null,8288.812575240001,34.703600000000002,9.6398888888888887,9180.9975501000008,38.439,10.6775,null,null,null,null,null,null,null,null,0," "]
[26,null,null,null,null,null,null,null,null,null,null,null,null,null,8288.812575240001,34.703600000000002,9.6398888888888887,9180.9975501000008,38.439,{"$f":"S36/3.6","v":10.6775},null,null,null,null,null,null,null,null,0," "]
[27,93.537700000000001,3.3052999999999999,0.98070000000000002,0.13830000000000001,0.17530000000000001,2E-3,4.2000000000000003E-2,3.2599999999999997E-2,9.69E-2,5.5999999999999999E-3,1.3976,0.28589999999999999,0.71960000000000002,8284.6566565800003,34.686199999999999,9.6350555555555548,9176.4594780000007,38.42,10.672222222222222,11871.97876704,49.705599999999997,13.80711111111111,-8.6999999999999993,-1.7,null,null,"відсутні",99.999900000000011," "]
[28,null,null,null,null,null,null,null,null,null,null,null,null,null,8284.6566565800003,34.686199999999999,9.6350555555555548,9176.4594780000007,38.42,10.672222222222222,null,null,null,null,null,null,null,null,0," "]
[29,null,null,null,null,null,null,null,null,null,null,null,null,null,null,null,null,null,null,null,null,null,null,null,null,null,null,null,0," "]
[30,null,null,null,null,null,null,null,null,null,null,null,null,null,null,null,null,null,null,null,null,null,null,null,null,null,null,null,0]
[31,null,null,null,null,null,null,null,null,null,null,null,null,null,null,null,null,null,null,null,null,null,null,null,null,null,null,null,0," "]
["Рівень одоризації відповідає чинним нормативним документам",null,null,null,null,null,null,null,null,null,null,null,null,null,{"$f":"SUMPRODUCT(O11:O41,' розрахунок'!D7:D37)/' розрахунок'!D38","v":8279.2241686252637},{"$f":"SUMPRODUCT(P11:P41,' розрахунок'!D7:D37)/' розрахунок'!D38","v":34.663455259752261},{"$f":"SUMPRODUCT(Q11:Q41,' розрахунок'!D7:D37)/' розрахунок'!D38","v":9.6287375721534083},{"$f":"SUMPRODUCT(R11:R41,' розрахунок'!D7:D37)/' розрахунок'!D38","v":9170.5967745163216},{"$f":"SUMPRODUCT(S11:S41,' розрахунок'!D7:D37)/' розрахунок'!D38","v":38.395454033401123},{"$f":"SUMPRODUCT(T11:T41,' розрахунок'!D7:D37)/' розрахунок'!D38","v":10.665403898166977}]
[null,null,null,null,null,null,null,"Середньозважене значення теплоти згоряння:"]
[]
[]
[null,"В.о.начальника управління  Пролетарського ВУПЗГ                                                                                                                                                                                         ",null,null,null,null,null,null,null,null,null,null,null,null,"Жебко В.В.",null,null,null,null,null,null,"01.03.2017 р."]
[null,null,"Підрозділу підприємства, якому підпорядкована лабораторія",null,null,null,null,null,null,null,null,null,null,null,"прізвище",null,null,"підпис",null,null,null,"дата"]
[null,"Завідувач лабораторії                                                                                                                                                                                                                                               ",null,null,null,null,null,null,null,null,null,null,null,null,"Рекунович В.В.",null,null,null,null,null,null,"01.03.2017 р."]
[null,null,"Лабораторія, де здійснювалось вимірювання газу",null,null,null,null,null,null,null,null,null,null,null,"прізвище",null,null,"підпис",null,null,null,"дата"]
[null,"Інженер з  метрології ІІ кат",null,null,null,null,null,null,null,null,null,null,null,null,"Поліщук О.С.",null,null,null,null,null,null,"01.03.2017 р."]
[null,null,"Підрозділу, відповідального за облік газу за маршрутом",null,null,null,null,null,null,null,null,null,null,null,"прізвище",null,null,"підпис",null,null,null,"дата"]

{"sheet":" розрахунок","index":1,"n_rows":42,"n_cols":4,"rows_kept":42,"cut":false,"hidden":true,"merged":[[3,3,5,3],[0,0,0,1],[3,0,5,0],[3,1,5,1],[1,0,1,3]]}
[]
["Додаток до Паспорту фізико-хімічних показників природного газу по маршруту № 642"]
[]
["Число місяця","Теплота згоряння вища, МДж/м3","Дніпропетровська область","Загальний обсяг газу, м3"]
[null,null,"Обсяг газу переданого за добу,  м3 "]
[null,null,"АГРС-1/3"]
[1,{"$f":"паспорт!S11","v":38.319299999999998},733,{"$f":"SUM(C7:C7)","v":733}]
[2,{"$f":"паспорт!S12","v":38.319299999999998},631,631]
[3,{"$f":"паспорт!S13","v":38.319299999999998},596,596]
[4,{"$f":"паспорт!S14","v":38.319299999999998},543,543]
[5,{"$f":"паспорт!S15","v":38.319299999999998},551,551]
[6,{"$f":"паспорт!S16","v":38.4285},611,611]
[7,{"$f":"паспорт!S17","v":38.410600000000002},830,830]
[8,{"$f":"паспорт!S18","v":38.410600000000002},854,854]
[9,{"$f":"паспорт!S19","v":38.410600000000002},763,763]
[10,{"$f":"паспорт!S20","v":38.410600000000002},734,734]
[11,{"$f":"паспорт!S21","v":38.410600000000002},655,655]
[12,{"$f":"паспорт!S22","v":38.410600000000002},618,618]
[13,{"$f":"паспорт!S23","v":38.365699999999997},593,593]
[14,{"$f":"паспорт!S24","v":38.343899999999998},597,597]
[15,{"$f":"паспорт!S25","v":38.418300000000002},490,490]
[16,{"$f":"паспорт!S26","v":38.418300000000002},530,530]
[17,{"$f":"паспорт!S27","v":38.418300000000002},575,575]
[18,{"$f":"паспорт!S28","v":38.418300000000002},513,513]
[19,{"$f":"паспорт!S29","v":38.418300000000002},491,491]
[20,{"$f":"паспорт!S30","v":38.448300000000003},488,488]
[21,{"$f":"паспорт!S31","v":38.443199999999997},507,507]
[22,{"$f":"паспорт!S32","v":38.3705},491,491]
[23,{"$f":"паспорт!S33","v":38.420699999999997},503,503]
[24,{"$f":"паспорт!S34","v":38.439},458,458]
[25,{"$f":"паспорт!S35","v":38.439},443,443]
[26,{"$f":"паспорт!S36","v":38.439},485,485]
[27,{"$f":"паспорт!S37","v":38.42},480,480]
[28,{"$f":"паспорт!S38","v":38.42},464,464]
[29,null,null,0]
[30,null,null,0]
[31,null,null,0]
["Загальний обсяг газу, м3",null,{"$f":"SUM(C7:C37)","v":16227},{"$f":"SUM(D7:D37)","v":16227}]
["Енергія, МДж",null,{"$f":"SUMPRODUCT(B7:B37,C7:C37)","v":623043.03260000004},{"$f":"SUMPRODUCT(B7:B37,D7:D37)","v":623043.03260000004}]
["Теплота згоряння (середньозважене значення за місяць), МДж/м³",null,{"$f":"C39/C38","v":38.395454033401123},38.395454033401123]
["Теплота згоряння (середньозважене значення за місяць), ккал/м³",null,{"$f":"C40*238.8459","v":9170.5967745163216},9170.5967745163216]
["Теплота згоряння (середньозважене значення за місяць), кВт*год./м³",null,{"$f":"C40/3.6","v":10.665403898166979},10.665403898166979]

{"sheet":"додаток","index":2,"n_rows":15,"n_cols":7,"rows_kept":15,"cut":false,"hidden":false,"merged":[[5,1,5,2],[2,3,2,5],[2,2,3,2],[2,1,3,1]]}
[null,"Додаток до Паспорту фізико-хімічних показників природного газу № 642"]
[]
[null,"Область","ГРС, прямий споживач","Cередньозважене значення вищої теплоти згоряння"]
[null,null,null," МДж/м³","ккал/м³","кВт*год./м³"]
[null,"Дніпропетровська область","АГРС-1/3",38.4,9171,10.67]
[null,"Середньозважене значення вищої теплоти згоряння по маршруту № 642",null,38.4,9171,10.67]
[]
[]
[]
[null,"В.о.начальника управління Пролетарського ВУПЗГ                                                                                                              ",null,null,"Жебко В.В.",null,"01.03.2017 р"]
[null,"Підрозділу підприємства, якому підпорядкована лабораторія",null,null,"прізвище","підпис","дата"]
[null,"Завідувач лабораторії                                                                                                                                                                  ",null,null,"Рекунович В.В.",null,"01.03.2017 р."]
[null,"Лабораторія, де здійснювалось вимірювання газу",null,null,"прізвище","підпис","дата"]
[null,"Інженер з метрології ІІ кат",null,null,"Поліщук О.С.",null,"01.03.2017 р."]
[null,"Підрозділу, відповідального за облік газу за маршрутом",null,null,"прізвище","підпис","дата"]

{"sheet":"variablesList","index":3,"n_rows":3,"n_cols":4,"rows_kept":3,"cut":false,"hidden":true,"merged":[]}
[3,"x:\\gaysin","10, 11, 24, 25, 127, 128, 132, 180, 207, 215","x:\\"]
[null,"x:\\Illinci"]
[null,"x:\\Talne"]