{"text_format":"1","workbook":"xlsx","n_sheets":4,"sheets":["паспорт"," розрахунок","додаток","variablesList"],"not_rendered":{"charts":0,"images":0,"macros":1,"external_links":0,"defined_names":3,"comments":0,"pivot_tables":0},"unopened":[],"bounds":{"document_bytes":16777216,"sheet_cells":100000,"rows_first":2000,"rows_last":500,"rows_between":2000,"halvings":0,"cell_chars":16384,"cell_head_chars":4096},"cells_cut":0,"cells_raw":0,"read":"whole","date_system":"1900"}

{"sheet":"паспорт","index":0,"n_rows":51,"n_cols":31,"rows_kept":51,"cut":false,"hidden":false,"merged":[[0,6,0,24],[1,6,1,24],[0,25,0,27],[4,23,4,24],[8,12,9,12],[4,21,4,22],[8,14,8,16],[8,17,8,19],[8,20,8,22],[7,14,7,22],[2,6,2,24],[4,26,4,27],[8,7,9,7],[6,1,7,12],[7,13,9,13],[6,13,6,22],[47,1,47,26],[43,20,43,27],[42,20,42,27],[41,20,41,27],[6,27,9,27],[8,8,9,8],[6,26,9,26],[6,24,9,24],[6,23,9,23],[8,1,9,1],[8,2,9,2],[8,5,9,5],[8,6,9,6],[8,4,9,4],[6,0,9,0],[49,1,49,26],[8,11,9,11],[41,18,42,18],[41,19,42,19],[41,14,42,14],[42,7,42,13],[41,15,42,15],[41,16,42,16],[41,17,42,17],[8,9,9,9],[8,10,9,10],[6,25,9,25],[45,1,45,26],[41,0,41,13],[8,3,9,3]]}
["ПАТ \"УКРТРАНСГАЗ\"",null,null,null,null,null,"ПАСПОРТ ФІЗИКО-ХІМІЧНИХ ПОКАЗНИКІВ ПРИРОДНОГО ГАЗУ  № 192"]
["Філія \"УМГ \"Київтрансгаз\"",null,null,null,null,null,"переданого Мринським ВУПЗГ та прийнятого  РВУ \"Київавтогаз\", ПАТ \"Чернігівгаз\""]
["Мринське ВУПЗГ",null,null,null,null,null,"Маршрут № 192"]
["Вимірювальна хіміко-аналітична лабораторія"]
["Свідоцтво № 98/20 чинно до 05.11.2020 р.",null,null,null,null,null,null,null,null,null,"по газопроводу  \"Київ-Брянськ\"",null,null,null,null,null,null,null,null,null,null,"за період з",null,"2017-05-01",null," по","2017-05-31"]
[]
["Число місяця","Компонентний склад, % мол. ",null,null,null,null,null,null,null,null,null,null,null,"Фізико-хімічні показники газу обчислені на основі компонентного складу, 101,325 кПа",null,null,null,null,null,null,null,null,null,"Температура точки роси за вологою (Р = 3.92 МПа), °С","Температура точки роси за вуглеводнями, °С","Вміст сірководню, г/м3","Вміст меркаптанової сірки, г/м3","Вміст механічних домішок, г/м3"]
[null,null,null,null,null,null,null,null,null,null,null,null,null,"Густина абсолютна, кг/м3,при 20 °С, ","Температура вимірювання/згоряння при  20/25°С"]
[null,"метан, С1","етан, С2","пропан, С3","ізо-бутан, і-С4","н-бутан, н-С4","нео-пентан, нео-С5","ізо-пентан, і-С5","н-пентан, н-С5","гексани та вищі, С6+","кисень, О2","азот, N2","діоксид вуглецю, CО2",null,"Теплота згоряння нижча",null,null,"Теплота згоряння вища",null,null,"Число Воббе вище"]
[null,null,null,null,null,null,null,null,null,null,null,null,null,null," ккал/м³"," МДж/м³","кВт⋅год/м³"," ккал/м³"," МДж/м³","кВт⋅год/м³"," ккал/м³"," МДж/м³","кВт⋅год/м³",null,null,null,null,null,null,null,"  "]
[1,null,null,null,null,null,null,null,null,null,null,null,null,null,{"$f":"P11/0.0041868","v":8252.1257284799831},34.549999999999997,{"$f":"P11/3.6","v":9.5972222222222214},{"$f":"S11/0.0041868","v":9135.8555460017196},38.25,{"$f":"S11/3.6","v":10.625},null,null,null,null,null,null,null,null,{"$f":"SUM(B11:M11)+$K$42+$N$42","v":0}]
[2,null,null,null,null,null,null,null,null,null,null,null,null,null,{"$f":"P12/0.0041868","v":8252.1257284799831},34.549999999999997,{"$f":"P12/3.6","v":9.5972222222222214},{"$f":"S12/0.0041868","v":9135.8555460017196},38.25,{"$f":"S12/3.6","v":10.625},null,null,null,null,null,null,null,null,0]
[3,89.357299999999995,5.4904999999999999,1.1123000000000001,0.11799999999999999,0.18190000000000001,1.1299999999999999E-2,4.9299999999999997E-2,4.0599999999999997E-2,2.93E-2,4.3E-3,1.8185,1.7867,0.75190000000000001,8266.4564822776338,34.61,{"$f":"P13/3.6","v":9.6138888888888889},9150.1862997993703,38.31,{"$f":"S13/3.6","v":10.641666666666667},{"$f":"V13/0.0041868","v":11581.637527467279},48.49,{"$f":"V13/3.6","v":13.469444444444445},-9.6,-10.7,null,null,null,100,{"$f":"IF(AC13=100,\"ОК\",\" \")","v":"ОК"}]
[4,null,null,null,null,null,null,null,null,null,null,null,null,null,8266.4564822776338,34.61,9.6138888888888889,9150.1862997993703,38.31,10.641666666666667,null,null,null,null,null,null,null,0,0,{"$f":"IF(AC14=100,\"ОК\",\" \")","v":" "}]
[5,null,null,null,null,null,null,null,null,null,null,null,null,null,8266.4564822776338,34.61,9.6138888888888889,9150.1862997993703,38.31,10.641666666666667,null,null,null,null,null,null,null,null,0," "]
[6,null,null,null,null,null,null,null,null,null,null,null,null,null,8266.4564822776338,34.61,9.6138888888888889,9150.1862997993703,38.31,10.641666666666667,null,null,null,null,null,null,null,null,0," "]
[7,null,null,null,null,null,null,null,null,null,null,null,null,null,{"$f":"P17/0.0041868","v":8266.4564822776338},34.61,{"$f":"P17/3.6","v":9.6138888888888889},{"$f":"S17/0.0041868","v":9150.1862997993703},38.31,{"$f":"S17/3.6","v":10.641666666666667},null,null,null,null,null,null,null,null,0," "]
[8,null,null,null,null,null,null,null,null,null,null,null,null,null,{"$f":"P18/0.0041868","v":8266.4564822776338},34.61,9.6138888888888889,{"$f":"S18/0.0041868","v":9150.1862997993703},38.31,{"$f":"S18/3.6","v":10.641666666666667},null,null,null,null,null,null,null,null,0," "]
[9,null,null,null,null,null,null,null,null,null,null,null,null,null,8266.4564822776338,34.61,9.6138888888888889,9150.1862997993703,38.31,10.641666666666667,null,null,null,null,null,null,null,null,0," "]
[10,89.330799999999996,5.5757000000000003,1.1108,0.1176,0.183,8.3999999999999995E-3,5.1499999999999997E-2,4.2599999999999999E-2,4.87E-2,5.3E-3,1.7504,1.7751999999999999,0.75260000000000005,8283.1756950415584,34.68,{"$f":"P20/3.6","v":9.6333333333333329},9169.2939715295688,38.39,10.66388888888889,{"$f":"V20/0.0041868","v":11600.745199197478},48.57,{"$f":"V20/3.6","v":13.491666666666667},-11.1,-12.2,null,null,null,99.999999999999986,"ОК"]
[11,null,null,null,null,null,null,null,null,null,null,null,null,null,8283.1756950415584,34.68,{"$f":"P21/3.6","v":9.6333333333333329},9169.2939715295688,38.39,10.66388888888889,null,null,null,null,null,null,null,null,0," "]
[12,null,null,null,null,null,null,null,null,null,null,null,null,null,8283.1756950415584,34.68,9.6333333333333329,9169.2939715295688,38.39,10.66388888888889,null,null,null,null,null,null,null,null,0," "]
[13,null,null,null,null,null,null,null,null,null,null,null,null,null,{"$f":"P23/0.0041868","v":8283.1756950415584},34.68,{"$f":"P23/3.6","v":9.6333333333333329},{"$f":"S23/0.0041868","v":9169.2939715295688},38.39,{"$f":"S23/3.6","v":10.66388888888889},null,null,null,null,null,null,null,null,0," "]
[14,null,null,null,null,null,null,null,null,null,null,null,null,null,{"$f":"P24/0.0041868","v":8283.1756950415584},34.68,9.6333333333333329,{"$f":"S24/0.0041868","v":9169.2939715295688},38.39,{"$f":"S24/3.6","v":10.66388888888889},null,null,null,null,null,null,null,null,0," "]
[15,null,null,null,null,null,null,null,null,null,null,null,null,null,8283.1756950415584,34.68,9.6333333333333329,9169.2939715295688,38.39,10.66388888888889,null,null,null,null,null,null,null,null,0," "]
[16,89.163499999999999,5.6955,1.0859000000000001,0.1171,0.1807,6.3E-3,5.0799999999999998E-2,4.1200000000000001E-2,5.33E-2,4.7999999999999996E-3,1.7906,1.8103,0.75360000000000005,8283.1756950415584,34.68,9.68888888888889,9169.2939715295688,38.39,10.66388888888889,{"$f":"V26/0.0041868","v":11591.191363332378},48.53,{"$f":"V26/3.6","v":13.480555555555556},-14.1,-15.1,null,null,null,99.999999999999972,"ОК"]
[17,null,null,null,null,null,null,null,null,null,null,null,null,null,8283.1756950415584,34.68,9.68888888888889,9169.2939715295688,38.39,10.66388888888889,null,null,null,null,null,null,null,null,0," "]
[18,null,null,null,null,null,null,null,null,null,null,null,null,null,8283.1756950415584,34.68,9.68888888888889,9169.2939715295688,38.39,10.66388888888889,null,null,null,null,null,null,null,null,0," "]
[19,null,null,null,null,null,null,null,null,null,null,null,null,null,8283.1756950415584,34.68,9.68888888888889,9169.2939715295688,38.39,10.66388888888889,null,null,null,null,null,null,null,null,0," "]
[20,null,null,null,null,null,null,null,null,null,null,null,null,null,8283.1756950415584,34.68,9.68888888888889,9169.2939715295688,38.39,10.66388888888889,null,null,null,null,null,null,null,null,0,{"$f":"IF(AC30=100,\"ОК\",\" \")","v":" "}]
[21,null,null,null,null,null,null,null,null,null,null,null,null,null,{"$f":"P31/0.0041868","v":8283.1756950415584},34.68,{"$f":"P31/3.6","v":9.6333333333333329},{"$f":"S31/0.0041868","v":9169.2939715295688},38.39,{"$f":"S31/3.6","v":10.66388888888889},null,null,null,null,null,null,null,null,0," "]
[22,null,null,null,null,null,null,null,null,null,null,null,null,null,{"$f":"P32/0.0041868","v":8283.1756950415584},34.68,{"$f":"P32/3.6","v":9.6333333333333329},{"$f":"S32/0.0041868","v":9169.2939715295688},38.39,{"$f":"S32/3.6","v":10.66388888888889},null,null,null,null,null,null,null,null,0," "]
[23,null,null,null,null,null,null,null,null,null,null,null,null,null,8283.1756950415584,34.68,9.6333333333333329,9169.2939715295688,38.39,10.66388888888889,null,null,null,null,null,null,null,null,0,{"$f":"IF(AC33=100,\"ОК\",\" \")","v":" "}]
[24,null,null,null,null,null,null,null,null,null,null,null,null,null,8283.1756950415584,34.68,9.6333333333333329,9169.2939715295688,38.39,10.66388888888889,null,null,null,null,null,2.2000000000000001E-3,1.8E-3,null,0," "]
[25,89.251900000000006,5.6365999999999996,1.0676000000000001,0.1166,0.18010000000000001,6.6E-3,5.0299999999999997E-2,4.07E-2,7.3899999999999993E-2,9.9000000000000008E-3,1.7784,1.7874000000000001,0.75329999999999997,8285.5641540078341,34.69,9.6361111111111111,9171.6824304958427,38.4,10.666666666666666,{"$f":"V35/0.0041868","v":11598.356740231204},48.56,{"$f":"V35/3.6","v":13.488888888888889},-9,-10.6,null,null,null,100.00000000000001,"ОК"]
[26,null,null,null,null,null,null,null,null,null,null,null,null,null,{"$f":"P36/0.0041868","v":8285.5641540078341},34.69,{"$f":"P36/3.6","v":9.6361111111111111},{"$f":"S36/0.0041868","v":9171.6824304958427},38.4,{"$f":"S36/3.6","v":10.666666666666666},null,null,null,null,null,null,null,null,0," "]
[27,null,null,null,null,null,null,null,null,null,null,null,null,null,{"$f":"P37/0.0041868","v":8285.5641540078341},34.69,{"$f":"P37/3.6","v":9.6361111111111111},{"$f":"S37/0.0041868","v":9171.6824304958427},38.4,{"$f":"S37/3.6","v":10.666666666666666},null,null,null,null,null,null,null,null,0," "]
[28,null,null,null,null,null,null,null,null,null,null,null,null,null,8285.5641540078341,34.69,9.6361111111111111,9171.6824304958427,38.4,10.666666666666666,null,null,null,null,null,null,null,null,0," "]
[29,null,null,null,null,null,null,null,null,null,null,null,null,null,8285.5641540078341,34.69,9.6361111111111111,9171.6824304958427,38.4,10.666666666666666,null,null,null,null,null,null,null,null,0," "]
[30,null,null,null,null,null,null,null,null,null,null,null,null,null,{"$f":"P40/0.0041868","v":8285.5641540078341},34.69,{"$f":"P40/3.6","v":9.6361111111111111},{"$f":"S40/0.0041868","v":9171.6824304958427},38.4,{"$f":"S40/3.6","v":10.666666666666666},null,null,null,null,null,null,null,null,0]
[31,88.830100000000002,5.665,1.3483000000000001,0.14710000000000001,0.24929999999999999,6.4999999999999997E-3,6.9800000000000001E-2,6.2199999999999998E-2,8.4900000000000003E-2,1.0500000000000001E-2,1.7355,1.7907999999999999,0.75960000000000005,{"$f":"P41/0.0041868","v":8357.2179229960839},34.99,{"$f":"P41/3.6","v":9.719444444444445},{"$f":"S41/0.0041868","v":9248.1131174166421},38.72,{"$f":"S41/3.6","v":10.755555555555555},{"$f":"V41/0.0041868","v":11646.125919556702},48.76,{"$f":"V41/3.6","v":13.544444444444444},-8.6999999999999993,-10.199999999999999,null,null,null,100.00000000000001,"ОК"]
["Вміст одоранта при одоризації становить 16 г на 1 000 м³ газу",null,null,null,null,null,null,null,null,null,null,null,null,null,{"$f":"SUMPRODUCT(O11:O41,' розрахунок'!F7:F37)/' розрахунок'!F38","v":8279.6115173462749},{"$f":"SUMPRODUCT(P11:P41,' розрахунок'!F7:F37)/' розрахунок'!F38","v":34.665077500825383},{"$f":"SUMPRODUCT(Q11:Q41,' розрахунок'!F7:F37)/' розрахунок'!F38","v":9.6377181343465441},{"$f":"SUMPRODUCT(R11:R41,' розрахунок'!F7:F37)/' розрахунок'!F38","v":9165.1958382546272},{"$f":"SUMPRODUCT(S11:S41,' розрахунок'!F7:F37)/' розрахунок'!F38","v":38.372841935604477},{"$f":"SUMPRODUCT(T11:T41,' розрахунок'!F7:F37)/' розрахунок'!F38","v":10.659122759890128}]
[null,null,null,null,null,null,null,"Середньозважене значення теплоти згоряння:"]
[]
[]
[null," Начальник  Мринського ВУПЗГ                                                                                                                        Гладких В.М.                                                          01.06.2017р.                                                                        "]
[null,null,"Підрозділу підприємства, якому підпорядкована лабораторія",null,null,null,null,null,null,null,null,null,null,null,"прізвище",null,null,"підпис",null,null,null,"дата"]
[null,"Завідувач ВХАЛ                                                                                                                                                      Блуд Т.В.                                                            01.06.2017р.                                                                                                   "]
[null,null,"Лабораторія, де здійснювалось вимірювання газу",null,null,null,null,null,null,null,null,null,null,null,"прізвище",null,null,"підпис",null,null,null,"дата"]
[null,"Начальник служби ГВ та М                                                                                                                                     Шкура Ю. Г.                                                       01.06.2017р."]
[null,null,"Підрозділу, відповідального за облік газу за маршрутом",null,null,null,null,null,null,null,null,null,null,null,"прізвище",null,null,"підпис",null,null,null,"дата"]

{"sheet":" розрахунок","index":1,"n_rows":42,"n_cols":14,"rows_kept":42,"cut":false,"hidden":false,"merged":[[3,5,5,5],[0,0,0,1],[3,0,5,0],[3,1,5,1],[3,2,3,4],[4,2,4,4],[1,0,1,5]]}
[]
["Додаток до Паспорту фізико-хімічних показників природного газу по маршруту № 192"]
[]
["Число місяця","Теплота згоряння вища, МДж/м3","Чернігівська область",null,null,"Загальний обсяг газу, м3"]
[null,null,"Обсяг газу переданого за добу,  м3 "]
[null,null,"ГРС Носівка","ГРС Лихачів","ГРС Мрин",null,null,null,"Данные по объекту Ду 150 нитка 1 (осн.) за 5/17."]
[1,38.25,12470.25,1137.25,390.36,{"$f":"SUM(C7:E7)","v":13997.86},null,null,"День"," V, м3"," dP, кгс/м2"," Pабс, кгс/см2"," T, °C","ABC"]
[2,38.25,13388.97,1176.47,446.27,{"$f":"SUM(C8:E8)","v":15011.71},null,null,1,390.36,3.78,3.4,15.02]
[3,38.31,13127.71,1062.06,395.79,14585.56,null,null,2,446.27,3.9220000000000002,3.37,13.53]
[4,38.31,11798.93,994.48,979.16,13772.57,null,null,3,395.79,3.7610000000000001,3.42,15.88," B"]
[5,38.31,12416.34,962.96,898.99,14278.289999999999,null,null,4,979.16,2.7909999999999999,3.46,17.079999999999998," B"]
[6,38.31,11824.89,979.51,1068.9100000000001,13873.31,null,null,5,898.99,123.77800000000001,3.28,16.18," B"]
[7,38.31,10694.24,808.14,1015.36,12517.74,null,null,6,1068.9100000000001,149.29400000000001,3.56,19.04]
[8,38.31,10541.41,909.02,1201.76,12652.19,null,null,7,1015.36,132.059,3.61,20.8]
[9,38.31,18814.759999999998,1331.56,1761.33,21907.65,null,null,8,1201.76,125.26900000000001,3.32,14.86]
[10,38.39,31114.59,2122.11,2491.83,35728.53,null,null,9,1761.33,205.874,3.19,9.1999999999999993]
[11,38.39,28190.55,1976.6,2439.81,32606.959999999999,null,null,10,2491.83,380.79300000000001,3.17,7.06," B"]
[12,38.39,28220.79,1776.37,2373.1999999999998,32370.36,null,null,11,2439.81,386.73099999999999,3.31,11.46," B"]
[13,38.39,32853.19,2352.1799999999998,2829.3,38034.670000000006,null,null,12,2373.1999999999998,358.95400000000001,3.31,11.56]
[14,38.39,23578.06,1524.04,2070.6999999999998,27172.800000000003,null,null,13,2829.3,500.98500000000001,3.29,10.220000000000001," B"]
[15,38.39,14673.17,1001.12,1257.21,16931.5,null,null,14,2070.6999999999998,304.79599999999999,3.36,13.48]
[16,38.39,14082.05,989.91,1280.5,16352.46,null,null,15,1257.21,183.86799999999999,3.47,16.239999999999998]
[17,38.39,14725.41,1107.46,1418.97,17251.84,null,null,16,1280.5,169.797,3.4,15.98," B"]
[18,38.39,14149.12,1067.3399999999999,1276.74,16493.2,null,null,17,1418.97,151.934,3.34,13.95," B"]
[19,38.39,12493.76,1010.98,1147.99,14652.73,null,null,18,1276.74,161.93100000000001,3.43,15.77]
[20,38.39,12284.51,968.98,1186.45,14439.94,null,null,19,1147.99,164.922,3.49,18.079999999999998," B"]
[21,38.39,12203.76,978.24,1242.17,14424.17,null,null,20,1186.45,132.23699999999999,3.48,16.87]
[22,38.39,10437.5,735.04,947.61,12120.150000000001,null,null,21,1242.17,140.779,3.45,17.18]
[23,38.39,9432.5300000000007,596.94000000000005,911.79,10941.260000000002,null,null,22,947.61,124.298,3.58,16.850000000000001," B"]
[24,38.39,8908.83,640.32000000000005,925.89,10475.039999999999,null,null,23,911.79,128.673,3.6,20.37," B"]
[25,38.4,8219.09,654.49,932.16,9805.74,null,null,24,925.89,104.053,3.51,18.37," B"]
[26,38.4,10375.92,865.95,1123.3,12365.17,null,null,25,932.16,120.345,3.55,19.77," B"]
[27,38.4,10273.42,798.74,1040.26,12112.42,null,null,26,1123.3,104.702,3.4,14.62," B"]
[28,38.4,9452.4500000000007,712.81,1004.9,11170.16,null,null,27,1040.26,122.229,3.48,17.63]
[29,38.4,8536.31,560.44000000000005,812.1,9908.85,null,null,28,1004.9,131.12,3.61,19.63]
[30,38.4,7812.44,542.58000000000004,809.27,9164.2900000000009,null,null,29,812.1,115.84,3.74,24.05," B"]
[31,38.72,7341.54,521.23,784.23,8647,null,null,30,809.27,101.842,3.64,23.36," B"]
["Загальний обсяг газу, м3",null,{"$f":"SUM(C7:C37)","v":444436.49},{"$f":"SUM(D7:D37)","v":32865.320000000007},38464.310000000012,{"$f":"SUM(F7:F37)","v":515766.11999999988},null,null,31,784.23,89.024000000000001,3.61,25.02," B"]
["Енергія, МДж",null,{"$f":"SUMPRODUCT(B7:B37,C7:C37)","v":17054128.502400003},{"$f":"SUMPRODUCT(B7:B37,D7:D37)","v":1261025.2515999998},{"$f":"SUMPRODUCT(B7:B37,E7:E37)","v":1476258.0444999996},{"$f":"SUMPRODUCT(B7:B37,F7:F37)","v":19791411.798500005},null,null,"Итого",37764.31,182.07900000000001,3.45,16.579999999999998," B"]
["Теплота згоряння (середньозважене значення за місяць), МДж/м³",null,{"$f":"C39/C38","v":38.37247590178746},{"$f":"D39/D38","v":38.369480400616808},{"$f":"E39/E38","v":38.379943498271494},{"$f":"F39/F38","v":38.372841935604477}]
["Теплота згоряння (середньозважене значення за місяць), ккал/м³",null,{"$f":"C40*238.8459","v":9165.1085419907376},{"$f":"D40*238.8459","v":9164.3930788176822},9166.8921467938035,9165.1959676671941]
["Теплота згоряння (середньозважене значення за місяць), кВт*год./м³",null,{"$f":"C40/3.6","v":10.659021083829851},{"$f":"D40/3.6","v":10.658189000171335},10.661095416186527,10.659122759890133]

{"sheet":"додаток","index":2,"n_rows":18,"n_cols":6,"rows_kept":18,"cut":false,"hidden":false,"merged":[[0,0,0,1],[8,0,8,1],[3,2,3,4],[3,1,4,1],[3,0,4,0],[5,0,7,0]]}
[]
["Додаток до Паспорту фізико-хімічних показників природного газу № 192"]
[]
["Область","ГРС, прямий споживач","Cередньозважене значення вищої теплоти згоряння"]
[null,null," МДж/м³","ккал/м³","кВт*год./м³"]
["Чернігівська область","ГРС Носівка",{"$f":"' розрахунок'!C40","v":38.37247590178746},{"$f":"' розрахунок'!C41","v":9165.1085419907376},{"$f":"' розрахунок'!C42","v":10.659021083829851}]
[null,"ГРС Лихачів",{"$f":"' розрахунок'!D40","v":38.369480400616808},{"$f":"' розрахунок'!D41","v":9164.3930788176822},{"$f":"' розрахунок'!D42","v":10.658189000171335}]
[null,"ГРС Мрин",{"$f":"' розрахунок'!E40","v":38.379943498271494},{"$f":"' розрахунок'!E41","v":9166.8921467938035},{"$f":"' розрахунок'!E42","v":10.661095416186527}]
["Середньозважене значення вищої теплоти згоряння по маршруту № 192",null,{"$f":"' розрахунок'!F40","v":38.372841935604477},{"$f":"' розрахунок'!F41","v":9165.1959676671941},{"$f":"' розрахунок'!F42","v":10.659122759890133}]
[]
[]
[]
["Начальник  Мринського ВУПЗГ                                                                         Гладких В.М.                                                                                       ",null,null,null,null,"01.06.2017р."]
["Підрозділу підприємства, якому підпорядкована лабораторія",null,null,"прізвище","підпис","дата"]
["Завідувач ВХАЛ                                                                                                        Блуд Т.В.                                                                                                       ",null,null,null,null,"01.06.2017р."]
["Лабораторія, де здійснювалось вимірювання газу",null,null,"прізвище","підпис","дата"]
["Начальник служби ГВ та М                                                                                    Шкура Ю.Г.",null,null,null,null,"01.06.2017р."]
["Підрозділу, відповідального за облік газу за маршрутом",null,null,"прізвище","підпис","дата"]

{"sheet":"variablesList","index":3,"n_rows":3,"n_cols":4,"rows_kept":3,"cut":false,"hidden":true,"merged":[]}
[3,"x:\\gaysin","10, 11, 24, 25, 127, 128, 132, 180, 207, 215","x:\\"]
[null,"x:\\Illinci"]
[null,"x:\\Talne"]