{"text_format":"1","workbook":"xlsx","n_sheets":4,"sheets":["паспорт"," розрахунок","додаток","variablesList"],"not_rendered":{"charts":0,"images":0,"macros":1,"external_links":0,"defined_names":4,"comments":0,"pivot_tables":0},"unopened":[],"bounds":{"document_bytes":16777216,"sheet_cells":100000,"rows_first":2000,"rows_last":500,"rows_between":2000,"halvings":0,"cell_chars":16384,"cell_head_chars":4096},"cells_cut":0,"cells_raw":0,"read":"whole","date_system":"1900"}

{"sheet":"паспорт","index":0,"n_rows":51,"n_cols":31,"rows_kept":51,"cut":false,"hidden":false,"merged":[[0,6,0,24],[1,6,1,24],[0,25,0,27],[4,23,4,24],[8,12,9,12],[4,21,4,22],[8,14,8,16],[8,17,8,19],[8,20,8,22],[7,14,7,22],[2,6,2,24],[4,26,4,27],[8,7,9,7],[6,1,7,12],[7,13,9,13],[6,13,6,22],[6,25,9,25],[41,0,41,13],[8,3,9,3],[43,20,43,27],[42,20,42,27],[41,20,41,27],[6,27,9,27],[8,8,9,8],[6,26,9,26],[6,24,9,24],[6,23,9,23],[8,1,9,1],[8,2,9,2],[8,5,9,5],[8,6,9,6],[8,4,9,4],[6,0,9,0],[8,11,9,11],[41,18,42,18],[41,19,42,19],[41,14,42,14],[42,7,42,13],[41,15,42,15],[41,16,42,16],[41,17,42,17],[8,9,9,9],[8,10,9,10]]}
["ПАТ \"УКРТРАНСГАЗ\"",null,null,null,null,null,"ПАСПОРТ ФІЗИКО-ХІМІЧНИХ ПОКАЗНИКІВ ПРИРОДНОГО ГАЗУ  № 135"]
["Філія \"УМГ \"КИЇВТРАНСГАЗ\"",null,null,null,null,null,"переданого Диканським ЛВУМГ та прийнятого  ПАТ \"Харківгаз\", ПАТ \"Полтавагаз\""]
["Решетилівський п/м Диканське ЛВУМГ",null,null,null,null,null,"Маршрут № 135"]
["Вимірювальна хіміко-аналітична лабораторія",null,null,null,null,null,null,null,null,null,"Газопровід - підвід УКПГ -2"]
["Свідоцтво № 123/15 чинно до 31.12.2018 р.",null,null,null,null,null,null,null,null,null,"по газопроводу  \"ШЕБЕЛИНКА-ДИКАНЬКА-КИЇВ\"",null,null,null,null,null,null,null,null,null,null,"за період   з",null,"2017-05-01",null," по","2017-05-31"]
[]
["Число місяця","Компонентний склад, % мол. ",null,null,null,null,null,null,null,null,null,null,null,"Фізико-хімічні показники газу обчислені на основі компонентного складу, 101,325 кПа",null,null,null,null,null,null,null,null,null,"Температура точки роси за вологою (Р = 3.92 МПа), ºС","Температура точки роси за вуглеводнями, ºС","Вміст сірководню, г/м3","Вміст меркаптанової сірки, г/м3","Вміст механічних домішок, г/м3"]
[null,null,null,null,null,null,null,null,null,null,null,null,null,"Густина абсолютна, кг/м3,при 20 ºС, ","Температура вимірювання/згоряння при  20/25°С"]
[null,"метан, С1","етан, С2","пропан, С3","ізо-бутан, і-С4","н-бутан, н-С4","нео-пентан, нео-С5","ізо-пентан, і-С5","н-пентан, н-С5","гексани та вищі, С6+","кисень, О2","азот, N2","діоксид вуглецю, CО2",null,"Теплота згоряння нижча",null,null,"Теплота згоряння вища",null,null,"Число Воббе вище"]
[null,null,null,null,null,null,null,null,null,null,null,null,null,null," ккал/м3"," МДж/м3","кВт⋅год/м3"," ккал/м3"," МДж/м3","кВт⋅год/м3"," ккал/м3"," МДж/м3","кВт⋅год/м3",null,null,null,null,null,null,null,"  "]
[1,null,null,null,null,null,null,null,null,null,null,null,null,null,8309,34.79,9.6638888888888879,9205.1209859999999,38.54,10.705555555555556,null,null,null,null,null,null,null,null,{"$f":"SUM(B11:M11)+$K$42+$N$42","v":0}]
[2,null,null,null,null,null,null,null,null,null,null,null,null,null,8309,34.79,9.6638888888888879,9205.1209859999999,38.54,10.705555555555556,null,null,null,null,null,null,null,null,0]
[3,null,null,null,null,null,null,null,null,null,null,null,null,null,8309,34.79,9.6638888888888879,9205.1209859999999,38.54,10.705555555555556,null,null,null,null,null,null,null,null,0,{"$f":"IF(AC13=100,\"ОК\",\" \")","v":" "}]
[4,null,null,null,null,null,null,null,null,null,null,null,null,null,8309,34.79,9.6638888888888879,9205.1209859999999,38.54,10.705555555555556,null,null,null,null,null,null,null,null,0,{"$f":"IF(AC14=100,\"ОК\",\" \")","v":" "}]
[5,null,null,null,null,null,null,null,null,null,null,null,null,null,8309,34.79,9.6638888888888879,9205.1209859999999,38.54,10.705555555555556,null,null,null,null,null,null,null,null,0," "]
[6,null,null,null,null,null,null,null,null,null,null,null,null,null,8309,34.79,9.6638888888888879,9205.1209859999999,38.54,10.705555555555556,null,null,null,null,null,null,null,null,0," "]
[7,null,null,null,null,null,null,null,null,null,null,null,null,null,8309,34.79,9.6638888888888879,9205.1209859999999,38.54,10.705555555555556,null,null,null,null,null,null,null,null,0," "]
[8,null,null,null,null,null,null,null,null,null,null,null,null,null,8309,34.79,9.6638888888888879,9205.1209859999999,38.54,10.705555555555556,null,null,null,null,null,null,null,null,0," "]
[9,null,null,null,null,null,null,null,null,null,null,null,null,null,8309,34.79,9.6638888888888879,9205.1209859999999,38.54,10.705555555555556,null,null,null,null,null,null,null,null,0," "]
[10,null,null,null,null,null,null,null,null,null,null,null,null,null,8309,34.79,9.6638888888888879,9205.1209859999999,38.54,10.705555555555556,null,null,null,null,null,null,null,null,0," "]
[11,null,null,null,null,null,null,null,null,null,null,null,null,null,8309,34.79,9.6638888888888879,9205.1209859999999,38.54,10.705555555555556,null,null,null,-14.5,-10.7,null,null,null,0," "]
[12,92.878699999999995,3.8839999999999999,0.91910000000000003,0.13009999999999999,0.18559999999999999,4.4999999999999997E-3,5.28E-2,4.0399999999999998E-2,5.4100000000000002E-2,4.7000000000000002E-3,1.5377000000000001,0.30830000000000002,0.72250000000000003,8293,34.72,9.6444444444444439,9188,38.47,10.68611111111111,11863,49.67,13.797222222222222,null,null,null,null,null,100,"ОК"]
[13,null,null,null,null,null,null,null,null,null,null,null,null,null,8293,34.72,9.6444444444444439,9188,38.47,10.68611111111111,null,null,null,null,null,null,null,null,0," "]
[14,null,null,null,null,null,null,null,null,null,null,null,null,null,8293,34.72,9.6444444444444439,9188,38.47,10.68611111111111,null,null,null,null,null,null,null,null,0," "]
[15,null,null,null,null,null,null,null,null,null,null,null,null,null,8293,34.72,9.6444444444444439,9188,38.47,10.68611111111111,null,null,null,null,null,null,null,null,0," "]
[16,null,null,null,null,null,null,null,null,null,null,null,null,null,8293,34.72,9.6444444444444439,9188,38.47,10.68611111111111,null,null,null,null,null,null,null,null,0," "]
[17,null,null,null,null,null,null,null,null,null,null,null,null,null,8293,34.72,9.6444444444444439,9188,38.47,10.68611111111111,null,null,null,-12.7,-12.3,null,null,"відсут.",0," "]
[18,92.850300000000004,3.8929,0.91979999999999995,0.1305,0.18659999999999999,5.4999999999999997E-3,5.2900000000000003E-2,4.0300000000000002E-2,5.16E-2,4.8999999999999998E-3,1.5541,0.3105,0.72260000000000002,8293,34.72,9.6444444444444439,9188,38.47,10.68611111111111,11861,49.66,13.794444444444443,null,null,"<0,006","<0,02",null,99.999899999999997," "]
[19,null,null,null,null,null,null,null,null,null,null,null,null,null,8293,34.72,9.6444444444444439,9188,38.47,10.68611111111111,null,null,null,null,null,null,null,null,0," "]
[20,null,null,null,null,null,null,null,null,null,null,null,null,null,8293,34.72,9.6444444444444439,9188,38.47,10.68611111111111,null,null,null,null,null,null,null,null,0,{"$f":"IF(AC30=100,\"ОК\",\" \")","v":" "}]
[21,null,null,null,null,null,null,null,null,null,null,null,null,null,8293,34.72,9.6444444444444439,9188,38.47,10.68611111111111,null,null,null,null,null,null,null,null,0," "]
[22,null,null,null,null,null,null,null,null,null,null,null,null,null,8293,34.72,9.6444444444444439,9188,38.47,10.68611111111111,null,null,null,null,null,null,null,null,0," "]
[23,null,null,null,null,null,null,null,null,null,null,null,null,null,8293,34.72,9.6444444444444439,9188,38.47,10.68611111111111,null,null,null,null,null,null,null,null,0,{"$f":"IF(AC33=100,\"ОК\",\" \")","v":" "}]
[24,null,null,null,null,null,null,null,null,null,null,null,null,null,8293,34.72,9.6444444444444439,9188,38.47,10.68611111111111,null,null,null,-11.3,-8.8000000000000007,null,null,null,0," "]
[25,92.885099999999994,3.8744999999999998,0.91420000000000001,0.12939999999999999,0.18440000000000001,4.7000000000000002E-3,5.2699999999999997E-2,3.9899999999999998E-2,5.1299999999999998E-2,4.8999999999999998E-3,1.5505,0.30830000000000002,0.72230000000000005,8290,34.71,9.6416666666666675,9186,38.46,10.683333333333334,11961,49.66,13.794444444444443,null,null,null,null,null,99.999899999999997," "]
[26,null,null,null,null,null,null,null,null,null,null,null,null,null,8290,34.71,9.6416666666666675,9186,38.46,10.683333333333334,null,null,null,null,null,null,null,null,0," "]
[27,null,null,null,null,null,null,null,null,null,null,null,null,null,8290,34.71,9.6416666666666675,9186,38.46,10.683333333333334,null,null,null,null,null,null,null,null,0," "]
[28,null,null,null,null,null,null,null,null,null,null,null,null,null,8290,34.71,9.6416666666666675,9186,38.46,10.683333333333334,null,null,null,null,null,null,null,null,0," "]
[29,null,null,null,null,null,null,null,null,null,null,null,null,null,8290,34.71,9.6416666666666675,9186,38.46,10.683333333333334,null,null,null,null,null,null,null,null,0," "]
[30,null,null,null,null,null,null,null,null,null,null,null,null,null,8290,34.71,9.6416666666666675,9186,38.46,10.683333333333334,null,null,null,-9.5,-8.6,null,null,null,0]
[31,92.972800000000007,3.8289,0.90080000000000005,0.1275,0.18190000000000001,5.1000000000000004E-3,5.1700000000000003E-2,3.9699999999999999E-2,4.9200000000000001E-2,4.5999999999999999E-3,1.5306,0.30709999999999998,0.72160000000000002,8286,34.69,9.6361111111111111,9181,38.44,10.677777777777777,11861,49.66,13.794444444444443,null,null,null,null,null,99.999900000000011," "]
["Рівень одоризації відповідає чинним нормативним документам",null,null,null,null,null,null,null,null,null,null,null,null,null,{"$f":"SUMPRODUCT(O11:O41,' розрахунок'!E7:E37)/' розрахунок'!E38","v":8297.1632580861824},{"$f":"SUMPRODUCT(P11:P41,' розрахунок'!E7:E37)/' розрахунок'!E38","v":34.738556976303471},{"$f":"SUMPRODUCT(Q11:Q41,' розрахунок'!E7:E37)/' розрахунок'!E38","v":9.6495991600842999},{"$f":"SUMPRODUCT(R11:R41,' розрахунок'!E7:E37)/' розрахунок'!E38","v":9192.591447250441},{"$f":"SUMPRODUCT(S11:S41,' розрахунок'!E7:E37)/' розрахунок'!E38","v":38.488556976303485},{"$f":"SUMPRODUCT(T11:T41,' розрахунок'!E7:E37)/' розрахунок'!E38","v":10.691265826750964}]
[null,null,null,null,null,null,null,"Середньозважене значення теплоти згоряння:"]
[]
[]
[null,"Заступник начальника управління Диканського ЛВУМГ        ",null,null,null,null,null,null,null,null,null,null,null,null,"Герасименко І.М.",null,null,null,null,null,null,"01.06.17р."]
[null,null,"Підрозділу підприємства, якому підпорядкована лабораторія",null,null,null,null,null,null,null,null,null,null,null,"прізвище",null,null,"підпис",null,null,null,"дата"]
[null,"Завідувач лабораторією      ",null,null,null,null,null,null,null,null,null,null,null,null,"Славінська А.В.",null,null,null,null,null,null,{"$f":"V46","v":"01.06.17р."}]
[null,null,"Лабораторія, де здійснювалось вимірювання газу",null,null,null,null,null,null,null,null,null,null,null,"прізвище",null,null,"підпис",null,null,null,"дата"]
[null,"Начальник служби ГВ та М         ",null,null,null,null,null,null,null,null,null,null,null,null,"Левадний С.А.",null,null,null,null,null,null,{"$f":"V46","v":"01.06.17р."}]
[null,null,"Підрозділу, відповідального за облік газу за маршрутом",null,null,null,null,null,null,null,null,null,null,null,"прізвище",null,null,"підпис",null,null,null,"дата"]

{"sheet":" розрахунок","index":1,"n_rows":42,"n_cols":5,"rows_kept":42,"cut":false,"hidden":false,"merged":[[3,4,5,4],[0,0,0,1],[3,0,5,0],[3,1,5,1],[4,2,4,3]]}
[]
["Додаток до Паспорту фізико-хімічних показників природного газу по маршруту № 135"]
[]
["Число місяця","Теплота згоряння вища, МДж/м3","Харківська область","Полтавська область","Загальний обсяг газу, м3"]
[null,null,"Обсяг газу переданого за добу,  м3 "]
[null,null,"ГРС                                           М-Комишувата","ГРС Гряково"]
[1,{"$f":"паспорт!S11","v":38.54},265.57,487.97,{"$f":"SUM(C7:D7)","v":753.54}]
[2,{"$f":"паспорт!S12","v":38.54},216.46,488.17,704.63]
[3,{"$f":"паспорт!S13","v":38.54},208.92,406.06,614.98]
[4,{"$f":"паспорт!S14","v":38.54},248.82,430.32,679.14]
[5,{"$f":"паспорт!S15","v":38.54},254.92,440.03,694.94999999999993]
[6,{"$f":"паспорт!S16","v":38.54},247.4,468.26,715.66]
[7,{"$f":"паспорт!S17","v":38.54},235.42,468.17,703.59]
[8,{"$f":"паспорт!S18","v":38.54},274.94,467.88,742.81999999999994]
[9,{"$f":"паспорт!S19","v":38.54},261.70999999999998,539.36,801.06999999999994]
[10,{"$f":"паспорт!S20","v":38.54},404.34,822.54,1226.8799999999999]
[11,{"$f":"паспорт!S21","v":38.54},512.45000000000005,1061.47,1573.92]
[12,{"$f":"паспорт!S22","v":38.47},726.62,1290.8599999999999,2017.48]
[13,{"$f":"паспорт!S23","v":38.47},942.57,1624.08,2566.65]
[14,{"$f":"паспорт!S24","v":38.47},697.8,1295.72,1993.52]
[15,{"$f":"паспорт!S25","v":38.47},463.31,834.18,1297.49]
[16,{"$f":"паспорт!S26","v":38.47},279.41000000000003,533.70000000000005,813.11000000000013]
[17,{"$f":"паспорт!S27","v":38.47},350.8,681.19,1031.99]
[18,{"$f":"паспорт!S28","v":38.47},541.5,943.78,1485.28]
[19,{"$f":"паспорт!S29","v":38.47},666.74,1112.8,1779.54]
[20,{"$f":"паспорт!S30","v":38.47},693.43,1115.1600000000001,1808.5900000000001]
[21,{"$f":"паспорт!S31","v":38.47},625.96,995.17,1621.13]
[22,{"$f":"паспорт!S32","v":38.47},467.88,630.69000000000005,1098.5700000000002]
[23,{"$f":"паспорт!S33","v":38.47},288.66000000000003,505.96,794.62]
[24,{"$f":"паспорт!S34","v":38.47},241.52,437.2,678.72]
[25,{"$f":"паспорт!S35","v":38.46},223.39,400.35,623.74]
[26,{"$f":"паспорт!S36","v":38.46},182.93,396.57,579.5]
[27,{"$f":"паспорт!S37","v":38.46},228.77,396.62,625.39]
[28,{"$f":"паспорт!S38","v":38.46},168.8,426.58,595.38]
[29,{"$f":"паспорт!S39","v":38.46},177.32,352.96,530.28]
[30,{"$f":"паспорт!S40","v":38.46},139.16,330.37,469.53]
[31,{"$f":"паспорт!S41","v":38.44},156.07,332.87,488.94]
["Загальний обсяг газу, м3",null,{"$f":"SUM(C7:C37)","v":11393.589999999998},{"$f":"SUM(D7:D37)","v":20717.039999999994},{"$f":"SUM(E7:E37)","v":32110.63}]
["Енергія, МДж",null,{"$f":"SUMPRODUCT(B7:B37,C7:C37)","v":438514.68800000008},{"$f":"SUMPRODUCT(B7:B37,D7:D37)","v":797377.12430000014},{"$f":"SUMPRODUCT(B7:B37,E7:E37)","v":1235891.8123000001}]
["Теплота згоряння (середньозважене значення за місяць), МДж/м³",null,{"$f":"C39/C38","v":38.487841672378956},{"$f":"D39/D38","v":38.488950366461637},{"$f":"E39/E38","v":38.488556976303485}]
["Теплота згоряння (середньозважене значення за місяць), ккал/м³",null,{"$f":"C40*238.8459","v":9192.663183296856},{"$f":"D40*238.8459","v":9192.9279903328588},9192.8340307064846]
["Теплота згоряння (середньозважене значення за місяць), кВт*год./м³",null,{"$f":"C40/3.6","v":10.691067131216377},{"$f":"D40/3.6","v":10.691375101794899},10.691265826750968]

{"sheet":"додаток","index":2,"n_rows":17,"n_cols":6,"rows_kept":17,"cut":false,"hidden":false,"merged":[[0,0,0,1],[7,0,7,1],[3,2,3,4],[3,1,4,1],[3,0,4,0]]}
[]
["Додаток до Паспорту фізико-хімічних показників природного газу №135"]
[]
["Область","ГРС, прямий споживач","Cередньозважене значення вищої теплоти згоряння"]
[null,null," МДж/м³","ккал/м³","кВт*год./м³"]
["Харківська область","ГРС М-Комишувата",{"$f":"' розрахунок'!C40","v":38.487841672378956},{"$f":"' розрахунок'!C41","v":9192.663183296856},{"$f":"' розрахунок'!C42","v":10.691067131216377}]
["Полтавська область","ГРС Гряково",{"$f":"' розрахунок'!D40","v":38.488950366461637},{"$f":"' розрахунок'!D41","v":9192.9279903328588},{"$f":"' розрахунок'!D42","v":10.691375101794899}]
["Середньозважене значення вищої теплоти згоряння по маршруту № 135",null,{"$f":"' розрахунок'!E40","v":38.488556976303485},{"$f":"' розрахунок'!E41","v":9192.8340307064846},{"$f":"' розрахунок'!E42","v":10.691265826750968}]
[]
[]
[]
["Заступник начальника управління Диканського ЛВУМГ ",null,null,"Герасименко І.М.",null,{"$f":"паспорт!V46","v":"01.06.17р."}]
["Підрозділу підприємства, якому підпорядкована лабораторія",null,null,"прізвище","підпис","дата"]
["Завідувач лабораторією                    ",null,null,"Славінська А.В.",null,{"$f":"F12","v":"01.06.17р."}]
["Лабораторія, де здійснювалось вимірювання газу",null,null,"прізвище","підпис","дата"]
["Начальник служби ГВ та М ",null,null,"Левадний С.А. ",null,{"$f":"F12","v":"01.06.17р."}]
["Підрозділу, відповідального за облік газу за маршрутом",null,null,"прізвище","підпис","дата"]

{"sheet":"variablesList","index":3,"n_rows":3,"n_cols":4,"rows_kept":3,"cut":false,"hidden":true,"merged":[]}
[3,"x:\\gaysin","10, 11, 24, 25, 127, 128, 132, 180, 207, 215","x:\\"]
[null,"x:\\Illinci"]
[null,"x:\\Talne"]