{"text_format":"1","workbook":"xlsx","n_sheets":4,"sheets":["паспорт"," розрахунок","додаток","variablesList"],"not_rendered":{"charts":0,"images":0,"macros":1,"external_links":0,"defined_names":4,"comments":0,"pivot_tables":0},"unopened":[],"bounds":{"document_bytes":16777216,"sheet_cells":100000,"rows_first":2000,"rows_last":500,"rows_between":2000,"halvings":0,"cell_chars":16384,"cell_head_chars":4096},"cells_cut":0,"cells_raw":0,"read":"whole","date_system":"1900"}

{"sheet":"паспорт","index":0,"n_rows":51,"n_cols":31,"rows_kept":51,"cut":false,"hidden":false,"merged":[[6,0,9,0],[8,11,9,11],[41,18,42,18],[41,19,42,19],[41,14,42,14],[42,7,42,13],[41,15,42,15],[41,16,42,16],[41,17,42,17],[8,9,9,9],[8,10,9,10],[41,0,41,13],[8,3,9,3],[8,1,9,1],[8,2,9,2],[8,5,9,5],[43,20,43,27],[42,20,42,27],[41,20,41,27],[6,27,9,27],[8,8,9,8],[6,26,9,26],[6,24,9,24],[6,23,9,23],[6,25,9,25],[7,13,9,13],[6,13,6,22],[8,6,9,6],[8,4,9,4],[0,6,0,24],[1,6,1,24],[0,25,0,27],[4,23,4,24],[8,12,9,12],[4,21,4,22],[8,14,8,16],[8,17,8,19],[8,20,8,22],[7,14,7,22],[2,6,2,24],[4,26,4,27],[8,7,9,7],[6,1,7,12]]}
["ПАТ \"УКРТРАНСГАЗ\"",null,null,null,null,null,"ПАСПОРТ ФІЗИКО-ХІМІЧНИХ ПОКАЗНИКІВ ПРИРОДНОГО ГАЗУ  № 134"]
["Філія \"УМГ \"КИЇВТРАНСГАЗ\"",null,null,null,null,null,"переданого Диканським ЛВУМГ та прийнятого  ПАТ \"Харківгаз\""]
["Решетилівський п/м Диканське ЛВУМГ",null,null,null,null,null,"Маршрут № 134"]
["Вимірювальна хіміко-аналітична лабораторія",null,null,null,null,null,null,null,null,null,"Газопровід - підвід УКПГ Кегичівка"]
["Свідоцтво № 123/15 чинно до 31.12.2018 р.",null,null,null,null,null,null,null,null,null,"по газопроводу  \"ШЕБЕЛИНКА-ДИКАНЬКА-КИЇВ\"",null,null,null,null,null,null,null,null,null,null,"за період   з",null,"2017-05-01",null," по","2017-05-31"]
[]
["Число місяця","Компонентний склад, % мол. ",null,null,null,null,null,null,null,null,null,null,null,"Фізико-хімічні показники газу обчислені на основі компонентного складу, 101,325 кПа",null,null,null,null,null,null,null,null,null,"Температура точки роси за вологою (Р = 3.92 МПа), ºС","Температура точки роси за вуглеводнями, ºС","Вміст сірководню, г/м3","Вміст меркаптанової сірки, г/м3","Вміст механічних домішок, г/м3"]
[null,null,null,null,null,null,null,null,null,null,null,null,null,"Густина абсолютна, кг/м3,при 20 ºС, ","Температура вимірювання/згоряння при  20/25°С"]
[null,"метан, С1","етан, С2","пропан, С3","ізо-бутан, і-С4","н-бутан, н-С4","нео-пентан, нео-С5","ізо-пентан, і-С5","н-пентан, н-С5","гексани та вищі, С6+","кисень, О2","азот, N2","діоксид вуглецю, CО2",null,"Теплота згоряння нижча",null,null,"Теплота згоряння вища",null,null,"Число Воббе вище"]
[null,null,null,null,null,null,null,null,null,null,null,null,null,null," ккал/м3"," МДж/м3","кВт⋅год/м3"," ккал/м3"," МДж/м3","кВт⋅год/м3"," ккал/м3"," МДж/м3","кВт⋅год/м3",null,null,null,null,null,null,null,"  "]
[1,null,null,null,null,null,null,null,null,null,null,null,null,null,8377,35.07,9.7416666666666671,9279.1632150000005,38.85,10.791666666666666,null,null,null,null,null,null,null,null,{"$f":"SUM(B11:M11)+$K$42+$N$42","v":0}]
[2,null,null,null,null,null,null,null,null,null,null,null,null,null,8377,35.07,9.7416666666666671,{"$f":"S12*238.8459","v":9279.1632150000005},38.85,10.791666666666666,null,null,null,null,null,null,null,null,0]
[3,null,null,null,null,null,null,null,null,null,null,null,null,null,8377,35.07,9.7416666666666671,9279.1632150000005,38.85,10.791666666666666,null,null,null,null,null,null,null,null,0,{"$f":"IF(AC13=100,\"ОК\",\" \")","v":" "}]
[4,null,null,null,null,null,null,null,null,null,null,null,null,null,8377,35.07,9.7416666666666671,9279.1632150000005,38.85,10.791666666666666,null,null,null,null,null,null,null,null,0,{"$f":"IF(AC14=100,\"ОК\",\" \")","v":" "}]
[5,null,null,null,null,null,null,null,null,null,null,null,null,null,8377,35.07,9.7416666666666671,9279.1632150000005,38.85,10.791666666666666,null,null,null,null,null,null,null,null,0," "]
[6,null,null,null,null,null,null,null,null,null,null,null,null,null,8377,35.07,9.7416666666666671,9279.1632150000005,38.85,10.791666666666666,null,null,null,null,null,null,null,null,0," "]
[7,null,null,null,null,null,null,null,null,null,null,null,null,null,8377,35.07,9.7416666666666671,9279.1632150000005,38.85,10.791666666666666,null,null,null,null,null,null,null,null,0," "]
[8,null,null,null,null,null,null,null,null,null,null,null,null,null,8377,35.07,9.7416666666666671,9279.1632150000005,38.85,10.791666666666666,null,null,null,null,null,null,null,null,0," "]
[9,null,null,null,null,null,null,null,null,null,null,null,null,null,8377,35.07,9.7416666666666671,9279.1632150000005,38.85,10.791666666666666,null,null,null,null,null,null,null,null,0," "]
[10,null,null,null,null,null,null,null,null,null,null,null,null,null,8377,35.07,9.7416666666666671,9279.1632150000005,38.85,10.791666666666666,null,null,null,23.9,3.8,null,null,"відсут.",0," "]
[11,null,null,null,null,null,null,null,null,null,null,null,null,null,8377,35.07,9.7416666666666671,9279.1632150000005,38.85,10.791666666666666,null,null,null,null,null,null,null,null,0," "]
[12,92.736999999999995,3.9683000000000002,0.92390000000000005,0.1341,0.18629999999999999,4.4000000000000003E-3,6.0299999999999999E-2,4.8599999999999997E-2,0.20050000000000001,4.7999999999999996E-3,1.4530000000000001,0.27889999999999998,0.72699999999999998,8357,34.99,9.719444444444445,9260,38.770000000000003,10.769444444444446,11918,49.9,13.861111111111111,null,null,"<0,006","<0,02",null,100.0001," "]
[13,null,null,null,null,null,null,null,null,null,null,null,null,null,8357,34.99,9.719444444444445,{"$f":"S23*238.8459","v":9260.0555430000004},38.770000000000003,10.769444444444446,null,null,null,null,null,null,null,null,0," "]
[14,null,null,null,null,null,null,null,null,null,null,null,null,null,8357,34.99,9.719444444444445,{"$f":"S24*238.8459","v":9260.0555430000004},38.770000000000003,10.769444444444446,null,null,null,null,null,null,null,null,0," "]
[15,null,null,null,null,null,null,null,null,null,null,null,null,null,8357,34.99,9.719444444444445,9260,38.770000000000003,10.769444444444446,null,null,null,null,null,null,null,null,0," "]
[16,null,null,null,null,null,null,null,null,null,null,null,null,null,8357,34.99,9.719444444444445,9260,38.770000000000003,10.769444444444446,null,null,null,24.6,9.1,null,null,null,0," "]
[17,null,null,null,null,null,null,null,null,null,null,null,null,null,8357,34.99,9.7194444444444397,9260,38.770000000000003,10.7694444444444,null,null,null,null,null,null,null,null,0," "]
[18,92.758600000000001,3.9817999999999998,0.92759999999999998,0.13420000000000001,0.186,5.7999999999999996E-3,5.8799999999999998E-2,4.7600000000000003E-2,0.1515,4.7999999999999996E-3,1.4664999999999999,0.27689999999999998,0.72570000000000001,8343,34.93,9.7027777777777775,9243,38.700000000000003,10.75,11906,49.85,13.847222222222221,null,null,null,null,null,100.0001," "]
[19,null,null,null,null,null,null,null,null,null,null,null,null,null,8343,34.93,9.7027777777777775,9243,38.700000000000003,10.75,null,null,null,null,null,null,null,null,0," "]
[20,null,null,null,null,null,null,null,null,null,null,null,null,null,8343,34.93,9.7027777777777775,9243,38.700000000000003,10.75,null,null,null,null,null,null,null,null,0,{"$f":"IF(AC30=100,\"ОК\",\" \")","v":" "}]
[21,null,null,null,null,null,null,null,null,null,null,null,null,null,8343,34.93,9.7027777777777775,9243,38.700000000000003,10.75,null,null,null,null,null,null,null,null,0," "]
[22,null,null,null,null,null,null,null,null,null,null,null,null,null,8343,34.93,9.7027777777777775,9243,38.700000000000003,10.75,null,null,null,null,null,null,null,null,0," "]
[23,null,null,null,null,null,null,null,null,null,null,null,null,null,8343,34.93,9.7027777777777775,9243,38.700000000000003,10.75,null,null,null,29.1,9,null,null,null,0,{"$f":"IF(AC33=100,\"ОК\",\" \")","v":" "}]
[24,null,null,null,null,null,null,null,null,null,null,null,null,null,8343,34.93,9.7027777777777775,9243,38.700000000000003,10.75,null,null,null,null,null,null,null,null,0," "]
[25,92.734200000000001,3.9849000000000001,0.92859999999999998,0.13450000000000001,0.18659999999999999,5.4000000000000003E-3,5.8500000000000003E-2,4.6699999999999998E-2,0.15540000000000001,4.5999999999999999E-3,1.4818,0.27889999999999998,0.72599999999999998,8343,34.93,9.7027777777777775,9243,38.700000000000003,10.75,11906,49.85,13.847222222222221,null,null,null,null,null,100.00009999999999," "]
[26,null,null,null,null,null,null,null,null,null,null,null,null,null,8343,34.93,9.7027777777777775,{"$f":"S36*238.8459","v":9243.3363300000001},38.700000000000003,10.75,null,null,null,null,null,null,null,null,0," "]
[27,null,null,null,null,null,null,null,null,null,null,null,null,null,8343,34.93,9.7027777777777775,9243,38.700000000000003,10.75,null,null,null,null,null,null,null,null,0," "]
[28,null,null,null,null,null,null,null,null,null,null,null,null,null,8343,34.93,9.7027777777777775,9243,38.700000000000003,10.75,null,null,null,null,null,null,null,null,0," "]
[29,null,null,null,null,null,null,null,null,null,null,null,null,null,8343,34.93,9.7027777777777775,9243,38.700000000000003,10.75,null,null,null,29.2,9,null,null,null,0," "]
[30,null,null,null,null,null,null,null,null,null,null,null,null,null,8343,34.93,9.7027777777777775,9243,38.700000000000003,10.75,null,null,null,null,null,null,null,null,0]
[31,92.851900000000001,3.9228999999999998,0.9123,0.13200000000000001,0.1835,5.8999999999999999E-3,5.8599999999999999E-2,4.7500000000000001E-2,0.16389999999999999,4.5999999999999999E-3,1.4398,0.2772,0.72540000000000004,8343,34.93,9.7027777777777775,9243,38.700000000000003,10.75,11909,49.86,13.85,null,null,null,null,null,100.00009999999999," "]
["Рівень одоризації відповідає чинним нормативним документам",null,null,null,null,null,null,null,null,null,null,null,null,null,{"$f":"SUMPRODUCT(O11:O41,' розрахунок'!D7:D37)/' розрахунок'!D38","v":8356.894739857571},{"$f":"SUMPRODUCT(P11:P41,' розрахунок'!D7:D37)/' розрахунок'!D38","v":34.987848354242054},{"$f":"SUMPRODUCT(Q11:Q41,' розрахунок'!D7:D37)/' розрахунок'!D38","v":9.718846765067239},{"$f":"SUMPRODUCT(R11:R41,' розрахунок'!D7:D37)/' розрахунок'!D38","v":9258.3605302229553},{"$f":"SUMPRODUCT(S11:S41,' розрахунок'!D7:D37)/' розрахунок'!D38","v":38.763521841271469},{"$f":"SUMPRODUCT(T11:T41,' розрахунок'!D7:D37)/' розрахунок'!D38","v":10.767644955908741}]
[null,null,null,null,null,null,null,"Середньозважене значення теплоти згоряння:"]
[]
[]
[null,"Заступник начальника управління Диканського ЛВУМГ        ",null,null,null,null,null,null,null,null,null,null,null,null,"Герасименко І.М.",null,null,null,null,null,null,"01.06.17р."]
[null,null,"Підрозділу підприємства, якому підпорядкована лабораторія",null,null,null,null,null,null,null,null,null,null,null,"прізвище",null,null,"підпис",null,null,null,"дата"]
[null,"Завідувач лабораторією      ",null,null,null,null,null,null,null,null,null,null,null,null,"Славінська А.В.",null,null,null,null,null,null,{"$f":"V46","v":"01.06.17р."}]
[null,null,"Лабораторія, де здійснювалось вимірювання газу",null,null,null,null,null,null,null,null,null,null,null,"прізвище",null,null,"підпис",null,null,null,"дата"]
[null,"Начальник служби ГВ та М         ",null,null,null,null,null,null,null,null,null,null,null,null,"Левадний С.А.",null,null,null,null,null,null,{"$f":"V46","v":"01.06.17р."}]
[null,null,"Підрозділу, відповідального за облік газу за маршрутом",null,null,null,null,null,null,null,null,null,null,null,"прізвище",null,null,"підпис",null,null,null,"дата"]

{"sheet":" розрахунок","index":1,"n_rows":42,"n_cols":4,"rows_kept":42,"cut":false,"hidden":false,"merged":[[3,3,5,3],[0,0,0,1],[3,0,5,0],[3,1,5,1]]}
[]
["Додаток до Паспорту фізико-хімічних показників природного газу по маршруту № 134"]
[]
["Число місяця","Теплота згоряння вища, МДж/м3","Харківська область","Загальний обсяг газу, м3"]
[null,null,"Обсяг газу переданого за добу,  м3 "]
[null,null,"ГРС Старовірівка"]
[1,{"$f":"паспорт!S11","v":38.85},1410.71,{"$f":"SUM(C7:C7)","v":1410.71}]
[2,{"$f":"паспорт!S12","v":38.85},1084.04,1084.04]
[3,{"$f":"паспорт!S13","v":38.85},1270.32,1270.32]
[4,{"$f":"паспорт!S14","v":38.85},1023.75,1023.75]
[5,{"$f":"паспорт!S15","v":38.85},1251.29,1251.29]
[6,{"$f":"паспорт!S16","v":38.85},1360.47,1360.47]
[7,{"$f":"паспорт!S17","v":38.85},1446.93,1446.93]
[8,{"$f":"паспорт!S18","v":38.85},1220.8399999999999,1220.8399999999999]
[9,{"$f":"паспорт!S19","v":38.85},1466.27,1466.27]
[10,{"$f":"паспорт!S20","v":38.85},1597.09,1597.09]
[11,{"$f":"паспорт!S21","v":38.85},2242.96,2242.96]
[12,{"$f":"паспорт!S22","v":38.770000000000003},2706.46,2706.46]
[13,{"$f":"паспорт!S23","v":38.770000000000003},3550.42,3550.42]
[14,{"$f":"паспорт!S24","v":38.770000000000003},2690.09,2690.09]
[15,{"$f":"паспорт!S25","v":38.770000000000003},2105.34,2105.34]
[16,{"$f":"паспорт!S26","v":38.770000000000003},1172.79,1172.79]
[17,{"$f":"паспорт!S27","v":38.770000000000003},1711.41,1711.41]
[18,{"$f":"паспорт!S28","v":38.700000000000003},2293.87,2293.87]
[19,{"$f":"паспорт!S29","v":38.700000000000003},2763.97,2763.97]
[20,{"$f":"паспорт!S30","v":38.700000000000003},2829.46,2829.46]
[21,{"$f":"паспорт!S31","v":38.700000000000003},2441.96,2441.96]
[22,{"$f":"паспорт!S32","v":38.700000000000003},1642.9,1642.9]
[23,{"$f":"паспорт!S33","v":38.700000000000003},1274.27,1274.27]
[24,{"$f":"паспорт!S34","v":38.700000000000003},1234.45,1234.45]
[25,{"$f":"паспорт!S35","v":38.700000000000003},1370.66,1370.66]
[26,{"$f":"паспорт!S36","v":38.700000000000003},930.32,930.32]
[27,{"$f":"паспорт!S37","v":38.700000000000003},1355.36,1355.36]
[28,{"$f":"паспорт!S38","v":38.700000000000003},1117.4000000000001,1117.4000000000001]
[29,{"$f":"паспорт!S39","v":38.700000000000003},1071.33,1071.33]
[30,{"$f":"паспорт!S40","v":38.700000000000003},952.07,952.07]
[31,{"$f":"паспорт!S41","v":38.700000000000003},1074.23,1074.23]
["Загальний обсяг газу, м3",null,{"$f":"SUM(C7:C37)","v":51663.430000000008},{"$f":"SUM(D7:D37)","v":51663.430000000008}]
["Енергія, МДж",null,{"$f":"SUMPRODUCT(B7:B37,C7:C37)","v":2002656.4972000001},{"$f":"SUMPRODUCT(B7:B37,D7:D37)","v":2002656.4972000001}]
["Теплота згоряння (середньозважене значення за місяць), МДж/м³",null,{"$f":"C39/C38","v":38.763521841271469},{"$f":"D39/D38","v":38.763521841271469}]
["Теплота згоряння (середньозважене значення за місяць), ккал/м³",null,{"$f":"C40*238.8459","v":9258.5082613481409},{"$f":"D40*238.8459","v":9258.5082613481409}]
["Теплота згоряння (середньозважене значення за місяць), кВт*год./м³",null,{"$f":"C40/3.6","v":10.767644955908741},{"$f":"D40/3.6","v":10.767644955908741}]

{"sheet":"додаток","index":2,"n_rows":16,"n_cols":6,"rows_kept":16,"cut":false,"hidden":false,"merged":[[0,0,0,1],[6,0,6,1],[3,2,3,4],[3,1,4,1],[3,0,4,0]]}
[]
["Додаток до Паспорту фізико-хімічних показників природного газу №134"]
[]
["Область","ГРС, прямий споживач","Cередньозважене значення вищої теплоти згоряння"]
[null,null," МДж/м³","ккал/м³","кВт*год./м³"]
["Харківська область","ГРС Старовірівка",{"$f":"' розрахунок'!C40","v":38.763521841271469},9258,{"$f":"' розрахунок'!C42","v":10.767644955908741}]
["Середньозважене значення вищої теплоти згоряння по маршруту № 134",null,{"$f":"' розрахунок'!D40","v":38.763521841271469},9258,{"$f":"' розрахунок'!D42","v":10.767644955908741}]
[]
[]
[]
["Заступник начальника управління Диканського ЛВУМГ ",null,null,"Герасименко І.М.",null,{"$f":"паспорт!V46","v":"01.06.17р."}]
["Підрозділу підприємства, якому підпорядкована лабораторія",null,null,"прізвище","підпис","дата"]
["Завідувач лабораторією                    ",null,null,"Славінська А.В.",null,{"$f":"F11","v":"01.06.17р."}]
["Лабораторія, де здійснювалось вимірювання газу",null,null,"прізвище","підпис","дата"]
["Начальник служби ГВ та М ",null,null,"Левадний С.А. ",null,{"$f":"F11","v":"01.06.17р."}]
["Підрозділу, відповідального за облік газу за маршрутом",null,null,"прізвище","підпис","дата"]

{"sheet":"variablesList","index":3,"n_rows":3,"n_cols":4,"rows_kept":3,"cut":false,"hidden":true,"merged":[]}
[3,"x:\\gaysin","10, 11, 24, 25, 127, 128, 132, 180, 207, 215","x:\\"]
[null,"x:\\Illinci"]
[null,"x:\\Talne"]