{"text_format":"1","workbook":"xlsx","n_sheets":4,"sheets":["паспорт"," розрахунок","додаток","variablesList"],"not_rendered":{"charts":0,"images":0,"macros":1,"external_links":0,"defined_names":3,"comments":0,"pivot_tables":0},"unopened":[],"bounds":{"document_bytes":16777216,"sheet_cells":100000,"rows_first":2000,"rows_last":500,"rows_between":2000,"halvings":0,"cell_chars":16384,"cell_head_chars":4096},"cells_cut":0,"cells_raw":0,"read":"whole","date_system":"1900"}

{"sheet":"паспорт","index":0,"n_rows":50,"n_cols":31,"rows_kept":50,"cut":false,"hidden":false,"merged":[[6,0,9,0],[8,11,9,11],[41,18,42,18],[41,19,42,19],[41,14,42,14],[42,7,42,13],[41,15,42,15],[41,16,42,16],[41,17,42,17],[8,9,9,9],[8,10,9,10],[41,0,41,13],[8,3,9,3],[8,1,9,1],[8,2,9,2],[8,5,9,5],[8,6,9,6],[8,4,9,4],[43,20,43,27],[42,20,42,27],[41,20,41,27],[6,27,9,27],[8,8,9,8],[6,26,9,26],[6,24,9,24],[6,23,9,23],[6,25,9,25],[0,6,0,24],[1,6,1,24],[0,25,0,27],[4,23,4,24],[8,12,9,12],[4,21,4,22],[8,14,8,16],[8,17,8,19],[8,20,8,22],[7,14,7,22],[2,6,2,24],[4,26,4,27],[8,7,9,7],[6,1,7,12],[7,13,9,13],[6,13,6,22],[49,1,49,6],[49,11,49,15],[49,23,49,24],[49,25,49,27],[45,23,45,24],[45,25,45,27],[47,1,47,6],[47,11,47,15],[47,23,47,24],[47,25,47,27],[45,1,45,6],[45,11,45,15]]}
["ПАТ \"УКРТРАНСГАЗ\"",null,null,null,null,null,"ПАСПОРТ ФІЗИКО-ХІМІЧНИХ ПОКАЗНИКІВ ПРИРОДНОГО ГАЗУ  №99"]
["Філія \"УМГ \"Київтрансгаз\"",null,null,null,null,null,"переданогоДиканським ЛВУМГ та прийнятого  ПАТ \"Полтавагаз\""]
["Диканський п/м Диканське ЛВУМГ",null,null,null,null,null,"Маршрут №99"]
["Вимірювальна хіміко-аналітична лабораторія"]
["Свідоцтво № 186-13 чинне до 05.12.2018 р.",null,null,null,null,null,null,null,null,null,"по газопроводу  \"ЄФРЕМІВКА - ДИКАНЬКА- КИЇВ\"",null,null,null,null,null,null,null,null,null,null,"за період з",null,"2017-05-01",null," по","31.05.2017р."]
[]
["Число місяця","Компонентний склад, % мол. ",null,null,null,null,null,null,null,null,null,null,null,"Фізико-хімічні показники газу обчислені на основі компонентного складу, 101,325 кПа",null,null,null,null,null,null,null,null,null,"Температура точки роси за вологою (Р = 3.92 МПа), °С","Температура точки роси за вуглеводнями, °С","Вміст сірководню, г/м3","Вміст меркаптанової сірки, г/м3","Вміст механічних домішок, г/м3"]
[null,null,null,null,null,null,null,null,null,null,null,null,null,"Густина абсолютна, кг/м3,при 20 ºС, ","Температура вимірювання/згоряння при  20/25°С"]
[null,"метан, С1","етан, С2","пропан, С3","ізо-бутан, і-С4","н-бутан, н-С4","нео-пентан, нео-С5","ізо-пентан, і-С5","н-пентан, н-С5","гексани та вищі, С6+","кисень, О2","азот, N2","діоксид вуглецю, CО2",null,"Теплота згоряння нижча",null,null,"Теплота згоряння вища",null,null,"Число Воббе вище"]
[null,null,null,null,null,null,null,null,null,null,null,null,null,null," ккал/м3"," МДж/м3","кВт⋅год/м3"," ккал/м3"," МДж/м3","кВт⋅год/м3"," ккал/м3"," МДж/м3","кВт⋅год/м3",null,null,null,null,null,null,null,"  "]
[1,null,null,null,null,null,null,null,null,null,null,null,null,null,8102.9615476474819,33.927100000000003,{"$f":"P11/3.6","v":9.4241944444444457},8983,37.6066,{"$f":"S11/3.6","v":10.446277777777778},null,null,null,null,null,null,null,null,{"$f":"SUM(B11:M11)+$K$42+$N$42","v":0}]
[2,null,null,null,null,null,null,null,null,null,null,null,null,null,8102.9615476474819,33.927100000000003,{"$f":"P12/3.6","v":9.4241944444444457},8983,37.6066,{"$f":"S12/3.6","v":10.446277777777778},null,null,null,null,null,null,null,null,0]
[3,null,null,null,null,null,null,null,null,null,null,null,null,null,8102.9615476474819,33.927100000000003,9.4241944444444457,8983,37.6066,10.446277777777778,null,null,null,null,null,null,null,null,0,{"$f":"IF(AC13=100,\"ОК\",\" \")","v":" "}]
[4,93.122100000000003,2.8881000000000001,0.60980000000000001,8.0100000000000005E-2,0.16550000000000001,3.0999999999999999E-3,4.4299999999999999E-2,4.6800000000000001E-2,6.0900000000000003E-2,4.4000000000000003E-3,2.7688000000000001,0.20619999999999999,0.71679999999999999,8090.307747750001,33.872500000000002,9.4090277777777782,8968.3530453299991,37.548699999999997,10.430194444444444,11624.623835681874,48.6723,13.519436386617308,-5.7,-8.1,null,null,null,100.00010000000002,{"$f":"IF(AC14=100,\"ОК\",\" \")","v":" "}]
[5,null,null,null,null,null,null,null,null,null,null,null,null,null,8090.307747750001,33.872500000000002,9.4090277777777782,8968.3530453299991,37.548699999999997,10.430194444444444,null,null,null,null,null,null,null,null,0," "]
[6,null,null,null,null,null,null,null,null,null,null,null,null,null,8090.307747750001,33.872500000000002,9.4090277777777782,8968.3530453299991,37.548699999999997,10.430194444444444,null,null,null,null,null,null,null,null,0," "]
[7,null,null,null,null,null,null,null,null,null,null,null,null,null,8090.307747750001,33.872500000000002,9.4090277777777782,8968.3530453299991,37.548699999999997,10.430194444444444,null,null,null,null,null,null,null,null,0," "]
[8,null,null,null,null,null,null,null,null,null,null,null,null,null,8090.307747750001,33.872500000000002,9.4090277777777782,8968.3530453299991,37.548699999999997,10.430194444444444,null,null,null,null,null,null,null,null,0," "]
[9,null,null,null,null,null,null,null,null,null,null,null,null,null,8090.307747750001,33.872500000000002,9.4090277777777782,8968.3530453299991,37.548699999999997,10.430194444444444,null,null,null,null,null,null,null,null,0," "]
[10,null,null,null,null,null,null,null,null,null,null,null,null,null,8090.307747750001,33.872500000000002,9.4090277777777782,8968.3530453299991,37.548699999999997,10.430194444444444,null,null,null,null,null,null,null,null,0," "]
[11,93.0321,2.9180000000000001,0.60819999999999996,7.9600000000000004E-2,0.16420000000000001,2.8999999999999998E-3,4.3900000000000002E-2,4.9799999999999997E-2,5.2299999999999999E-2,2.5000000000000001E-3,2.8405999999999998,0.2056,0.71709999999999996,8084.0977543499994,33.846499999999999,9.4018055555555549,8961.4742834099998,37.5199,10.422194444444445,11613.494148555052,48.625700000000002,13.506492561574801,-11.6,-5.7,null,null,null,99.99969999999999," "]
[12,null,null,null,null,null,null,null,null,null,null,null,null,null,8084.0977543499994,33.846499999999999,9.4018055555555549,8961.4742834099998,37.5199,10.422194444444445,null,null,null,null,null,null,null,null,0," "]
[13,null,null,null,null,null,null,null,null,null,null,null,null,null,8084.0977543499994,33.846499999999999,9.4018055555555549,8961.4742834099998,37.5199,10.422194444444445,null,null,null,null,null,null,null,null,0," "]
[14,null,null,null,null,null,null,null,null,null,null,null,null,null,8084.0977543499994,33.846499999999999,9.4018055555555549,8961.4742834099998,37.5199,10.422194444444445,null,null,null,null,null,null,null,null,0," "]
[15,93.194800000000001,2.8647999999999998,0.58389999999999997,7.6100000000000001E-2,0.15590000000000001,2.8999999999999998E-3,4.1000000000000002E-2,4.4600000000000001E-2,5.7700000000000001E-2,5.1000000000000004E-3,2.7679999999999998,0.20519999999999999,0.71589999999999998,8080.8255655200001,33.832799999999999,9.3979999999999997,8958.2020945799995,37.5062,10.418388888888888,11618.891807977072,48.648299999999999,13.51277003895593,-11.9,-4.9000000000000004,"<0,006","<0,02","від.",100,"ОК"]
[16,null,null,null,null,null,null,null,null,null,null,null,null,null,8080.8255655200001,33.832799999999999,9.3979999999999997,8958.2020945799995,37.5062,10.418388888888888,null,null,null,null,null,null,null,null,0," "]
[17,null,null,null,null,null,null,null,null,null,null,null,null,null,8080.8255655200001,33.832799999999999,9.3979999999999997,8958.2020945799995,37.5062,10.418388888888888,null,null,null,null,null,null,null,null,0," "]
[18,null,null,null,null,null,null,null,null,null,null,null,null,null,8080.8255655200001,33.832799999999999,9.3979999999999997,8958.2020945799995,37.5062,10.418388888888888,null,null,null,null,null,null,null,null,0," "]
[19,null,null,null,null,null,null,null,null,null,null,null,null,null,8080.8255655200001,33.832799999999999,9.3979999999999997,8958.2020945799995,37.5062,10.418388888888888,null,null,null,null,null,null,null,null,0," "]
[20,null,null,null,null,null,null,null,null,null,null,null,null,null,8080.8255655200001,33.832799999999999,9.3979999999999997,8958.2020945799995,37.5062,10.418388888888888,null,null,null,null,null,null,null,null,0,{"$f":"IF(AC30=100,\"ОК\",\" \")","v":" "}]
[21,null,null,null,null,null,null,null,null,null,null,null,null,null,8080.8255655200001,33.832799999999999,9.3979999999999997,8958.2020945799995,37.5062,10.418388888888888,null,null,null,null,null,null,null,null,0," "]
[22,null,null,null,null,null,null,null,null,null,null,null,null,null,8080.8255655200001,33.832799999999999,9.3979999999999997,8958.2020945799995,37.5062,10.418388888888888,null,null,null,null,null,null,null,null,0," "]
[23,null,null,null,null,null,null,null,null,null,null,null,null,null,8080.8255655200001,33.832799999999999,9.3979999999999997,8958.2020945799995,37.5062,10.418388888888888,null,null,null,null,null,null,null,null,0,{"$f":"IF(AC33=100,\"ОК\",\" \")","v":" "}]
[24,null,null,null,null,null,null,null,null,null,null,null,null,null,8080.8255655200001,33.832799999999999,9.3979999999999997,8958.2020945799995,37.5062,10.418388888888888,null,null,null,null,null,null,null,null,0," "]
[25,93.085800000000006,2.9279000000000002,0.62529999999999997,8.3299999999999999E-2,0.17050000000000001,3.0999999999999999E-3,4.7699999999999999E-2,4.4699999999999997E-2,5.1700000000000003E-2,7.0000000000000001E-3,2.7450000000000001,0.2079,0.71709999999999996,8095.2996270599997,33.8934,9.4148333333333323,8973.7509626699994,37.571300000000001,10.436472222222223,11629.663243372343,48.693399999999997,13.525297217269598,-8.3000000000000007,-14.5,null,null,null,99.999900000000011," "]
[26,null,null,null,null,null,null,null,null,null,null,null,null,null,8095.2996270599997,33.8934,9.4148333333333323,8973.7509626699994,37.571300000000001,10.436472222222223]
[27,null,null,null,null,null,null,null,null,null,null,null,null,null,8095.2996270599997,33.8934,9.4148333333333323,8973.7509626699994,37.571300000000001,10.436472222222223]
[28,null,null,null,null,null,null,null,null,null,null,null,null,null,8095.2996270599997,33.8934,9.4148333333333323,8973.7509626699994,37.571300000000001,10.436472222222223]
[29,null,null,null,null,null,null,null,null,null,null,null,null,null,8095.2996270599997,33.8934,9.4148333333333323,8973.7509626699994,37.571300000000001,10.436472222222223]
[30,null,null,null,null,null,null,null,null,null,null,null,null,null,8095.2996270599997,33.8934,9.4148333333333323,8973.7509626699994,37.571300000000001,10.436472222222223,null,null,null,null,null,null,null,null,{"$f":"SUM(B40:M40)+$K$42+$N$42","v":0}," "]
[31,null,null,null,null,null,null,null,null,null,null,null,null,null,8095.2996270599997,33.8934,9.4148333333333323,8973.7509626699994,37.571300000000001,10.436472222222223,null,null,null,null,null,null,null,null,{"$f":"SUM(B41:M41)+$K$42+$N$42","v":0}," "]
["Рівень одоризації відповідає чинним нормативним документам",null,null,null,null,null,null,null,null,null,null,null,null,null,{"$f":"SUMPRODUCT(O11:O41,' розрахунок'!G7:G37)/' розрахунок'!G38","v":8086.9869157888916},{"$f":"SUMPRODUCT(P11:P41,' розрахунок'!G7:G37)/' розрахунок'!G38","v":33.858716237986812},{"$f":"SUMPRODUCT(Q11:Q41,' розрахунок'!G7:G37)/' розрахунок'!G38","v":9.4051989549963366},{"$f":"SUMPRODUCT(R11:R41,' розрахунок'!G7:G37)/' розрахунок'!G38","v":8964.8388414759811},{"$f":"SUMPRODUCT(S11:S41,' розрахунок'!G7:G37)/' розрахунок'!G38","v":37.53373349665366},{"$f":"SUMPRODUCT(T11:T41,' розрахунок'!G7:G37)/' розрахунок'!G38","v":10.426037082403793}]
[null,null,null,null,null,null,null,"Середньозважене значення теплоти згоряння:"]
[]
[]
[null,"Заступник начальника Диканського ЛВУМГ                                                                                                                                                                          31.05.2017р.         ",null,null,null,null,null,null,null,null,null,"Герасименко І.М.",null,null,null,null,null,null,null,null,null,null,null,null,null,{"$f":"TODAY()","v":"2017-06-01"}]
[]
[null,"Завідувач лабораторії  Диканського ЛВУМГ                                                                                                                                                                                                                                           ",null,null,null,null,null,null,null,null,null,"Горшковоз О.В.",null,null,null,null,null,null,null,null,null,null,null,null,null,{"$f":"TODAY()","v":"2017-06-01"}]
[]
[null,"Начальник служби ГВМ та М Диканського ЛВУМГ                                                                                                                                                                                                                     ",null,null,null,null,null,null,null,null,null,"Левадний С.А.",null,null,null,null,null,null,null,null,null,null,null,null,null,{"$f":"TODAY()","v":"2017-06-01"}]

{"sheet":" розрахунок","index":1,"n_rows":42,"n_cols":7,"rows_kept":42,"cut":false,"hidden":false,"merged":[[4,2,4,5],[3,2,3,5],[3,6,5,6],[0,0,0,1],[3,0,5,0],[3,1,5,1]]}
[]
["Додаток до Паспорту фізико-хімічних показників природного газу по маршруту №99"]
[]
["Число місяця","Теплота згоряння вища, МДж/м3","Полтавська область",null,null,null,"Загальний обсяг газу, м3"]
[null,null,"Обсяг газу переданого за добу,  м3 "]
[null,null,"ГРС Кошманівка ","ГРС Карлівка","ГРС Попівка","ГРС Халтуріно"]
[1,{"$f":"паспорт!S11","v":37.6066},1034.56,7036.44,2809.03,570.38,{"$f":"SUM(C7:F7)","v":11450.41}]
[2,{"$f":"паспорт!S12","v":37.6066},992.12,6885.96,2529.58,497.69,10905.35]
[3,{"$f":"паспорт!S13","v":37.6066},955.63,6446.82,2375.29,473.94,10251.68]
[4,{"$f":"паспорт!S14","v":37.548699999999997},911.46,6402.64,2123.39,506.64,9944.1299999999992]
[5,{"$f":"паспорт!S15","v":37.548699999999997},928.23,6722.66,2262.9899999999998,522.86,10436.74]
[6,{"$f":"паспорт!S16","v":37.548699999999997},966.06,6894.29,2374.89,544.70000000000005,10779.94]
[7,{"$f":"паспорт!S17","v":37.548699999999997},876.43,6717.72,2273.12,434.65,10301.92]
[8,{"$f":"паспорт!S18","v":37.548699999999997},952.42,6967.46,2684.19,567.17999999999995,11171.25]
[9,{"$f":"паспорт!S19","v":37.548699999999997},1050.01,7670.15,2819.13,607.32000000000005,12146.61]
[10,{"$f":"паспорт!S20","v":37.548699999999997},1539.33,8622.98,3901.26,787.31,14850.88]
[11,{"$f":"паспорт!S21","v":37.5199},1840.44,10295.18,4737.75,1032.4000000000001,17905.770000000004]
[12,{"$f":"паспорт!S22","v":37.5199},2527.17,13091.92,5783.19,1262.79,22665.07]
[13,{"$f":"паспорт!S23","v":37.5199},2873.3,16222.97,7167.21,1580.72,27844.2]
[14,{"$f":"паспорт!S24","v":37.5199},2514.73,14468.81,5909.9,1313.81,24207.250000000004]
[15,{"$f":"паспорт!S25","v":37.5062},1598.94,10743.79,4097.53,1002.12,17442.38]
[16,{"$f":"паспорт!S26","v":37.5062},1118.56,7473.62,2791.75,594.29,11978.220000000001]
[17,{"$f":"паспорт!S27","v":37.5062},1438.58,8024.56,3162.3,818.14,13443.579999999998]
[18,{"$f":"паспорт!S28","v":37.5062},2039.42,12878.55,4902.4399999999996,1188.3,21008.71]
[19,{"$f":"паспорт!S29","v":37.5062},2392.5,13693.48,5267.48,1215.92,22569.379999999997]
[20,{"$f":"паспорт!S30","v":37.5062},2451.35,15087.68,6249.57,1433.09,25221.69]
[21,{"$f":"паспорт!S31","v":37.5062},2129.1999999999998,13468.52,5155.71,1234.8,21988.23]
[22,{"$f":"паспорт!S32","v":37.5062},1444.53,9783.69,3400.07,906.27,15534.560000000001]
[23,{"$f":"паспорт!S33","v":37.5062},1061.94,7492.78,2606.84,637.35,11798.91]
[24,{"$f":"паспорт!S34","v":37.5062},918.96,6636.1,2240.13,532.86,10328.050000000001]
[25,{"$f":"паспорт!S35","v":37.571300000000001},872.3,6240.27,2241.7600000000002,531.09,9885.4200000000019]
[26,{"$f":"паспорт!S36","v":37.571300000000001},835.05,5585.88,1988.01,460.25,8869.19]
[27,{"$f":"паспорт!S37","v":37.571300000000001},895.44,6583.03,2141.19,537.61,10157.27]
[28,{"$f":"паспорт!S38","v":37.571300000000001},932.67,6639.59,2162.64,520.29999999999995,{"$f":"SUM(C34:F34)","v":10255.199999999999}]
[29,{"$f":"паспорт!S39","v":37.571300000000001},751.59,5828.48,1817.82,420.89,8818.7799999999988]
[30,{"$f":"паспорт!S40","v":37.571300000000001},728.33,5687.89,1735.48,397.74,8549.44]
[31,{"$f":"паспорт!S41","v":37.571300000000001},695.5,5403.14,1687.78,373.17,8159.59]
["Загальний обсяг газу, м3",null,{"$f":"SUM(C7:C37)","v":42266.75},{"$f":"SUM(D7:D37)","v":271697.05},{"$f":"SUM(E7:E37)","v":103399.42000000003},{"$f":"SUM(F7:F37)","v":23506.579999999994},{"$f":"SUM(G7:G37)","v":440869.80000000005}]
["Енергія, МДж",null,{"$f":"SUMPRODUCT(B7:B37,C7:C37)","v":1586377.0507799999},{"$f":"SUMPRODUCT(B7:B37,D7:D37)","v":10197966.892831998},{"$f":"SUMPRODUCT(B7:B37,E7:E37)","v":3880897.4831419988},{"$f":"SUMPRODUCT(B7:B37,F7:F37)","v":882248.15316900017},{"$f":"SUMPRODUCT(B7:B37,G7:G37)","v":16547489.579923}]
["Теплота згоряння (середньозважене значення за місяць), МДж/м³",null,{"$f":"C39/C38","v":37.53250606635239},{"$f":"D39/D38","v":37.534330581918347},37.533068204270371,37.531965652553474,37.53373349665366]
["Теплота згоряння (середньозважене значення за місяць), ккал/м³",null,{"$f":"C40*238.8459","v":8964.4851906733966},{"$f":"D40*238.8459","v":8964.9209687358107},8964.619455010341,8964.3561150532223,8964.7783573683901]
["Теплота згоряння (середньозважене значення за місяць), кВт*год./м³",null,{"$f":"C40/3.6","v":10.425696129542331},{"$f":"D40/3.6","v":10.426202939421763},10.425852278963992,10.425546014598186,10.426037082403795]

{"sheet":"додаток","index":2,"n_rows":17,"n_cols":5,"rows_kept":17,"cut":false,"hidden":false,"merged":[[12,0,12,1],[14,0,14,1],[0,0,0,1],[3,2,3,4],[3,1,4,1],[3,0,4,0],[5,0,8,0],[1,0,1,3],[9,0,9,1]]}
[]
["Додаток до Паспорту фізико-хімічних показників природного газу №",null,null,null,99]
[]
["Область","ГРС, прямий споживач","Cередньозважене значення вищої теплоти згоряння"]
[null,null," МДж/м³","ккал/м³","кВт*год./м³"]
["Полтавська область","ГРС Кошманівка",{"$f":"' розрахунок'!C40","v":37.53250606635239},{"$f":"' розрахунок'!C41","v":8964.4851906733966},{"$f":"' розрахунок'!C42","v":10.425696129542331}]
[null,"ГРС Карлівка",{"$f":"' розрахунок'!D40","v":37.534330581918347},{"$f":"' розрахунок'!D41","v":8964.9209687358107},{"$f":"' розрахунок'!D42","v":10.426202939421763}]
[null,"ГРС Попівка",{"$f":"' розрахунок'!E40","v":37.533068204270371},{"$f":"' розрахунок'!E41","v":8964.619455010341},{"$f":"' розрахунок'!E42","v":10.425852278963992}]
[null,"ГРС Халтуріно",{"$f":"' розрахунок'!F40","v":37.531965652553474},{"$f":"' розрахунок'!F41","v":8964.3561150532223},{"$f":"' розрахунок'!F42","v":10.425546014598186}]
["Середньозважене значення вищої теплоти згоряння по маршруту №99",null,{"$f":"' розрахунок'!G40","v":37.53373349665366},{"$f":"' розрахунок'!G41","v":8964.7783573683901},{"$f":"' розрахунок'!G42","v":10.426037082403795}]
[]
[]
["Заступник начальника Диканського ЛВУМГ                                                                                       ",null,"Герасименко І.М.",null,{"$f":"TODAY()","v":"2017-06-01"}]
[]
["Завідувач вимірювальної хіміко-аналітичної лабораторії лабораторії                                                                                                                                                                ",null,"Горшковоз О.В.",null,{"$f":"TODAY()","v":"2017-06-01"}]
[]
["Начальник службиГВ та М",null,"Левадний С.А.",null,{"$f":"TODAY()","v":"2017-06-01"}]

{"sheet":"variablesList","index":3,"n_rows":3,"n_cols":4,"rows_kept":3,"cut":false,"hidden":true,"merged":[]}
[3,"x:\\gaysin","10, 11, 24, 25, 127, 128, 132, 180, 207, 215","x:\\"]
[null,"x:\\Illinci"]
[null,"x:\\Talne"]