{"text_format":"1","workbook":"xlsx","n_sheets":4,"sheets":["паспорт"," розрахунок","додаток","variablesList"],"not_rendered":{"charts":0,"images":0,"macros":1,"external_links":0,"defined_names":3,"comments":0,"pivot_tables":0},"unopened":[],"bounds":{"document_bytes":16777216,"sheet_cells":100000,"rows_first":2000,"rows_last":500,"rows_between":2000,"halvings":0,"cell_chars":16384,"cell_head_chars":4096},"cells_cut":0,"cells_raw":0,"read":"whole","date_system":"1900"}

{"sheet":"паспорт","index":0,"n_rows":50,"n_cols":31,"rows_kept":50,"cut":false,"hidden":false,"merged":[[49,1,49,6],[49,11,49,15],[49,23,49,24],[49,25,49,27],[45,23,45,24],[45,25,45,27],[47,1,47,6],[47,11,47,15],[47,23,47,24],[47,25,47,27],[45,1,45,6],[45,11,45,15],[0,6,0,24],[1,6,1,24],[0,25,0,27],[4,23,4,24],[8,12,9,12],[4,21,4,22],[8,14,8,16],[8,17,8,19],[8,20,8,22],[7,14,7,22],[2,6,2,24],[4,26,4,27],[8,7,9,7],[6,1,7,12],[7,13,9,13],[6,13,6,22],[8,6,9,6],[8,4,9,4],[43,20,43,27],[42,20,42,27],[41,20,41,27],[6,27,9,27],[8,8,9,8],[6,26,9,26],[6,24,9,24],[6,23,9,23],[6,25,9,25],[6,0,9,0],[8,11,9,11],[41,18,42,18],[41,19,42,19],[41,14,42,14],[42,7,42,13],[41,15,42,15],[41,16,42,16],[41,17,42,17],[8,9,9,9],[8,10,9,10],[41,0,41,13],[8,3,9,3],[8,1,9,1],[8,2,9,2],[8,5,9,5]]}
["ПАТ \"УКРТРАНСГАЗ\"",null,null,null,null,null,"ПАСПОРТ ФІЗИКО-ХІМІЧНИХ ПОКАЗНИКІВ ПРИРОДНОГО ГАЗУ  №98"]
["Філія \"УМГ \"Київтрансгаз\"",null,null,null,null,null,"переданогоДиканським ЛВУМГ та прийнятого  ПАТ \"Полтавагаз\""]
["Диканський п/м Диканське ЛВУМГ",null,null,null,null,null,"Маршрут №98"]
["Вимірювальна хіміко-аналітична лабораторія"]
["Свідоцтво № 186-13 чинне до 05.12.2018 р.",null,null,null,null,null,null,null,null,null,"по газопроводу  \"ЄФРЕМІВКА - ДИКАНЬКА - КИЇВ\"",null,null,null,null,null,null,null,null,null,null,"за період з",null,"2017-05-01",null," по","31.05.2017р."]
[]
["Число місяця","Компонентний склад, % мол. ",null,null,null,null,null,null,null,null,null,null,null,"Фізико-хімічні показники газу обчислені на основі компонентного складу, 101,325 кПа",null,null,null,null,null,null,null,null,null,"Температура точки роси за вологою (Р = 3.92 МПа), °С","Температура точки роси за вуглеводнями, °С","Вміст сірководню, г/м3","Вміст меркаптанової сірки, г/м3","Вміст механічних домішок, г/м3"]
[null,null,null,null,null,null,null,null,null,null,null,null,null,"Густина абсолютна, кг/м3,при 20 ºС, ","Температура вимірювання/згоряння при  20/25°С"]
[null,"метан, С1","етан, С2","пропан, С3","ізо-бутан, і-С4","н-бутан, н-С4","нео-пентан, нео-С5","ізо-пентан, і-С5","н-пентан, н-С5","гексани та вищі, С6+","кисень, О2","азот, N2","діоксид вуглецю, CО2",null,"Теплота згоряння нижча",null,null,"Теплота згоряння вища",null,null,"Число Воббе вище"]
[null,null,null,null,null,null,null,null,null,null,null,null,null,null," ккал/м3"," МДж/м3","кВт⋅год/м3"," ккал/м3"," МДж/м3","кВт⋅год/м3"," ккал/м3"," МДж/м3","кВт⋅год/м3",null,null,null,null,null,null,null,"  "]
[1,null,null,null,null,null,null,null,null,null,null,null,null,null,8068.784332457607,33.783999999999999,{"$f":"P11/3.6","v":9.3844444444444441},8940,37.427999999999997,{"$f":"S11/3.6","v":10.396666666666667},null,null,null,null,null,null,null,null,{"$f":"SUM(B11:M11)+$K$42+$N$42","v":0}]
[2,null,null,null,null,null,null,null,null,null,null,null,null,null,8068.784332457607,33.783999999999999,{"$f":"P12/3.6","v":9.3844444444444441},8940,37.427999999999997,{"$f":"S12/3.6","v":10.396666666666667},null,null,null,null,null,null,null,null,0]
[3,null,null,null,null,null,null,null,null,null,null,null,null,null,8068.784332457607,33.783999999999999,9.3844444444444441,8940,37.427999999999997,10.396666666666667,null,null,null,null,null,null,null,null,0,{"$f":"IF(AC13=100,\"ОК\",\" \")","v":" "}]
[4,89.6721,3.6436999999999999,1.0547,0.15310000000000001,0.26029999999999998,4.7999999999999996E-3,8.1199999999999994E-2,7.17E-2,0.1091,3.8E-3,4.4177999999999997,0.52759999999999996,0.74429999999999996,8096.87601,33.9,9.4166666666666661,8969.2845443400001,37.552599999999998,10.431277777777778,11409.266778122763,47.770600000000002,13.268976149689674,-4,-4.3,null,null,null,99.999899999999997,{"$f":"IF(AC14=100,\"ОК\",\" \")","v":" "}]
[5,null,null,null,null,null,null,null,null,null,null,null,null,null,8096.87601,33.9,9.4166666666666661,8969.2845443400001,37.552599999999998,10.431277777777778,null,null,null,null,null,null,null,null,0," "]
[6,null,null,null,null,null,null,null,null,null,null,null,null,null,8096.87601,33.9,9.4166666666666661,8969.2845443400001,37.552599999999998,10.431277777777778,null,null,null,null,null,null,null,null,0," "]
[7,null,null,null,null,null,null,null,null,null,null,null,null,null,8096.87601,33.9,9.4166666666666661,8969.2845443400001,37.552599999999998,10.431277777777778,null,null,null,null,null,null,null,null,0," "]
[8,null,null,null,null,null,null,null,null,null,null,null,null,null,8096.87601,33.9,9.4166666666666661,8969.2845443400001,37.552599999999998,10.431277777777778,null,null,null,null,null,null,null,null,0," "]
[9,null,null,null,null,null,null,null,null,null,null,null,null,null,8096.87601,33.9,9.4166666666666661,8969.2845443400001,37.552599999999998,10.431277777777778,null,null,null,null,null,null,null,null,0," "]
[10,null,null,null,null,null,null,null,null,null,null,null,null,null,8096.87601,33.9,9.4166666666666661,8969.2845443400001,37.552599999999998,10.431277777777778,null,null,null,null,null,null,null,null,0," "]
[11,89.568299999999994,3.6591,1.0612999999999999,0.1517,0.249,4.7999999999999996E-3,7.3800000000000004E-2,6.2199999999999998E-2,0.1225,2.8999999999999998E-3,4.5301,0.51419999999999999,0.74460000000000004,8088.4447497299998,33.864699999999999,9.4068611111111107,8959.9456696500001,37.513500000000001,10.420416666666666,11394.79340816814,47.71,13.252143621844697,2.6,6.6,null,null,null,99.999900000000011," "]
[12,null,null,null,null,null,null,null,null,null,null,null,null,null,8088.4447497299998,33.864699999999999,9.4068611111111107,8959.9456696500001,37.513500000000001,10.420416666666666,null,null,null,null,null,null,null,null,0," "]
[13,null,null,null,null,null,null,null,null,null,null,null,null,null,8088.4447497299998,33.864699999999999,9.4068611111111107,8959.9456696500001,37.513500000000001,10.420416666666666,null,null,null,null,null,null,null,null,0," "]
[14,null,null,null,null,null,null,null,null,null,null,null,null,null,8088.4447497299998,33.864699999999999,9.4068611111111107,8959.9456696500001,37.513500000000001,10.420416666666666,null,null,null,null,null,null,null,null,0," "]
[15,89.477199999999996,3.6718000000000002,1.0506,0.14899999999999999,0.2429,4.7999999999999996E-3,7.2400000000000006E-2,6.1100000000000002E-2,9.4799999999999995E-2,2.5000000000000001E-3,4.6555,0.51739999999999997,0.74419999999999997,8066.8291957800002,33.7742,9.3817222222222227,8936.3715793200008,37.4148,10.392999999999999,11368.067828994508,47.598100000000002,13.221061775873531,3.2,4.3,"<0,006","<0,02","від.",100.00000000000001,"ОК"]
[16,null,null,null,null,null,null,null,null,null,null,null,null,null,8066.8291957800002,33.7742,9.3817222222222227,8936.3715793200008,37.4148,10.392999999999999,null,null,null,null,null,null,null,null,0," "]
[17,null,null,null,null,null,null,null,null,null,null,null,null,null,8066.8291957800002,33.7742,9.3817222222222227,8936.3715793200008,37.4148,10.392999999999999,null,null,null,null,null,null,null,null,0," "]
[18,null,null,null,null,null,null,null,null,null,null,null,null,null,8066.8291957800002,33.7742,9.3817222222222227,8936.3715793200008,37.4148,10.392999999999999,null,null,null,null,null,null,null,null,0," "]
[19,null,null,null,null,null,null,null,null,null,null,null,null,null,8066.8291957800002,33.7742,9.3817222222222227,8936.3715793200008,37.4148,10.392999999999999,null,null,null,null,null,null,null,null,0," "]
[20,null,null,null,null,null,null,null,null,null,null,null,null,null,8066.8291957800002,33.7742,9.3817222222222227,8936.3715793200008,37.4148,10.392999999999999,null,null,null,null,null,null,null,null,0,{"$f":"IF(AC30=100,\"ОК\",\" \")","v":" "}]
[21,null,null,null,null,null,null,null,null,null,null,null,null,null,8066.8291957800002,33.7742,9.3817222222222227,8936.3715793200008,37.4148,10.392999999999999,null,null,null,null,null,null,null,null,0," "]
[22,null,null,null,null,null,null,null,null,null,null,null,null,null,8066.8291957800002,33.7742,9.3817222222222227,8936.3715793200008,37.4148,10.392999999999999,null,null,null,null,null,null,null,null,0," "]
[23,null,null,null,null,null,null,null,null,null,null,null,null,null,8066.8291957800002,33.7742,9.3817222222222227,8936.3715793200008,37.4148,10.392999999999999,null,null,null,null,null,null,null,null,0,{"$f":"IF(AC33=100,\"ОК\",\" \")","v":" "}]
[24,null,null,null,null,null,null,null,null,null,null,null,null,null,8066.8291957800002,33.7742,9.3817222222222227,8936.3715793200008,37.4148,10.392999999999999,null,null,null,null,null,null,null,null,0," "]
[25,89.659899999999993,3.6673,1.0556000000000001,0.14860000000000001,0.24279999999999999,4.7999999999999996E-3,7.0099999999999996E-2,5.8200000000000002E-2,9.4899999999999998E-2,1.0500000000000001E-2,4.4593999999999996,0.52769999999999995,0.74329999999999996,8080.0851432300005,33.829700000000003,9.3971388888888896,8951.1322559399996,37.476599999999998,10.410166666666665,11393.67088607595,47.705300000000001,13.250838128761012,2.9,-0.1,null,null,null,99.999799999999979," "]
[26,null,null,null,null,null,null,null,null,null,null,null,null,null,8080.0851432300005,33.829700000000003,9.3971388888888896,8951.1322559399996,37.476599999999998,10.410166666666665,null,null,null,null,null,null,null,null,0," "]
[27,null,null,null,null,null,null,null,null,null,null,null,null,null,8080.0851432300005,33.829700000000003,9.3971388888888896,8951.1322559399996,37.476599999999998,10.410166666666665,null,null,null,null,null,null,null,null,0," "]
[28,null,null,null,null,null,null,null,null,null,null,null,null,null,8080.0851432300005,33.829700000000003,9.3971388888888896,8951.1322559399996,37.476599999999998,10.410166666666665]
[29,null,null,null,null,null,null,null,null,null,null,null,null,null,8080.0851432300005,33.829700000000003,9.3971388888888896,8951.1322559399996,37.476599999999998,10.410166666666665]
[30,null,null,null,null,null,null,null,null,null,null,null,null,null,8080.0851432300005,33.829700000000003,9.3971388888888896,8951.1322559399996,37.476599999999998,10.410166666666665]
[31,null,null,null,null,null,null,null,null,null,null,null,null,null,8080.0851432300005,33.829700000000003,9.3971388888888896,8951.1322559399996,37.476599999999998,10.410166666666665]
["Рівень одоризації відповідає чинним нормативним документам",null,null,null,null,null,null,null,null,null,null,null,null,null,{"$f":"SUMPRODUCT(O11:O41,' розрахунок'!F7:F37)/' розрахунок'!F38","v":8079.2004635183976},{"$f":"SUMPRODUCT(P11:P41,' розрахунок'!F7:F37)/' розрахунок'!F38","v":33.826133549488475},{"$f":"SUMPRODUCT(Q11:Q41,' розрахунок'!F7:F37)/' розрахунок'!F38","v":9.396148208191244},{"$f":"SUMPRODUCT(R11:R41,' розрахунок'!F7:F37)/' розрахунок'!F38","v":8950.079501525468},{"$f":"SUMPRODUCT(S11:S41,' розрахунок'!F7:F37)/' розрахунок'!F38","v":37.47202266224803},{"$f":"SUMPRODUCT(T11:T41,' розрахунок'!F7:F37)/' розрахунок'!F38","v":10.408895183957787}]
[null,null,null,null,null,null,null,"Середньозважене значення теплоти згоряння:"]
[]
[]
[null,"Заступник начальника Диканського ЛВУМГ                                                                                                                                                                          31.05.2017р.         ",null,null,null,null,null,null,null,null,null,"Герасименко І.М.",null,null,null,null,null,null,null,null,null,null,null,null,null,{"$f":"TODAY()","v":"2017-06-01"}]
[]
[null,"Завідувач лабораторії  Диканського ЛВУМГ                                                                                                                                                                                                                                           ",null,null,null,null,null,null,null,null,null,"Горшковоз О.В.",null,null,null,null,null,null,null,null,null,null,null,null,null,{"$f":"TODAY()","v":"2017-06-01"}]
[]
[null,"Начальник служби ГВМ та М Диканського ЛВУМГ                                                                                                                                                                                                                     ",null,null,null,null,null,null,null,null,null,"Левадний С.А.",null,null,null,null,null,null,null,null,null,null,null,null,null,{"$f":"TODAY()","v":"2017-06-01"}]

{"sheet":" розрахунок","index":1,"n_rows":42,"n_cols":6,"rows_kept":42,"cut":false,"hidden":false,"merged":[[4,2,4,4],[3,2,3,4],[3,5,5,5],[0,0,0,1],[3,0,5,0],[3,1,5,1]]}
[]
["Додаток до Паспорту фізико-хімічних показників природного газу по маршруту №98"]
[]
["Число місяця","Теплота згоряння вища, МДж/м3","Полтавська область",null,null,"Загальний обсяг газу, м3"]
[null,null,"Обсяг газу переданого за добу,  м3 "]
[null,null,"ГРС Ковалівка","ГРС Руновщина","ГРС Божково"]
[1,{"$f":"паспорт!S11","v":37.427999999999997},14811.4,514.37,580.1,{"$f":"SUM(C7:E7)","v":15905.87}]
[2,{"$f":"паспорт!S12","v":37.427999999999997},15285.4,488.38,685.28,16459.059999999998]
[3,{"$f":"паспорт!S13","v":37.427999999999997},15429.18,428.82,512.24,16370.24]
[4,{"$f":"паспорт!S14","v":37.552599999999998},15456.66,390.04,550.16,16396.86]
[5,{"$f":"паспорт!S15","v":37.552599999999998},14884.01,469.35,617.24,15970.6]
[6,{"$f":"паспорт!S16","v":37.552599999999998},14875.15,453.85,609.97,15938.97]
[7,{"$f":"паспорт!S17","v":37.552599999999998},14373.48,422.3,531.91,15327.689999999999]
[8,{"$f":"паспорт!S18","v":37.552599999999998},14186.37,442.39,515.57000000000005,15144.33]
[9,{"$f":"паспорт!S19","v":37.552599999999998},14263.34,507.9,659.51,15430.75]
[10,{"$f":"паспорт!S20","v":37.552599999999998},17722.93,825.28,902.33,19450.54]
[11,{"$f":"паспорт!S21","v":37.513500000000001},18815.23,905.36,1006.02,20726.61]
[12,{"$f":"паспорт!S22","v":37.513500000000001},22051.08,1298.33,1236.18,24585.590000000004]
[13,{"$f":"паспорт!S23","v":37.513500000000001},23647.18,1457.11,1634.12,26738.41]
[14,{"$f":"паспорт!S24","v":37.513500000000001},21422.09,1183.58,1351.2,23956.87]
[15,{"$f":"паспорт!S25","v":37.4148},19027.39,922.05,1029.2,20978.639999999999]
[16,{"$f":"паспорт!S26","v":37.4148},17603.5,603.45000000000005,584.6,18791.55]
[17,{"$f":"паспорт!S27","v":37.4148},18557.52,715.75,840,20113.27]
[18,{"$f":"паспорт!S28","v":37.4148},19982.939999999999,1015.16,969.18,21967.279999999999]
[19,{"$f":"паспорт!S29","v":37.4148},20463.490000000002,1210.02,1261.3,22934.81]
[20,{"$f":"паспорт!S30","v":37.4148},20295.98,1090.6099999999999,1246.26,22632.85]
[21,{"$f":"паспорт!S31","v":37.4148},19067.91,977,1223.5999999999999,21268.51]
[22,{"$f":"паспорт!S32","v":37.4148},17181.650000000001,685.04,757.85,18624.54]
[23,{"$f":"паспорт!S33","v":37.4148},16053.44,520.08000000000004,671.66,17245.18]
[24,{"$f":"паспорт!S34","v":37.4148},15592.14,517.47,477.53,16587.14]
[25,{"$f":"паспорт!S35","v":37.476599999999998},15411.67,418.15,491.77,16321.59]
[26,{"$f":"паспорт!S36","v":37.476599999999998},14933.64,376.44,547,15857.08]
[27,{"$f":"паспорт!S37","v":37.476599999999998},15227.23,471.03,625.48,16323.74]
[28,{"$f":"паспорт!S38","v":37.476599999999998},14932.22,400.95,629.1,{"$f":"SUM(C34:E34)","v":15962.27}]
[29,{"$f":"паспорт!S39","v":37.476599999999998},15424.24,407.52,533.45000000000005,16365.210000000001]
[30,{"$f":"паспорт!S40","v":37.476599999999998},15326.77,319.07,537.99,16183.83]
[31,{"$f":"паспорт!S41","v":37.476599999999998},14517.91,391.31,566.03,15475.25]
["Загальний обсяг газу, м3",null,{"$f":"SUM(C7:C37)","v":526823.1399999999},{"$f":"SUM(D7:D37)","v":20828.160000000003},{"$f":"SUM(E7:E37)","v":24383.829999999998},{"$f":"SUM(F7:F37)","v":572035.13}]
["Енергія, МДж",null,{"$f":"SUMPRODUCT(B7:B37,C7:C37)","v":19741176.011909999},{"$f":"SUMPRODUCT(B7:B37,D7:D37)","v":780434.3890020001},{"$f":"SUMPRODUCT(B7:B37,E7:E37)","v":913702.95404999983},{"$f":"SUMPRODUCT(B7:B37,F7:F37)","v":21435313.354961999}]
["Теплота згоряння (середньозважене значення за місяць), МДж/м³",null,{"$f":"C39/C38","v":37.472112580153563},{"$f":"D39/D38","v":37.470155261050422},37.471675042435905,37.47202266224803]
["Теплота згоряння (середньозважене значення за місяць), ккал/м³",null,{"$f":"C40*238.8459","v":8950.0604541080993},{"$f":"D40*238.8459","v":8949.5929564653234},8949.9559500181422,8950.0389775850272]
["Теплота згоряння (середньозважене значення за місяць), кВт*год./м³",null,{"$f":"C40/3.6","v":10.408920161153768},{"$f":"D40/3.6","v":10.408376461402895},10.408798622898862,10.408895183957785]

{"sheet":"додаток","index":2,"n_rows":15,"n_cols":5,"rows_kept":15,"cut":false,"hidden":false,"merged":[[10,0,10,1],[12,0,12,1],[0,0,0,1],[3,2,3,4],[3,1,4,1],[3,0,4,0],[5,0,7,0],[1,0,1,3],[8,0,8,1]]}
[]
["Додаток до Паспорту фізико-хімічних показників природного газу №",null,null,null,98]
[]
["Область","ГРС, прямий споживач","Cередньозважене значення вищої теплоти згоряння"]
[null,null," МДж/м³","ккал/м³","кВт*год./м³"]
["Полтавська область","ГРС Ковалівка",{"$f":"' розрахунок'!C40","v":37.472112580153563},{"$f":"' розрахунок'!C41","v":8950.0604541080993},{"$f":"' розрахунок'!C42","v":10.408920161153768}]
[null,"ГРС Божково",{"$f":"' розрахунок'!E40","v":37.471675042435905},{"$f":"' розрахунок'!E41","v":8949.9559500181422},{"$f":"' розрахунок'!E42","v":10.408798622898862}]
[null,"ГРС Руновщина",{"$f":"' розрахунок'!D40","v":37.470155261050422},{"$f":"' розрахунок'!D41","v":8949.5929564653234},{"$f":"' розрахунок'!D42","v":10.408376461402895}]
["Середньозважене значення вищої теплоти згоряння по маршруту №98",null,{"$f":"' розрахунок'!F40","v":37.47202266224803},{"$f":"' розрахунок'!F41","v":8950.0389775850272},{"$f":"' розрахунок'!F42","v":10.408895183957785}]
[]
["Заступник начальника Диканського ЛВУМГ                                                                                       ",null,"Герасименко І.М.",null,{"$f":"TODAY()","v":"2017-06-01"}]
[]
["Завідувач вимірювальної хіміко-аналітичної лабораторії лабораторії                                                                                                                                                                ",null,"Горшковоз О.В.",null,{"$f":"TODAY()","v":"2017-06-01"}]
[]
["Начальник службиГВ та М",null,"Левадний С.А.",null,{"$f":"TODAY()","v":"2017-06-01"}]

{"sheet":"variablesList","index":3,"n_rows":3,"n_cols":4,"rows_kept":3,"cut":false,"hidden":true,"merged":[]}
[3,"x:\\gaysin","10, 11, 24, 25, 127, 128, 132, 180, 207, 215","x:\\"]
[null,"x:\\Illinci"]
[null,"x:\\Talne"]