{"text_format":"1","workbook":"xlsx","n_sheets":4,"sheets":["паспорт"," розрахунок","додаток","variablesList"],"not_rendered":{"charts":0,"images":0,"macros":1,"external_links":0,"defined_names":3,"comments":0,"pivot_tables":0},"unopened":[],"bounds":{"document_bytes":16777216,"sheet_cells":100000,"rows_first":2000,"rows_last":500,"rows_between":2000,"halvings":0,"cell_chars":16384,"cell_head_chars":4096},"cells_cut":0,"cells_raw":0,"read":"whole","date_system":"1900"}

{"sheet":"паспорт","index":0,"n_rows":50,"n_cols":31,"rows_kept":50,"cut":false,"hidden":false,"merged":[[49,1,49,6],[49,11,49,15],[49,23,49,24],[49,25,49,27],[45,23,45,24],[45,25,45,27],[47,1,47,6],[47,11,47,15],[47,23,47,24],[47,25,47,27],[45,1,45,6],[45,11,45,15],[0,6,0,24],[1,6,1,24],[0,25,0,27],[4,23,4,24],[8,12,9,12],[4,21,4,22],[8,14,8,16],[8,17,8,19],[8,20,8,22],[7,14,7,22],[2,6,2,24],[4,26,4,27],[8,7,9,7],[6,1,7,12],[7,13,9,13],[6,13,6,22],[8,6,9,6],[8,4,9,4],[43,20,43,27],[42,20,42,27],[41,20,41,27],[6,27,9,27],[8,8,9,8],[6,26,9,26],[6,24,9,24],[6,23,9,23],[6,25,9,25],[6,0,9,0],[8,11,9,11],[41,18,42,18],[41,19,42,19],[41,14,42,14],[42,7,42,13],[41,15,42,15],[41,16,42,16],[41,17,42,17],[8,9,9,9],[8,10,9,10],[41,0,41,13],[8,3,9,3],[8,1,9,1],[8,2,9,2],[8,5,9,5]]}
["ПАТ \"УКРТРАНСГАЗ\"",null,null,null,null,null,"ПАСПОРТ ФІЗИКО-ХІМІЧНИХ ПОКАЗНИКІВ ПРИРОДНОГО ГАЗУ  №96"]
["Філія \"УМГ \"Київтрансгаз\"",null,null,null,null,null,"переданогоДиканським ЛВУМГ та прийнятого  ПАТ \"Полтавагаз\""]
["Диканський п/м Диканське ЛВУМГ",null,null,null,null,null,"Маршрут №96"]
["Вимірювальна хіміко-аналітична лабораторія"]
["Свідоцтво № 186-13 чинне до 05.12.2018 р.",null,null,null,null,null,null,null,null,null,"по газопроводу  \"ШЕБЕЛІНКА - ПОЛТАВА - КИЇВ\"",null,null,null,null,null,null,null,null,null,null,"за період з",null,"2017-05-01",null," по","31.05.2017р."]
[]
["Число місяця","Компонентний склад, % мол. ",null,null,null,null,null,null,null,null,null,null,null,"Фізико-хімічні показники газу обчислені на основі компонентного складу, 101,325 кПа",null,null,null,null,null,null,null,null,null,"Температура точки роси за вологою (Р = 3.92 МПа), °С","Температура точки роси за вуглеводнями, °С","Вміст сірководню, г/м3","Вміст меркаптанової сірки, г/м3","Вміст механічних домішок, г/м3"]
[null,null,null,null,null,null,null,null,null,null,null,null,null,"Густина абсолютна, кг/м3,при 20 ºС, ","Температура вимірювання/згоряння при  20/25°С"]
[null,"метан, С1","етан, С2","пропан, С3","ізо-бутан, і-С4","н-бутан, н-С4","нео-пентан, нео-С5","ізо-пентан, і-С5","н-пентан, н-С5","гексани та вищі, С6+","кисень, О2","азот, N2","діоксид вуглецю, CО2",null,"Теплота згоряння нижча",null,null,"Теплота згоряння вища",null,null,"Число Воббе вище"]
[null,null,null,null,null,null,null,null,null,null,null,null,null,null," ккал/м3"," МДж/м3","кВт⋅год/м3"," ккал/м3"," МДж/м3","кВт⋅год/м3"," ккал/м3"," МДж/м3","кВт⋅год/м3",null,null,null,null,null,null,null,"  "]
[1,null,null,null,null,null,null,null,null,null,null,null,null,null,8315.8824934320528,34.818600000000004,{"$f":"P11/3.6","v":9.6718333333333337},9214,38.574199999999998,{"$f":"S11/3.6","v":10.715055555555555},null,null,null,null,null,null,null,null,{"$f":"SUM(B11:M11)+$K$42+$N$42","v":0}]
[2,null,null,null,null,null,null,null,null,null,null,null,null,null,8315.8824934320528,34.818600000000004,{"$f":"P12/3.6","v":9.6718333333333337},9214,38.574199999999998,{"$f":"S12/3.6","v":10.715055555555555},null,null,null,null,null,null,null,null,0]
[3,null,null,null,null,null,null,null,null,null,null,null,null,null,8315.8824934320528,34.818600000000004,9.6718333333333337,9214,38.574199999999998,10.715055555555555,null,null,null,null,null,null,null,null,0,{"$f":"IF(AC13=100,\"ОК\",\" \")","v":" "}]
[4,null,null,null,null,null,null,null,null,null,null,null,null,null,8315.8824934320528,34.818600000000004,9.6718333333333337,9214,38.574199999999998,10.715055555555555,null,null,null,null,null,null,null,null,0,{"$f":"IF(AC14=100,\"ОК\",\" \")","v":" "}]
[5,null,null,null,null,null,null,null,null,null,null,null,null,null,8315.8824934320528,34.818600000000004,9.6718333333333337,9214,38.574199999999998,10.715055555555555,null,null,null,null,null,null,null,null,0," "]
[6,null,null,null,null,null,null,null,null,null,null,null,null,null,8315.8824934320528,34.818600000000004,9.6718333333333337,9214,38.574199999999998,10.715055555555555,null,null,null,null,null,null,null,null,0," "]
[7,null,null,null,null,null,null,null,null,null,null,null,null,null,8315.8824934320528,34.818600000000004,9.6718333333333337,9214,38.574199999999998,10.715055555555555,null,null,null,null,null,null,null,null,0," "]
[8,null,null,null,null,null,null,null,null,null,null,null,null,null,8315.8824934320528,34.818600000000004,9.6718333333333337,9214,38.574199999999998,10.715055555555555,null,null,null,null,null,null,null,null,0," "]
[9,null,null,null,null,null,null,null,null,null,null,null,null,null,8315.8824934320528,34.818600000000004,9.6718333333333337,9214,38.574199999999998,10.715055555555555,null,null,null,null,null,null,null,null,0," "]
[10,null,null,null,null,null,null,null,null,null,null,null,null,null,8315.8824934320528,34.818600000000004,9.6718333333333337,9214,38.574199999999998,10.715055555555555,null,null,null,null,null,null,null,null,0," "]
[11,null,null,null,null,null,null,null,null,null,null,null,null,null,8315.8824934320528,34.818600000000004,9.6718333333333337,9214,38.574199999999998,10.715055555555555,null,null,null,null,null,null,null,null,0," "]
[12,92.205500000000001,4.1211000000000002,1.0224,0.1429,0.19989999999999999,4.7999999999999996E-3,5.6500000000000002E-2,4.1799999999999997E-2,6.8500000000000005E-2,8.0000000000000002E-3,1.2784,0.85029999999999994,0.73119999999999996,8308.9950537900004,34.7881,9.6633611111111115,9205.2404089499996,38.540500000000002,10.705694444444445,11813.876283735372,49.464700000000001,13.739536965237086,-9.6999999999999993,-12.5,null,null,null,100.0001," "]
[13,null,null,null,null,null,null,null,null,null,null,null,null,null,8308.9950537900004,34.7881,9.6633611111111115,9205.2404089499996,38.540500000000002,10.705694444444445,null,null,null,null,null,null,null,null,0," "]
[14,null,null,null,null,null,null,null,null,null,null,null,null,null,8308.9950537900004,34.7881,9.6633611111111115,9205.2404089499996,38.540500000000002,10.705694444444445,null,null,null,null,null,null,null,null,0," "]
[15,null,null,null,null,null,null,null,null,null,null,null,null,null,8308.9950537900004,34.7881,9.6633611111111115,9205.2404089499996,38.540500000000002,10.705694444444445,null,null,null,null,null,"<0,006","<0,02","від.",0," "]
[16,null,null,null,null,null,null,null,null,null,null,null,null,null,8308.9950537900004,34.7881,9.6633611111111115,9205.2404089499996,38.540500000000002,10.705694444444445,null,null,null,null,null,null,null,null,0," "]
[17,null,null,null,null,null,null,null,null,null,null,null,null,null,8308.9950537900004,34.7881,9.6633611111111115,9205.2404089499996,38.540500000000002,10.705694444444445,null,null,null,null,null,null,null,null,0," "]
[18,92.284300000000002,4.1353,1.0314000000000001,0.14149999999999999,0.19650000000000001,4.8999999999999998E-3,5.5E-2,4.1000000000000002E-2,6.4399999999999999E-2,2.0999999999999999E-3,1.2241,0.81940000000000002,0.73050000000000004,8315.6110852199999,34.815800000000003,9.6710555555555562,9212.6207472599999,38.571399999999997,10.714277777777777,11829.281108192024,49.529200000000003,13.757452774577038,-5,-9.8000000000000007,null,null,null,99.999900000000025," "]
[19,null,null,null,null,null,null,null,null,null,null,null,null,null,8315.6110852199999,34.815800000000003,9.6710555555555562,9212.6207472599999,38.571399999999997,10.714277777777777,null,null,null,null,null,null,null,null,0," "]
[20,null,null,null,null,null,null,null,null,null,null,null,null,null,8315.6110852199999,34.815800000000003,9.6710555555555562,9212.6207472599999,38.571399999999997,10.714277777777777,null,null,null,null,null,null,null,null,0,{"$f":"IF(AC30=100,\"ОК\",\" \")","v":" "}]
[21,null,null,null,null,null,null,null,null,null,null,null,null,null,8315.6110852199999,34.815800000000003,9.6710555555555562,9212.6207472599999,38.571399999999997,10.714277777777777,null,null,null,null,null,null,null,null,0," "]
[22,null,null,null,null,null,null,null,null,null,null,null,null,null,8315.6110852199999,34.815800000000003,9.6710555555555562,9212.6207472599999,38.571399999999997,10.714277777777777,null,null,null,null,null,null,null,null,0," "]
[23,null,null,null,null,null,null,null,null,null,null,null,null,null,8315.6110852199999,34.815800000000003,9.6710555555555562,9212.6207472599999,38.571399999999997,10.714277777777777,null,null,null,null,null,null,null,null,0,{"$f":"IF(AC33=100,\"ОК\",\" \")","v":" "}]
[24,92.102800000000002,4.2332000000000001,1.0915999999999999,0.15060000000000001,0.21099999999999999,5.1999999999999998E-3,5.8900000000000001E-2,3.6799999999999999E-2,6.93E-2,9.5999999999999992E-3,1.2742,0.75690000000000002,0.7319,8335.4352949200002,34.898800000000001,9.6941111111111109,9233.8780323600004,38.660400000000003,10.739000000000001,11845.163601624075,49.595700000000001,13.775924112888767,-4.5999999999999996,-4.5,null,null,null,100.00009999999999," "]
[25,null,null,null,null,null,null,null,null,null,null,null,null,null,8335.4352949200002,34.898800000000001,9.6941111111111109,9233.8780323600004,38.660400000000003,10.739000000000001,null,null,null,null,null,null,null,null,0," "]
[26,null,null,null,null,null,null,null,null,null,null,null,null,null,8335.4352949200002,34.898800000000001,9.6941111111111109,9233.8780323600004,38.660400000000003,10.739000000000001,null,null,null,null,null,null,null,null,0," "]
[27,null,null,null,null,null,null,null,null,null,null,null,null,null,8335.4352949200002,34.898800000000001,9.6941111111111109,9233.8780323600004,38.660400000000003,10.739000000000001,null,null,null,null,null,null,null,null,0," "]
[28,null,null,null,null,null,null,null,null,null,null,null,null,null,8335.4352949200002,34.898800000000001,9.6941111111111109,9233.8780323600004,38.660400000000003,10.739000000000001]
[29,92.274100000000004,4.1266999999999996,1.0494000000000001,0.14410000000000001,0.20269999999999999,4.8999999999999998E-3,5.62E-2,4.1300000000000003E-2,6.8599999999999994E-2,4.8999999999999998E-3,1.2209000000000001,0.80610000000000004,0.73080000000000001,8321.70165567,34.841299999999997,9.6781388888888884,9219.1890095100007,38.5989,10.721916666666667,11835.108669691905,49.553600000000003,13.764230228032769,-3.7,-2.1]
[30,null,null,null,null,null,null,null,null,null,null,null,null,null,8321.70165567,34.841299999999997,9.6781388888888884,9219.1890095100007,38.5989,10.721916666666667]
[31,null,null,null,null,null,null,null,null,null,null,null,null,null,8321.70165567,34.841299999999997,9.6781388888888884,9219.1890095100007,38.5989,10.721916666666667,null,null,null,null,null,null,null,null,0," "]
["Рівень одоризації відповідає чинним нормативним документам",null,null,null,null,null,null,null,null,null,null,null,null,null,{"$f":"SUMPRODUCT(O11:O41,' розрахунок'!E7:E37)/' розрахунок'!E38","v":8315.8493712538075},{"$f":"SUMPRODUCT(P11:P41,' розрахунок'!E7:E37)/' розрахунок'!E38","v":34.817267639297782},{"$f":"SUMPRODUCT(Q11:Q41,' розрахунок'!E7:E37)/' розрахунок'!E38","v":9.6714632331382724},{"$f":"SUMPRODUCT(R11:R41,' розрахунок'!E7:E37)/' розрахунок'!E38","v":9213.0963866616166},{"$f":"SUMPRODUCT(S11:S41,' розрахунок'!E7:E37)/' розрахунок'!E38","v":38.572551072078269},{"$f":"SUMPRODUCT(T11:T41,' розрахунок'!E7:E37)/' розрахунок'!E38","v":10.714597520021742}]
[null,null,null,null,null,null,null,"Середньозважене значення теплоти згоряння:"]
[]
[]
[null,"Заступник начальника Диканського ЛВУМГ                                                                                                                                                                          31.05.2017р.         ",null,null,null,null,null,null,null,null,null,"Герасименко І.М.",null,null,null,null,null,null,null,null,null,null,null,null,null,{"$f":"TODAY()","v":"2017-06-01"}]
[]
[null,"Завідувач лабораторії  Диканського ЛВУМГ                                                                                                                                                                                                                                           ",null,null,null,null,null,null,null,null,null,"Горшковоз О.В.",null,null,null,null,null,null,null,null,null,null,null,null,null,{"$f":"TODAY()","v":"2017-06-01"}]
[]
[null,"Начальник служби ГВМ та М Диканського ЛВУМГ                                                                                                                                                                                                                     ",null,null,null,null,null,null,null,null,null,"Левадний С.А.",null,null,null,null,null,null,null,null,null,null,null,null,null,{"$f":"TODAY()","v":"2017-06-01"}]

{"sheet":" розрахунок","index":1,"n_rows":42,"n_cols":5,"rows_kept":42,"cut":false,"hidden":false,"merged":[[4,2,4,3],[3,2,3,3],[3,4,5,4],[0,0,0,1],[3,0,5,0],[3,1,5,1]]}
[]
["Додаток до Паспорту фізико-хімічних показників природного газу по маршруту №96"]
[]
["Число місяця","Теплота згоряння вища, МДж/м3","Полтавська область",null,"Загальний обсяг газу, м3"]
[null,null,"Обсяг газу переданого за добу,  м3 "]
[null,null,"ГРС Чутово","ГРС Скороходове (Артемівка)"]
[1,{"$f":"паспорт!S11","v":38.574199999999998},0,2398.66,{"$f":"SUM(C7:D7)","v":2398.66}]
[2,{"$f":"паспорт!S12","v":38.574199999999998},0,2394.69,2394.69]
[3,{"$f":"паспорт!S13","v":38.574199999999998},0,2247.75,2247.75]
[4,{"$f":"паспорт!S14","v":38.574199999999998},0,2403.66,2403.66]
[5,{"$f":"паспорт!S15","v":38.574199999999998},0,2480.6,2480.6]
[6,{"$f":"паспорт!S16","v":38.574199999999998},0,2497.61,2497.61]
[7,{"$f":"паспорт!S17","v":38.574199999999998},0,2305.06,2305.06]
[8,{"$f":"паспорт!S18","v":38.574199999999998},0,2432.1999999999998,2432.1999999999998]
[9,{"$f":"паспорт!S19","v":38.574199999999998},0,2924.82,2924.82]
[10,{"$f":"паспорт!S20","v":38.574199999999998},0,4415.25,4415.25]
[11,{"$f":"паспорт!S21","v":38.574199999999998},0,5224.0200000000004,5224.0200000000004]
[12,{"$f":"паспорт!S22","v":38.540500000000002},0,7951.1,7951.1]
[13,{"$f":"паспорт!S23","v":38.540500000000002},0,8821.2199999999993,8821.2199999999993]
[14,{"$f":"паспорт!S24","v":38.540500000000002},0,6811.88,6811.88]
[15,{"$f":"паспорт!S25","v":38.540500000000002},0,4604.13,4604.13]
[16,{"$f":"паспорт!S26","v":38.540500000000002},0,2979.83,2979.83]
[17,{"$f":"паспорт!S27","v":38.540500000000002},0,3808.22,3808.22]
[18,{"$f":"паспорт!S28","v":38.571399999999997},0,5825.49,5825.49]
[19,{"$f":"паспорт!S29","v":38.571399999999997},0,6281.15,6281.15]
[20,{"$f":"паспорт!S30","v":38.571399999999997},0,5970.53,5970.53]
[21,{"$f":"паспорт!S31","v":38.571399999999997},0,4996.2299999999996,4996.2299999999996]
[22,{"$f":"паспорт!S32","v":38.571399999999997},0,3602.94,3602.94]
[23,{"$f":"паспорт!S33","v":38.571399999999997},0,2600.12,2600.12]
[24,{"$f":"паспорт!S34","v":38.660400000000003},0,2266.85,2266.85]
[25,{"$f":"паспорт!S35","v":38.660400000000003},0,2116.7399999999998,2116.7399999999998]
[26,{"$f":"паспорт!S36","v":38.660400000000003},0,2060.54,2060.54]
[27,{"$f":"паспорт!S37","v":38.660400000000003},0,2187.88,2187.88]
[28,{"$f":"паспорт!S38","v":38.660400000000003},0,2300.5300000000002,{"$f":"SUM(C34:D34)","v":2300.5300000000002}]
[29,{"$f":"паспорт!S39","v":38.5989},0,1856.04,1856.04]
[30,{"$f":"паспорт!S40","v":38.5989},0,1734.85,1734.85]
[31,{"$f":"паспорт!S41","v":38.5989},0,1798.58,1798.58]
["Загальний обсяг газу, м3",null,{"$f":"SUM(C7:C37)","v":0},{"$f":"SUM(D7:D37)","v":112299.17},{"$f":"SUM(E7:E37)","v":112299.17}]
["Енергія, МДж",null,{"$f":"SUMPRODUCT(B7:B37,C7:C37)","v":0},{"$f":"SUMPRODUCT(B7:B37,D7:D37)","v":4331665.4701769995},{"$f":"SUMPRODUCT(B7:B37,E7:E37)","v":4331665.4701769995}]
["Теплота згоряння (середньозважене значення за місяць), МДж/м³",null,{"$f":"C39/C38","v":{"$error":"#DIV/0!"}},38.572551072078269,38.572551072078269]
["Теплота згоряння (середньозважене значення за місяць), ккал/м³",null,{"$f":"C40*238.8459","v":{"$error":"#DIV/0!"}},9212.8956761064983,9212.8956761064983]
["Теплота згоряння (середньозважене значення за місяць), кВт*год./м³",null,{"$f":"C40/3.6","v":{"$error":"#DIV/0!"}},10.714597520021741,10.714597520021741]

{"sheet":"додаток","index":2,"n_rows":15,"n_cols":5,"rows_kept":15,"cut":false,"hidden":false,"merged":[[10,0,10,1],[12,0,12,1],[0,0,0,1],[3,2,3,4],[3,1,4,1],[3,0,4,0],[5,0,6,0],[1,0,1,3],[7,0,7,1]]}
[]
["Додаток до Паспорту фізико-хімічних показників природного газу №",null,null,null,96]
[]
["Область","ГРС, прямий споживач","Cередньозважене значення вищої теплоти згоряння"]
[null,null," МДж/м³","ккал/м³","кВт*год./м³"]
["Полтавська область","ГРС Чутово","зупинка"]
[null,"ГРС Скороходове (Артемівка)",{"$f":"' розрахунок'!D40","v":38.572551072078269},{"$f":"' розрахунок'!D41","v":9212.8956761064983},{"$f":"' розрахунок'!E42","v":10.714597520021741}]
["Середньозважене значення вищої теплоти згоряння по маршруту №96",null,{"$f":"' розрахунок'!E40","v":38.572551072078269},{"$f":"' розрахунок'!E41","v":9212.8956761064983},{"$f":"' розрахунок'!E42","v":10.714597520021741}]
[]
[]
["Заступник начальника Диканського ЛВУМГ                                                                                       ",null,"Герасименко І.М.",null,{"$f":"TODAY()","v":"2017-06-01"}]
[]
["Завідувач вимірювальної хіміко-аналітичної лабораторії лабораторії                                                                                                                                                                ",null,"Горшковоз О.В.",null,{"$f":"TODAY()","v":"2017-06-01"}]
[]
["Начальник службиГВ та М",null,"Левадний С.А.",null,{"$f":"TODAY()","v":"2017-06-01"}]

{"sheet":"variablesList","index":3,"n_rows":3,"n_cols":4,"rows_kept":3,"cut":false,"hidden":true,"merged":[]}
[3,"x:\\gaysin","10, 11, 24, 25, 127, 128, 132, 180, 207, 215","x:\\"]
[null,"x:\\Illinci"]
[null,"x:\\Talne"]