{"text_format":"1","workbook":"xlsx","n_sheets":4,"sheets":["паспорт"," розрахунок","додаток","variablesList"],"not_rendered":{"charts":0,"images":0,"macros":1,"external_links":0,"defined_names":3,"comments":0,"pivot_tables":0},"unopened":[],"bounds":{"document_bytes":16777216,"sheet_cells":100000,"rows_first":2000,"rows_last":500,"rows_between":2000,"halvings":0,"cell_chars":16384,"cell_head_chars":4096},"cells_cut":0,"cells_raw":0,"read":"whole","date_system":"1900"}

{"sheet":"паспорт","index":0,"n_rows":50,"n_cols":31,"rows_kept":50,"cut":false,"hidden":false,"merged":[[45,25,45,27],[47,25,47,27],[49,25,49,27],[49,23,49,24],[45,1,45,6],[47,1,47,6],[49,1,49,6],[45,11,45,15],[47,11,47,15],[49,11,49,15],[45,23,45,24],[47,23,47,24],[6,0,9,0],[8,11,9,11],[41,18,42,18],[41,19,42,19],[41,14,42,14],[42,7,42,13],[41,15,42,15],[41,16,42,16],[41,17,42,17],[8,9,9,9],[8,10,9,10],[6,25,9,25],[41,0,41,13],[8,3,9,3],[43,20,43,27],[42,20,42,27],[41,20,41,27],[6,27,9,27],[8,8,9,8],[6,26,9,26],[6,24,9,24],[6,23,9,23],[8,1,9,1],[8,2,9,2],[8,5,9,5],[8,6,9,6],[8,4,9,4],[0,6,0,24],[1,6,1,24],[0,25,0,27],[4,23,4,24],[8,12,9,12],[4,21,4,22],[8,14,8,16],[8,17,8,19],[8,20,8,22],[7,14,7,22],[2,6,2,24],[4,26,4,27],[8,7,9,7],[6,1,7,12],[7,13,9,13],[6,13,6,22]]}
["ПАТ \"УКРТРАНСГАЗ\"",null,null,null,null,null,"ПАСПОРТ ФІЗИКО-ХІМІЧНИХ ПОКАЗНИКІВ ПРИРОДНОГО ГАЗУ  №92"]
["Філія \"УМГ \"Київтрансгаз\"",null,null,null,null,null,"переданогоДиканським ЛВУМГ та прийнятого  ПАТ \"Полтавагаз\""]
["Диканський п/м Диканське ЛВУМГ",null,null,null,null,null,"Маршрут №92"]
["Вимірювальна хіміко-аналітична лабораторія"]
["Свідоцтво № 186-13 чинне до 05.12.2018 р.",null,null,null,null,null,null,null,null,null,"по газопроводу  \"ШЕБЕЛІНКА - ПОЛТАВА - КИЇВ\"",null,null,null,null,null,null,null,null,null,null,"за період з",null,"2017-05-01",null," по","31.05.2017р."]
[]
["Число місяця","Компонентний склад, % мол. ",null,null,null,null,null,null,null,null,null,null,null,"Фізико-хімічні показники газу обчислені на основі компонентного складу, 101,325 кПа",null,null,null,null,null,null,null,null,null,"Температура точки роси за вологою (Р = 3.92 МПа), °С","Температура точки роси за вуглеводнями, °С","Вміст сірководню, г/м3","Вміст меркаптанової сірки, г/м3","Вміст механічних домішок, г/м3"]
[null,null,null,null,null,null,null,null,null,null,null,null,null,"Густина абсолютна, кг/м3,при 20 ºС, ","Температура вимірювання/згоряння при  20/25°С"]
[null,"метан, С1","етан, С2","пропан, С3","ізо-бутан, і-С4","н-бутан, н-С4","нео-пентан, нео-С5","ізо-пентан, і-С5","н-пентан, н-С5","гексани та вищі, С6+","кисень, О2","азот, N2","діоксид вуглецю, CО2",null,"Теплота згоряння нижча",null,null,"Теплота згоряння вища",null,null,"Число Воббе вище"]
[null,null,null,null,null,null,null,null,null,null,null,null,null,null," ккал/м3"," МДж/м3","кВт⋅год/м3"," ккал/м3"," МДж/м3","кВт⋅год/м3"," ккал/м3"," МДж/м3","кВт⋅год/м3",null,null,null,null,null,null,null,"  "]
[1,null,null,null,null,null,null,null,null,null,null,null,null,null,8265.7750179125869,34.608800000000002,{"$f":"P11/3.6","v":9.6135555555555552},9156.1977549558178,38.337000000000003,{"$f":"S11/3.6","v":10.649166666666668},null,null,null,null,null,null,null,null,{"$f":"SUM(B11:M11)+$K$42+$N$42","v":0}]
[2,null,null,null,null,null,null,null,null,null,null,null,null,null,8265.7750179125869,34.608800000000002,{"$f":"P12/3.6","v":9.6135555555555552},9156.1977549558178,38.337000000000003,{"$f":"S12/3.6","v":10.649166666666668},null,null,null,null,null,null,null,null,0]
[3,null,null,null,null,null,null,null,null,null,null,null,null,null,8265.7750179125869,34.608800000000002,9.6135555555555552,9156.1977549558178,38.337000000000003,10.649166666666668,null,null,null,null,null,null,null,null,0,{"$f":"IF(AC13=100,\"ОК\",\" \")","v":" "}]
[4,null,null,null,null,null,null,null,null,null,null,null,null,null,8265.7750179125869,34.608800000000002,9.6135555555555552,9156.1977549558178,38.337000000000003,10.649166666666668,null,null,null,null,null,null,null,null,0,{"$f":"IF(AC14=100,\"ОК\",\" \")","v":" "}]
[5,null,null,null,null,null,null,null,null,null,null,null,null,null,8265.7750179125869,34.608800000000002,9.6135555555555552,9156.1977549558178,38.337000000000003,10.649166666666668,null,null,null,null,null,null,null,null,0," "]
[6,null,null,null,null,null,null,null,null,null,null,null,null,null,8265.7750179125869,34.608800000000002,9.6135555555555552,9156.1977549558178,38.337000000000003,10.649166666666668,null,null,null,null,null,null,null,null,0," "]
[7,null,null,null,null,null,null,null,null,null,null,null,null,null,8265.7750179125869,34.608800000000002,9.6135555555555552,9156.1977549558178,38.337000000000003,10.649166666666668,null,null,null,null,null,null,null,null,0," "]
[8,null,null,null,null,null,null,null,null,null,null,null,null,null,8265.7750179125869,34.608800000000002,9.6135555555555552,9156.1977549558178,38.337000000000003,10.649166666666668,null,null,null,null,null,null,null,null,0," "]
[9,null,null,null,null,null,null,null,null,null,null,null,null,null,8265.7750179125869,34.608800000000002,9.6135555555555552,9156.1977549558178,38.337000000000003,10.649166666666668,null,null,null,null,null,null,null,null,0," "]
[10,null,null,null,null,null,null,null,null,null,null,null,null,null,8265.7750179125869,34.608800000000002,9.6135555555555552,9156.1977549558178,38.337000000000003,10.649166666666668,null,null,null,null,null,null,null,null,0," "]
[11,null,null,null,null,null,null,null,null,null,null,null,null,null,8265.7750179125869,34.608800000000002,9.6135555555555552,9156.1977549558178,38.337000000000003,10.649166666666668,null,null,null,null,null,null,null,null,0," "]
[12,90.915099999999995,4.4432999999999998,1.0720000000000001,0.1244,0.19009999999999999,3.8999999999999998E-3,5.5399999999999998E-2,4.4699999999999997E-2,7.2300000000000003E-2,1.4E-2,2.1295999999999999,0.93510000000000004,0.73860000000000003,8256.1623407099996,34.566899999999997,9.601916666666666,9145.6961260800017,38.291200000000003,10.636444444444445,11678.719847145929,48.898800000000001,13.582350042671548,null,null,null,null,null,99.999899999999997," "]
[13,null,null,null,null,null,null,null,null,null,null,null,null,null,8257.1623407099996,34.567,9.6019444444444435,9145.6961260800017,38.2913,10.636472222222222,null,null,null,null,null,null,null,null,0," "]
[14,null,null,null,null,null,null,null,null,null,null,null,null,null,8258.1623407099996,34.567100000000003,9.6019722222222228,9145.6961260800017,38.291400000000003,10.6365,null,null,null,null,null,null,null,null,0," "]
[15,null,null,null,null,null,null,null,null,null,null,null,null,null,8259.1623407099996,34.5672,9.6020000000000003,9145.6961260800017,38.291499999999999,10.636527777777777,null,null,null,null,null,"<0,006","<0,02","від.",0," "]
[16,null,null,null,null,null,null,null,null,null,null,null,null,null,8260.1623407099996,34.567300000000003,9.6020277777777778,9145.6961260800017,38.291600000000003,10.636555555555557,null,null,null,null,null,null,null,null,0," "]
[17,90.980999999999995,4.4119000000000002,1.0721000000000001,0.1249,0.192,3.8999999999999998E-3,5.6599999999999998E-2,4.5600000000000002E-2,7.1099999999999997E-2,8.9999999999999993E-3,2.0981999999999998,0.93369999999999997,0.73819999999999997,8257.7626082400002,34.573599999999999,9.6037777777777773,9147.5352395100017,38.298900000000003,10.638583333333335,11683.735371387629,48.919800000000002,13.588183096875252,-6.8,-3.7,null,null,null,100,"ОК"]
[18,null,null,null,null,null,null,null,null,null,null,null,null,null,8258.7626082400002,34.573700000000002,9.6038055555555566,9147.5352395100017,38.298999999999999,10.638611111111111,null,null,null,null,null,null,null,null,0," "]
[19,null,null,null,null,null,null,null,null,null,null,null,null,null,8259.7626082400002,34.573799999999999,9.6038333333333323,9147.5352395100017,38.299100000000003,10.63863888888889,null,null,null,null,null,null,null,null,0," "]
[20,null,null,null,null,null,null,null,null,null,null,null,null,null,8260.7626082400002,34.573900000000002,9.6038611111111116,9147.5352395100017,38.299199999999999,10.638666666666666,null,null,null,null,null,null,null,null,0,{"$f":"IF(AC30=100,\"ОК\",\" \")","v":" "}]
[21,null,null,null,null,null,null,null,null,null,null,null,null,null,8261.7626082400002,34.573999999999998,9.6038888888888874,9147.5352395100017,38.299300000000002,10.638694444444445,null,null,null,null,null,null,null,null,0," "]
[22,90.928399999999996,4.4336000000000002,1.0922000000000001,0.12720000000000001,0.19500000000000001,3.8999999999999998E-3,5.6099999999999997E-2,4.5199999999999997E-2,7.2099999999999997E-2,7.3000000000000001E-3,2.0861000000000001,0.95299999999999996,0.7389,8262.27679575,34.592500000000001,9.6090277777777775,9152.3599266900001,38.319099999999999,10.644194444444445,11684.977310723669,48.924999999999997,13.589627472201883,null,null,null,null,null,100.0001," "]
[23,null,null,null,null,null,null,null,null,null,null,null,null,null,8263.27679575,34.592599999999997,9.609055555555555,9152.3599266900001,38.319200000000002,10.644222222222222,null,null,null,null,null,null,null,null,0,{"$f":"IF(AC33=100,\"ОК\",\" \")","v":" "}]
[24,null,null,null,null,null,null,null,null,null,null,null,null,null,8264.27679575,34.592700000000001,9.6090833333333325,9152.3599266900001,38.319299999999998,10.64425,null,null,null,null,null,null,null,null,0," "]
[25,null,null,null,null,null,null,null,null,null,null,null,null,null,8265.27679575,34.592799999999997,9.60911111111111,9152.3599266900001,38.319400000000002,10.644277777777779,null,null,null,null,null,null,null,null,0," "]
[26,null,null,null,null,null,null,null,null,null,null,null,null,null,8266.27679575,34.5929,9.6091388888888893,9152.3599266900001,38.319499999999998,10.644305555555555,null,null,null,null,null,null,null,null,0," "]
[27,null,null,null,null,null,null,null,null,null,null,null,null,null,8267.27679575,34.593000000000004,9.6091666666666669,9152.3599266900001,38.319600000000001,10.644333333333334,null,null,null,null,null,null,null,null,0," "]
[28,null,null,null,null,null,null,null,null,null,null,null,null,null,8268.27679575,34.5931,9.6091944444444444,9152.3599266900001,38.319699999999997,10.64436111111111,null,null,null,null,null,null,null,null,0]
[29,90.934700000000007,4.4067999999999996,1.1045,0.12989999999999999,0.20169999999999999,4.0000000000000001E-3,5.8999999999999997E-2,4.8099999999999997E-2,8.1600000000000006E-2,1.61E-2,2.0707,0.94289999999999996,0.73929999999999996,8269.5854802899994,34.623100000000001,9.6175277777777772,9160.2418413899995,38.3521,10.653361111111112,11691.616909481731,48.952800000000003,13.597349324909645,2.8,5.6,null,null,null,100.00000000000001]
[30,null,null,null,null,null,null,null,null,null,null,null,null,null,8270.5854802899994,34.623199999999997,9.6175555555555547,9160.2418413899995,38.352200000000003,10.653388888888889,null,null,null,null,null,null,null,null,0]
[31,null,null,null,null,null,null,null,null,null,null,null,null,null,8271.5854802899994,34.6233,9.617583333333334,9160.2418413899995,38.3523,10.653416666666667,null,null,null,null,null,null,null,null,0]
["Рівень одоризації відповідає чинним нормативним документам",null,null,null,null,null,null,null,null,null,null,null,null,null,{"$f":"SUMPRODUCT(O11:O41,' розрахунок'!E7:E37)/' розрахунок'!E38","v":8262.342084677397},{"$f":"SUMPRODUCT(P11:P41,' розрахунок'!E7:E37)/' розрахунок'!E38","v":34.587657308764491},{"$f":"SUMPRODUCT(Q11:Q41,' розрахунок'!E7:E37)/' розрахунок'!E38","v":9.6076825857679147},{"$f":"SUMPRODUCT(R11:R41,' розрахунок'!E7:E37)/' розрахунок'!E38","v":9150.9584294031047},{"$f":"SUMPRODUCT(S11:S41,' розрахунок'!E7:E37)/' розрахунок'!E38","v":38.313923802339588},{"$f":"SUMPRODUCT(T11:T41,' розрахунок'!E7:E37)/' розрахунок'!E38","v":10.642756611760994}]
[null,null,null,null,null,null,null,"Середньозважене значення теплоти згоряння:"]
[]
[]
[null,"Заступник начальника Диканського ЛВУМГ                                                                                                                                                                          31.05.2017р.         ",null,null,null,null,null,null,null,null,null,"Герасименко І.М.",null,null,null,null,null,null,null,null,null,null,null,null,null,{"$f":"TODAY()","v":"2017-06-01"}]
[]
[null,"Завідувач лабораторії  Диканського ЛВУМГ                                                                                                                                                                                                                                           ",null,null,null,null,null,null,null,null,null,"Горшковоз О.В.",null,null,null,null,null,null,null,null,null,null,null,null,null,{"$f":"TODAY()","v":"2017-06-01"}]
[]
[null,"Начальник служби ГВМ та М Диканського ЛВУМГ                                                                                                                                                                                                                     ",null,null,null,null,null,null,null,null,null,"Левадний С.А.",null,null,null,null,null,null,null,null,null,null,null,null,null,{"$f":"TODAY()","v":"2017-06-01"}]

{"sheet":" розрахунок","index":1,"n_rows":42,"n_cols":5,"rows_kept":42,"cut":false,"hidden":false,"merged":[[4,2,4,3],[3,2,3,3],[3,4,5,4],[0,0,0,1],[3,0,5,0],[3,1,5,1]]}
[]
["Додаток до Паспорту фізико-хімічних показників природного газу по маршруту №92"]
[]
["Число місяця","Теплота згоряння вища, МДж/м3","Полтавська область",null,"Загальний обсяг газу, м3"]
[null,null,"Обсяг газу переданого за добу,  м3 "]
[null,null,"ГРС Орданівка","ГРС Пришиб"]
[1,{"$f":"паспорт!S11","v":38.337000000000003},1038.07,370.66,{"$f":"SUM(C7:D7)","v":1408.73}]
[2,{"$f":"паспорт!S12","v":38.337000000000003},1060.48,366.92,1427.4]
[3,{"$f":"паспорт!S13","v":38.337000000000003},945.11,307.14999999999998,1252.26]
[4,{"$f":"паспорт!S14","v":38.337000000000003},1027.94,320.33999999999997,1348.28]
[5,{"$f":"паспорт!S15","v":38.337000000000003},1061.73,319.69,1381.42]
[6,{"$f":"паспорт!S16","v":38.337000000000003},1123.6600000000001,351.73,1475.39]
[7,{"$f":"паспорт!S17","v":38.337000000000003},1057.96,307.56,1365.52]
[8,{"$f":"паспорт!S18","v":38.337000000000003},1110.29,359.36,1469.65]
[9,{"$f":"паспорт!S19","v":38.337000000000003},1204.83,433.4,1638.23]
[10,{"$f":"паспорт!S20","v":38.337000000000003},2078.25,718.26,2796.51]
[11,{"$f":"паспорт!S21","v":38.337000000000003},2221.02,798.12,3019.14]
[12,{"$f":"паспорт!S22","v":38.291200000000003},3180.72,1180.4100000000001,4361.13]
[13,{"$f":"паспорт!S23","v":38.2913},3404.33,1244.19,4648.5200000000004]
[14,{"$f":"паспорт!S24","v":38.291400000000003},3060.98,1048.69,4109.67]
[15,{"$f":"паспорт!S25","v":38.291499999999999},1792.04,526.41999999999996,2318.46]
[16,{"$f":"паспорт!S26","v":38.291600000000003},1219.4000000000001,403.62,1623.02]
[17,{"$f":"паспорт!S27","v":38.298900000000003},1370.09,524.41,1894.5]
[18,{"$f":"паспорт!S28","v":38.298999999999999},1952.91,654.9,2607.81]
[19,{"$f":"паспорт!S29","v":38.299100000000003},2493.06,873.5,3366.56]
[20,{"$f":"паспорт!S30","v":38.299199999999999},2413.92,816.47,3230.3900000000003]
[21,{"$f":"паспорт!S31","v":38.299300000000002},2046.49,649.66999999999996,2696.16]
[22,{"$f":"паспорт!S32","v":38.319099999999999},1333.56,432.79,1766.35]
[23,{"$f":"паспорт!S33","v":38.319200000000002},1075.1600000000001,353.42,1428.5800000000002]
[24,{"$f":"паспорт!S34","v":38.319299999999998},907.12,299.58999999999997,1206.71]
[25,{"$f":"паспорт!S35","v":38.319400000000002},824.21,306.26,1130.47]
[26,{"$f":"паспорт!S36","v":38.319499999999998},804.45,173.46,977.91000000000008]
[27,{"$f":"паспорт!S37","v":38.319600000000001},913.06,336.7,1249.76]
[28,{"$f":"паспорт!S38","v":38.319699999999997},1021.21,305.85000000000002,{"$f":"SUM(C34:D34)","v":1327.06}]
[29,{"$f":"паспорт!S39","v":38.3521},758.94,190.68,949.62000000000012]
[30,{"$f":"паспорт!S40","v":38.352200000000003},787.99,185.53,973.52]
[31,{"$f":"паспорт!S41","v":38.3523},754.96,220.44,{"$f":"SUM(C37:D37)","v":975.40000000000009}]
["Загальний обсяг газу, м3",null,{"$f":"SUM(C7:C37)","v":46043.939999999995},{"$f":"SUM(D7:D37)","v":15380.190000000004},{"$f":"SUM(E7:E37)","v":61424.12999999999}]
["Енергія, МДж",null,{"$f":"SUMPRODUCT(B7:B37,C7:C37)","v":1764133.282409},{"$f":"SUMPRODUCT(B7:B37,D7:D37)","v":589266.15403600002},{"$f":"SUMPRODUCT(B7:B37,E7:E37)","v":2353399.4364450006}]
["Теплота згоряння (середньозважене значення за місяць), МДж/м³",null,{"$f":"C39/C38","v":38.314125211895423},38.313320839079353,38.313923802339588]
["Теплота згоряння (середньозважене значення за місяць), ккал/м³",null,{"$f":"C40*238.8459","v":9151.1717189478532},9150.9795977986632,9151.1236131012211]
["Теплота згоряння (середньозважене значення за місяць), кВт*год./м³",null,{"$f":"C40/3.6","v":10.642812558859839},10.642589121966486,10.642756611760996]

{"sheet":"додаток","index":2,"n_rows":16,"n_cols":5,"rows_kept":16,"cut":false,"hidden":false,"merged":[[11,0,11,1],[13,0,13,1],[0,0,0,1],[3,2,3,4],[3,1,4,1],[3,0,4,0],[5,0,6,0],[1,0,1,3],[7,0,7,1]]}
[]
["Додаток до Паспорту фізико-хімічних показників природного газу №",null,null,null,92]
[]
["Область","ГРС, прямий споживач","Cередньозважене значення вищої теплоти згоряння"]
[null,null," МДж/м³","ккал/м³","кВт*год./м³"]
["Полтавська область","ГРС Орданівка",{"$f":"' розрахунок'!C40","v":38.314125211895423},{"$f":"' розрахунок'!C41","v":9151.1717189478532},{"$f":"' розрахунок'!C42","v":10.642812558859839}]
[null,"ГРС Пришиб",{"$f":"' розрахунок'!D40","v":38.313320839079353},{"$f":"' розрахунок'!D41","v":9150.9795977986632},{"$f":"' розрахунок'!D42","v":10.642589121966486}]
["Середньозважене значення вищої теплоти згоряння по маршруту №92",null,{"$f":"' розрахунок'!E40","v":38.313923802339588},{"$f":"' розрахунок'!E41","v":9151.1236131012211},{"$f":"' розрахунок'!E42","v":10.642756611760996}]
[]
[]
[]
["Заступник начальника Диканського ЛВУМГ                                                                                       ",null,"Герасименко І.М.",null,{"$f":"TODAY()","v":"2017-06-01"}]
[]
["Завідувач вимірювальної хіміко-аналітичної лабораторії лабораторії                                                                                                                                                                ",null,"Горшковоз О.В.",null,{"$f":"TODAY()","v":"2017-06-01"}]
[]
["Начальник службиГВ та М",null,"Левадний С.А.",null,{"$f":"TODAY()","v":"2017-06-01"}]

{"sheet":"variablesList","index":3,"n_rows":3,"n_cols":4,"rows_kept":3,"cut":false,"hidden":true,"merged":[]}
[3,"x:\\gaysin","10, 11, 24, 25, 127, 128, 132, 180, 207, 215","x:\\"]
[null,"x:\\Illinci"]
[null,"x:\\Talne"]