{"text_format":"1","workbook":"xlsx","n_sheets":4,"sheets":["паспорт"," розрахунок","додаток","variablesList"],"not_rendered":{"charts":0,"images":0,"macros":1,"external_links":10,"defined_names":3,"comments":0,"pivot_tables":0},"unopened":[],"bounds":{"document_bytes":16777216,"sheet_cells":100000,"rows_first":2000,"rows_last":500,"rows_between":2000,"halvings":0,"cell_chars":16384,"cell_head_chars":4096},"cells_cut":0,"cells_raw":0,"read":"whole","date_system":"1900"}

{"sheet":"паспорт","index":0,"n_rows":51,"n_cols":31,"rows_kept":51,"cut":false,"hidden":false,"merged":[[6,0,9,0],[49,1,49,26],[8,11,9,11],[41,18,42,18],[41,19,42,19],[41,14,42,14],[42,7,42,13],[41,15,42,15],[41,16,42,16],[41,17,42,17],[8,9,9,9],[8,10,9,10],[6,25,9,25],[45,1,45,26],[41,0,41,13],[8,3,9,3],[47,1,47,26],[43,20,43,27],[42,20,42,27],[41,20,41,27],[6,27,9,27],[8,8,9,8],[6,26,9,26],[6,24,9,24],[6,23,9,23],[8,1,9,1],[8,2,9,2],[8,5,9,5],[8,6,9,6],[8,4,9,4],[0,6,0,24],[1,6,1,24],[0,25,0,27],[4,23,4,24],[8,12,9,12],[4,21,4,22],[8,14,8,16],[8,17,8,19],[8,20,8,22],[7,14,7,22],[2,6,2,24],[4,26,4,27],[8,7,9,7],[6,1,7,12],[7,13,9,13],[6,13,6,22]]}
["ПАТ \"УКРТРАНСГАЗ\"",null,null,null,null,null,"ПАСПОРТ ФІЗИКО-ХІМІЧНИХ ПОКАЗНИКІВ ПРИРОДНОГО ГАЗУ  № 63"]
["Філія \"УМГ \"Київтрансгаз\"",null,null,null,null,null,"переданого Лубенським  ЛВУМГ та прийнятого  ПАТ \"Лубнигаз\", ПАТ \"Полтавагаз\""]
["Лубенський п/м  Лубенське  ЛВУМГ",null,null,null,null,null,"Маршрут № 63"]
["Вимірювальна хіміко-аналітична лабораторія"]
["Свідоцтво №  199-15  чинно до 31.12.2018 р.",null,null,null,null,null,null,null,null,null,"по газопроводу  \" Єлецьк-Курськ-Київ \"",null,null,null,null,null,null,null,null,null,null,"за період з",null,"2017-05-01",null," по","2017-05-31"]
[]
["Число місяця","Компонентний склад, % мол. ",null,null,null,null,null,null,null,null,null,null,null,"Фізико-хімічні показники газу обчислені на основі компонентного складу, 101,325 кПа",null,null,null,null,null,null,null,null,null,"Температура точки роси  за вологою (Р = 3.92 МПа), ºС","Температура точки роси за  вуглеводнями, ºС","Вміст сірководню, г/м3","Вміст меркаптанової сірки, г/м3","Вміст механічних домішок, г/м3"]
[null,null,null,null,null,null,null,null,null,null,null,null,null,"Густина абсолютна, кг/м3,при 20 ºС, ","Температура вимірювання/згоряння при  20/25°С"]
[null,"метан, С1","етан, С2","пропан, С3","ізо-бутан, і-С4","н-бутан, н-С4","нео-пентан, нео-С5","ізо-пентан, і-С5","н-пентан, н-С5","гексани та вищі, С6+","кисень, О2","азот, N2","діоксид вуглецю, CО2",null,"Теплота згоряння нижча",null,null,"Теплота згоряння вища",null,null,"Число Воббе вище"]
[null,null,null,null,null,null,null,null,null,null,null,null,null,null," ккал/м3"," МДж/м3","кВт⋅год/м3"," ккал/м3"," МДж/м3","кВт⋅год/м3"," ккал/м3"," МДж/м3","кВт⋅год/м3",null,null,null,null,null,null,null,"  "]
[1,null,null,null,null,null,null,null,null,null,null,null,null,null,8203,34.340000000000003,9.5388888888888896,9094,38.07,10.574999999999999,11841,49.57,13.769444444444444,null,null,null,null,null,{"$f":"SUM(B11:M11)+$K$42+$N$42","v":0}]
[2,{"$f":"[1]Лист1!$D$235","v":90.933800000000005},{"$f":"[1]Лист1!$D$236","v":4.4640000000000004},{"$f":"[1]Лист1!$D$237","v":1.1140000000000001},{"$f":"[1]Лист1!$D$238","v":0.124},{"$f":"[1]Лист1!$D$239","v":0.20200000000000001},{"$f":"[1]Лист1!$D$240","v":4.4000000000000003E-3},{"$f":"[1]Лист1!$D$241","v":6.0100000000000001E-2},{"$f":"[1]Лист1!$D$242","v":4.6100000000000002E-2},{"$f":"[1]Лист1!$D$243","v":5.9299999999999999E-2},{"$f":"[1]Лист1!$D$244","v":7.3000000000000001E-3},{"$f":"[1]Лист1!$D$245","v":2.048},{"$f":"[1]Лист1!$D$246","v":0.93700000000000006},{"$f":"[1]Лист1!$F$252","v":0.73870000000000002},{"$f":"[2]Лист1!$F$199","v":8269},{"$f":"[2]Лист1!$F$198","v":34.619999999999997},{"$f":"[2]Лист1!$F$204","v":9.6166666666666654},{"$f":"[2]Лист1!$F$201","v":9160},{"$f":"[2]Лист1!$F$200","v":38.35},{"$f":"[2]Лист1!$F$205","v":10.652777777777779},{"$f":"[2]Лист1!$F$203","v":11696},{"$f":"[2]Лист1!$F$202","v":48.97},{"$f":"V12/3.6","v":13.602777777777778},-14.5,-12.1,null,null,null,100]
[3,null,null,null,null,null,null,null,null,null,null,null,null,null,{"$f":"[2]Лист1!$F$199","v":8269},{"$f":"[2]Лист1!$F$198","v":34.619999999999997},{"$f":"[2]Лист1!$F$204","v":9.6166666666666654},{"$f":"[2]Лист1!$F$201","v":9160},{"$f":"[2]Лист1!$F$200","v":38.35},{"$f":"[2]Лист1!$F$205","v":10.652777777777779},{"$f":"[2]Лист1!$F$203","v":11696},{"$f":"[2]Лист1!$F$202","v":48.97},{"$f":"V13/3.6","v":13.602777777777778},null,null,null,null,null,0,{"$f":"IF(AC13=100,\"ОК\",\" \")","v":" "}]
[4,null,null,null,null,null,null,null,null,null,null,null,null,null,{"$f":"[2]Лист1!$F$199","v":8269},{"$f":"[2]Лист1!$F$198","v":34.619999999999997},{"$f":"[2]Лист1!$F$204","v":9.6166666666666654},{"$f":"[2]Лист1!$F$201","v":9160},{"$f":"[2]Лист1!$F$200","v":38.35},{"$f":"[2]Лист1!$F$205","v":10.652777777777779},{"$f":"[2]Лист1!$F$203","v":11696},{"$f":"[2]Лист1!$F$202","v":48.97},13.602777777777778,null,null,null,null,null,0,{"$f":"IF(AC14=100,\"ОК\",\" \")","v":" "}]
[5,null,null,null,null,null,null,null,null,null,null,null,null,null,{"$f":"[2]Лист1!$F$199","v":8269},{"$f":"[2]Лист1!$F$198","v":34.619999999999997},{"$f":"[2]Лист1!$F$204","v":9.6166666666666654},{"$f":"[2]Лист1!$F$201","v":9160},{"$f":"[2]Лист1!$F$200","v":38.35},{"$f":"[2]Лист1!$F$205","v":10.652777777777779},{"$f":"[2]Лист1!$F$203","v":11696},{"$f":"[2]Лист1!$F$202","v":48.97},13.602777777777778,null,null,null,null,null,0," "]
[6,null,null,null,null,null,null,null,null,null,null,null,null,null,{"$f":"[2]Лист1!$F$199","v":8269},{"$f":"[2]Лист1!$F$198","v":34.619999999999997},{"$f":"[2]Лист1!$F$204","v":9.6166666666666654},{"$f":"[2]Лист1!$F$201","v":9160},{"$f":"[2]Лист1!$F$200","v":38.35},{"$f":"[2]Лист1!$F$205","v":10.652777777777779},{"$f":"[2]Лист1!$F$203","v":11696},{"$f":"[2]Лист1!$F$202","v":48.97},13.602777777777778,null,null,null,null,null,0," "]
[7,null,null,null,null,null,null,null,null,null,null,null,null,null,{"$f":"[2]Лист1!$F$199","v":8269},{"$f":"[2]Лист1!$F$198","v":34.619999999999997},{"$f":"[2]Лист1!$F$204","v":9.6166666666666654},{"$f":"[2]Лист1!$F$201","v":9160},{"$f":"[2]Лист1!$F$200","v":38.35},{"$f":"[2]Лист1!$F$205","v":10.652777777777779},{"$f":"[2]Лист1!$F$203","v":11696},{"$f":"[2]Лист1!$F$202","v":48.97},13.602777777777778,null,null,null,null,null,0," "]
[8,null,null,null,null,null,null,null,null,null,null,null,null,null,{"$f":"[2]Лист1!$F$199","v":8269},{"$f":"[2]Лист1!$F$198","v":34.619999999999997},{"$f":"[2]Лист1!$F$204","v":9.6166666666666654},{"$f":"[2]Лист1!$F$201","v":9160},{"$f":"[2]Лист1!$F$200","v":38.35},{"$f":"[2]Лист1!$F$205","v":10.652777777777779},{"$f":"[2]Лист1!$F$203","v":11696},{"$f":"[2]Лист1!$F$202","v":48.97},13.602777777777778,null,null,null,null,null,0," "]
[9,{"$f":"[3]Лист1!$D$235","v":90.835599999999999},{"$f":"[3]Лист1!$D$236","v":4.5289999999999999},{"$f":"[3]Лист1!$D$237","v":1.1599999999999999},{"$f":"[3]Лист1!$D$238","v":0.13100000000000001},{"$f":"[3]Лист1!$D$239","v":0.215},{"$f":"[3]Лист1!$D$240","v":4.1999999999999997E-3},{"$f":"[3]Лист1!$D$241","v":5.9799999999999999E-2},{"$f":"[3]Лист1!$D$242","v":4.8599999999999997E-2},{"$f":"[3]Лист1!$D$243","v":6.7400000000000002E-2},{"$f":"[3]Лист1!$D$244","v":4.4000000000000003E-3},{"$f":"[3]Лист1!$D$245","v":1.972},{"$f":"[3]Лист1!$D$246","v":0.97299999999999998},{"$f":"[3]Лист1!$F$252","v":0.74029999999999996},{"$f":"[4]Лист1!$F$199","v":8289},{"$f":"[4]Лист1!$F$198","v":34.71},{"$f":"[4]Лист1!$F$204","v":9.6416666666666675},{"$f":"[4]Лист1!$F$201","v":9182},{"$f":"[4]Лист1!$F$200","v":38.44},{"$f":"[4]Лист1!$F$205","v":10.677777777777777},{"$f":"[4]Лист1!$F$203","v":11711},{"$f":"[4]Лист1!$F$202","v":49.03},{"$f":"V19/3.6","v":13.619444444444444},-16.399999999999999,-12.5,null,null,null,99.999999999999986,"ОК"]
[10,null,null,null,null,null,null,null,null,null,null,null,null,null,{"$f":"[4]Лист1!$F$199","v":8289},{"$f":"[4]Лист1!$F$198","v":34.71},{"$f":"[4]Лист1!$F$204","v":9.6416666666666675},{"$f":"[4]Лист1!$F$201","v":9182},{"$f":"[4]Лист1!$F$200","v":38.44},{"$f":"[4]Лист1!$F$205","v":10.677777777777777},{"$f":"[4]Лист1!$F$203","v":11711},{"$f":"[4]Лист1!$F$202","v":49.03},{"$f":"V20/3.6","v":13.619444444444444},null,null,null,null,null,0," "]
[11,null,null,null,null,null,null,null,null,null,null,null,null,null,{"$f":"[4]Лист1!$F$199","v":8289},{"$f":"[4]Лист1!$F$198","v":34.71},{"$f":"[4]Лист1!$F$204","v":9.6416666666666675},{"$f":"[4]Лист1!$F$201","v":9182},{"$f":"[4]Лист1!$F$200","v":38.44},{"$f":"[4]Лист1!$F$205","v":10.677777777777777},{"$f":"[4]Лист1!$F$203","v":11711},{"$f":"[4]Лист1!$F$202","v":49.03},13.619444444444444,null,null,null,null,null,0," "]
[12,null,null,null,null,null,null,null,null,null,null,null,null,null,{"$f":"[4]Лист1!$F$199","v":8289},{"$f":"[4]Лист1!$F$198","v":34.71},{"$f":"[4]Лист1!$F$204","v":9.6416666666666675},{"$f":"[4]Лист1!$F$201","v":9182},{"$f":"[4]Лист1!$F$200","v":38.44},{"$f":"[4]Лист1!$F$205","v":10.677777777777777},{"$f":"[4]Лист1!$F$203","v":11711},{"$f":"[4]Лист1!$F$202","v":49.03},13.619444444444444,null,null,null,null,"відсут.",0," "]
[13,null,null,null,null,null,null,null,null,null,null,null,null,null,{"$f":"[4]Лист1!$F$199","v":8289},{"$f":"[4]Лист1!$F$198","v":34.71},{"$f":"[4]Лист1!$F$204","v":9.6416666666666675},{"$f":"[4]Лист1!$F$201","v":9182},{"$f":"[4]Лист1!$F$200","v":38.44},{"$f":"[4]Лист1!$F$205","v":10.677777777777777},{"$f":"[4]Лист1!$F$203","v":11711},{"$f":"[4]Лист1!$F$202","v":49.03},13.619444444444444,null,null,null,null,null,0," "]
[14,null,null,null,null,null,null,null,null,null,null,null,null,null,{"$f":"[4]Лист1!$F$199","v":8289},{"$f":"[4]Лист1!$F$198","v":34.71},{"$f":"[4]Лист1!$F$204","v":9.6416666666666675},{"$f":"[4]Лист1!$F$201","v":9182},{"$f":"[4]Лист1!$F$200","v":38.44},{"$f":"[4]Лист1!$F$205","v":10.677777777777777},{"$f":"[4]Лист1!$F$203","v":11711},{"$f":"[4]Лист1!$F$202","v":49.03},13.619444444444444,null,null,null,null,null,0," "]
[15,{"$f":"[5]Лист1!$D$235","v":90.804599999999994},{"$f":"[5]Лист1!$D$236","v":4.5250000000000004},{"$f":"[5]Лист1!$D$237","v":1.0880000000000001},{"$f":"[5]Лист1!$D$238","v":0.11899999999999999},{"$f":"[5]Лист1!$D$239","v":0.193},{"$f":"[5]Лист1!$D$240","v":4.3E-3},{"$f":"[5]Лист1!$D$241","v":5.3699999999999998E-2},{"$f":"[5]Лист1!$D$242","v":4.2599999999999999E-2},{"$f":"[5]Лист1!$D$243","v":5.9799999999999999E-2},{"$f":"[5]Лист1!$D$244","v":1.2E-2},{"$f":"[5]Лист1!$D$245","v":2.1389999999999998},{"$f":"[5]Лист1!$D$246","v":0.95899999999999996},{"$f":"[5]Лист1!$F$252","v":0.73899999999999999},{"$f":"[6]Лист1!$F$199","v":8255},{"$f":"[6]Лист1!$F$198","v":34.56},{"$f":"[6]Лист1!$F$204","v":9.6},{"$f":"[6]Лист1!$F$201","v":9145},{"$f":"[6]Лист1!$F$200","v":38.29},{"$f":"[6]Лист1!$F$205","v":10.636111111111111},{"$f":"[6]Лист1!$F$203","v":11674},{"$f":"[6]Лист1!$F$202","v":48.88},{"$f":"V25/3.6","v":13.577777777777778},-14.8,-11.1,4.0000000000000002E-4,6.9999999999999999E-4,null,99.999999999999986,"ОК"]
[16,null,null,null,null,null,null,null,null,null,null,null,null,null,{"$f":"[6]Лист1!$F$199","v":8255},{"$f":"[6]Лист1!$F$198","v":34.56},{"$f":"[6]Лист1!$F$204","v":9.6},{"$f":"[6]Лист1!$F$201","v":9145},{"$f":"[6]Лист1!$F$200","v":38.29},{"$f":"[6]Лист1!$F$205","v":10.636111111111111},{"$f":"[6]Лист1!$F$203","v":11674},{"$f":"[6]Лист1!$F$202","v":48.88},{"$f":"V26/3.6","v":13.577777777777778},null,null,null,null,null,0," "]
[17,null,null,null,null,null,null,null,null,null,null,null,null,null,{"$f":"[6]Лист1!$F$199","v":8255},{"$f":"[6]Лист1!$F$198","v":34.56},{"$f":"[6]Лист1!$F$204","v":9.6},{"$f":"[6]Лист1!$F$201","v":9145},{"$f":"[6]Лист1!$F$200","v":38.29},{"$f":"[6]Лист1!$F$205","v":10.636111111111111},{"$f":"[6]Лист1!$F$203","v":11674},{"$f":"[6]Лист1!$F$202","v":48.88},13.577777777777778,null,null,null,null,null,0," "]
[18,null,null,null,null,null,null,null,null,null,null,null,null,null,{"$f":"[6]Лист1!$F$199","v":8255},{"$f":"[6]Лист1!$F$198","v":34.56},{"$f":"[6]Лист1!$F$204","v":9.6},{"$f":"[6]Лист1!$F$201","v":9145},{"$f":"[6]Лист1!$F$200","v":38.29},{"$f":"[6]Лист1!$F$205","v":10.636111111111111},{"$f":"[6]Лист1!$F$203","v":11674},{"$f":"[6]Лист1!$F$202","v":48.88},13.577777777777778,null,null,null,null,null,0," "]
[19,null,null,null,null,null,null,null,null,null,null,null,null,null,{"$f":"[6]Лист1!$F$199","v":8255},{"$f":"[6]Лист1!$F$198","v":34.56},{"$f":"[6]Лист1!$F$204","v":9.6},{"$f":"[6]Лист1!$F$201","v":9145},{"$f":"[6]Лист1!$F$200","v":38.29},{"$f":"[6]Лист1!$F$205","v":10.636111111111111},{"$f":"[6]Лист1!$F$203","v":11674},{"$f":"[6]Лист1!$F$202","v":48.88},13.577777777777778,null,null,null,null,null,0," "]
[20,null,null,null,null,null,null,null,null,null,null,null,null,null,{"$f":"[6]Лист1!$F$199","v":8255},{"$f":"[6]Лист1!$F$198","v":34.56},{"$f":"[6]Лист1!$F$204","v":9.6},{"$f":"[6]Лист1!$F$201","v":9145},{"$f":"[6]Лист1!$F$200","v":38.29},{"$f":"[6]Лист1!$F$205","v":10.636111111111111},{"$f":"[6]Лист1!$F$203","v":11674},{"$f":"[6]Лист1!$F$202","v":48.88},13.577777777777778,null,null,null,null,null,0,{"$f":"IF(AC30=100,\"ОК\",\" \")","v":" "}]
[21,null,null,null,null,null,null,null,null,null,null,null,null,null,{"$f":"[6]Лист1!$F$199","v":8255},{"$f":"[6]Лист1!$F$198","v":34.56},{"$f":"[6]Лист1!$F$204","v":9.6},{"$f":"[6]Лист1!$F$201","v":9145},{"$f":"[6]Лист1!$F$200","v":38.29},{"$f":"[6]Лист1!$F$205","v":10.636111111111111},{"$f":"[6]Лист1!$F$203","v":11674},{"$f":"[6]Лист1!$F$202","v":48.88},13.577777777777778,null,null,null,null,null,0," "]
[22,{"$f":"[7]Лист1!$D$235","v":90.802899999999994},{"$f":"[7]Лист1!$D$236","v":4.5069999999999997},{"$f":"[7]Лист1!$D$237","v":1.071},{"$f":"[7]Лист1!$D$238","v":0.122},{"$f":"[7]Лист1!$D$239","v":0.19700000000000001},{"$f":"[7]Лист1!$D$240","v":4.3E-3},{"$f":"[7]Лист1!$D$241","v":5.4600000000000003E-2},{"$f":"[7]Лист1!$D$242","v":4.3900000000000002E-2},{"$f":"[7]Лист1!$D$243","v":5.8200000000000002E-2},{"$f":"[7]Лист1!$D$244","v":9.1000000000000004E-3},{"$f":"[7]Лист1!$D$245","v":2.16},{"$f":"[7]Лист1!$D$246","v":0.97},{"$f":"[7]Лист1!$F$252","v":0.73909999999999998},{"$f":"[8]Лист1!$F$199","v":8251},{"$f":"[8]Лист1!$F$198","v":34.549999999999997},{"$f":"[8]Лист1!$F$204","v":9.5972222222222214},{"$f":"[8]Лист1!$F$201","v":9140},{"$f":"[8]Лист1!$F$200","v":38.270000000000003},{"$f":"[8]Лист1!$F$205","v":10.630555555555556},{"$f":"[8]Лист1!$F$203","v":11668},{"$f":"[8]Лист1!$F$202","v":48.85},{"$f":"V32/3.6","v":13.569444444444445},-12.4,-9.1,null,null,null,99.999999999999986,"ОК"]
[23,null,null,null,null,null,null,null,null,null,null,null,null,null,{"$f":"[8]Лист1!$F$199","v":8251},{"$f":"[8]Лист1!$F$198","v":34.549999999999997},{"$f":"[8]Лист1!$F$204","v":9.5972222222222214},{"$f":"[8]Лист1!$F$201","v":9140},{"$f":"[8]Лист1!$F$200","v":38.270000000000003},{"$f":"[8]Лист1!$F$205","v":10.630555555555556},{"$f":"[8]Лист1!$F$203","v":11668},{"$f":"[8]Лист1!$F$202","v":48.85},{"$f":"V33/3.6","v":13.569444444444445},null,null,null,null,null,0,{"$f":"IF(AC33=100,\"ОК\",\" \")","v":" "}]
[24,null,null,null,null,null,null,null,null,null,null,null,null,null,{"$f":"[8]Лист1!$F$199","v":8251},{"$f":"[8]Лист1!$F$198","v":34.549999999999997},{"$f":"[8]Лист1!$F$204","v":9.5972222222222214},{"$f":"[8]Лист1!$F$201","v":9140},{"$f":"[8]Лист1!$F$200","v":38.270000000000003},{"$f":"[8]Лист1!$F$205","v":10.630555555555556},{"$f":"[8]Лист1!$F$203","v":11668},{"$f":"[8]Лист1!$F$202","v":48.85},13.569444444444445,null,null,null,null,null,0," "]
[25,null,null,null,null,null,null,null,null,null,null,null,null,null,{"$f":"[8]Лист1!$F$199","v":8251},{"$f":"[8]Лист1!$F$198","v":34.549999999999997},{"$f":"[8]Лист1!$F$204","v":9.5972222222222214},{"$f":"[8]Лист1!$F$201","v":9140},{"$f":"[8]Лист1!$F$200","v":38.270000000000003},{"$f":"[8]Лист1!$F$205","v":10.630555555555556},{"$f":"[8]Лист1!$F$203","v":11668},{"$f":"[8]Лист1!$F$202","v":48.85},13.569444444444445,null,null,null,null,null,0," "]
[26,null,null,null,null,null,null,null,null,null,null,null,null,null,{"$f":"[8]Лист1!$F$199","v":8251},{"$f":"[8]Лист1!$F$198","v":34.549999999999997},{"$f":"[8]Лист1!$F$204","v":9.5972222222222214},{"$f":"[8]Лист1!$F$201","v":9140},{"$f":"[8]Лист1!$F$200","v":38.270000000000003},{"$f":"[8]Лист1!$F$205","v":10.630555555555556},{"$f":"[8]Лист1!$F$203","v":11668},{"$f":"[8]Лист1!$F$202","v":48.85},13.569444444444445,null,null,null,null,null,0," "]
[27,null,null,null,null,null,null,null,null,null,null,null,null,null,{"$f":"[8]Лист1!$F$199","v":8251},{"$f":"[8]Лист1!$F$198","v":34.549999999999997},{"$f":"[8]Лист1!$F$204","v":9.5972222222222214},{"$f":"[8]Лист1!$F$201","v":9140},{"$f":"[8]Лист1!$F$200","v":38.270000000000003},{"$f":"[8]Лист1!$F$205","v":10.630555555555556},{"$f":"[8]Лист1!$F$203","v":11668},{"$f":"[8]Лист1!$F$202","v":48.85},13.569444444444445,null,null,null,null,null,0," "]
[28,null,null,null,null,null,null,null,null,null,null,null,null,null,{"$f":"[8]Лист1!$F$199","v":8251},{"$f":"[8]Лист1!$F$198","v":34.549999999999997},{"$f":"[8]Лист1!$F$204","v":9.5972222222222214},{"$f":"[8]Лист1!$F$201","v":9140},{"$f":"[8]Лист1!$F$200","v":38.270000000000003},{"$f":"[8]Лист1!$F$205","v":10.630555555555556},{"$f":"[8]Лист1!$F$203","v":11668},{"$f":"[8]Лист1!$F$202","v":48.85},13.569444444444445,null,null,null,null,null,0," "]
[29,{"$f":"[9]Лист1!$D$235","v":90.500900000000001},{"$f":"[9]Лист1!$D$236","v":4.641},{"$f":"[9]Лист1!$D$237","v":1.222},{"$f":"[9]Лист1!$D$238","v":0.13200000000000001},{"$f":"[9]Лист1!$D$239","v":0.215},{"$f":"[9]Лист1!$D$240","v":4.1999999999999997E-3},{"$f":"[9]Лист1!$D$241","v":6.2600000000000003E-2},{"$f":"[9]Лист1!$D$242","v":5.2299999999999999E-2},{"$f":"[9]Лист1!$D$243","v":7.2099999999999997E-2},{"$f":"[9]Лист1!$D$244","v":7.9000000000000008E-3},{"$f":"[9]Лист1!$D$245","v":2.0750000000000002},{"$f":"[9]Лист1!$D$246","v":1.0149999999999999},{"$f":"[9]Лист1!$F$252","v":0.74299999999999999},{"$f":"[10]Лист1!$F$199","v":8295},{"$f":"[10]Лист1!$F$198","v":34.729999999999997},{"$f":"[10]Лист1!$F$204","v":9.6472222222222204},{"$f":"[10]Лист1!$F$201","v":9188},{"$f":"[10]Лист1!$F$200","v":38.47},{"$f":"[10]Лист1!$F$205","v":10.68611111111111},{"$f":"[10]Лист1!$F$203","v":11697},{"$f":"[10]Лист1!$F$202","v":48.98},{"$f":"V39/3.6","v":13.605555555555554},-8.9,-4.5999999999999996,null,null,null,100.00000000000003,"ОК"]
[30,null,null,null,null,null,null,null,null,null,null,null,null,null,{"$f":"[10]Лист1!$F$199","v":8295},{"$f":"[10]Лист1!$F$198","v":34.729999999999997},{"$f":"[10]Лист1!$F$204","v":9.6472222222222204},{"$f":"[10]Лист1!$F$201","v":9188},{"$f":"[10]Лист1!$F$200","v":38.47},{"$f":"[10]Лист1!$F$205","v":10.68611111111111},{"$f":"[10]Лист1!$F$203","v":11697},{"$f":"[10]Лист1!$F$202","v":48.98},{"$f":"V40/3.6","v":13.605555555555554},null,null,null,null,null,0]
[31,null,null,null,null,null,null,null,null,null,null,null,null,null,{"$f":"[10]Лист1!$F$199","v":8295},{"$f":"[10]Лист1!$F$198","v":34.729999999999997},{"$f":"[10]Лист1!$F$204","v":9.6472222222222204},{"$f":"[10]Лист1!$F$201","v":9188},{"$f":"[10]Лист1!$F$200","v":38.47},{"$f":"[10]Лист1!$F$205","v":10.68611111111111},{"$f":"[10]Лист1!$F$203","v":11697},{"$f":"[10]Лист1!$F$202","v":48.98},13.605555555555554,null,null,null,null,null,0," "]
["Рівень одоризації відповідає вимогам чинних нормативних документів",null,null,null,null,null,null,null,null,null,null,null,null,null,{"$f":"SUMPRODUCT(O11:O41,' розрахунок'!I7:I37)/' розрахунок'!I38","v":8268.3919438690882},{"$f":"SUMPRODUCT(P11:P41,' розрахунок'!I7:I37)/' розрахунок'!I38","v":34.619907106791288},{"$f":"SUMPRODUCT(Q11:Q41,' розрахунок'!I7:I37)/' розрахунок'!I38","v":9.6166408629975759},9159,{"$f":"SUMPRODUCT(S11:S41,' розрахунок'!I7:I37)/' розрахунок'!I38","v":38.348843478952993},{"$f":"SUMPRODUCT(T11:T41,' розрахунок'!I7:I37)/' розрахунок'!I38","v":10.652456521931391}]
[null,null,null,null,null,null,null,"Середньозважене значення теплоти згоряння:"]
[]
[]
[null,"Головний інженер Лубенського ЛВУМГ                                                                                                                Сирота В.П.                                                           01.06.2017 року"]
[null,null,"Підрозділу підприємства, якому підпорядкована лабораторія",null,null,null,null,null,null,null,null,null,null,null,"прізвище",null,null,"підпис",null,null,null,"дата"]
[null,"Завідувач лабораторією   Лубенського ЛВУМГ                                                                                                     Алєксєєнко Н.А.                                                  01.06.2017 року                                              "]
[null,null,"Лабораторія, де здійснювалось вимірювання газу",null,null,null,null,null,null,null,null,null,null,null,"прізвище",null,null,"підпис",null,null,null,"дата"]
[null,"Начальник служби ГВ та М                                                                                                                                           Шило О.Є.                                                        01.06.2017 року"]
[null,null,"Підрозділу, відповідального за облік газу за маршрутом",null,null,null,null,null,null,null,null,null,null,null,"прізвище",null,null,"підпис",null,null,null,"дата"]

{"sheet":" розрахунок","index":1,"n_rows":42,"n_cols":9,"rows_kept":42,"cut":false,"hidden":false,"merged":[[3,8,5,8],[1,0,1,7],[0,0,0,1],[3,0,5,0],[3,1,5,1],[3,2,3,7],[4,2,4,7]]}
[]
["Додаток до Паспорту фізико-хімічних показників природного газу по маршруту № 63"]
[]
["Число місяця","Теплота згоряння вища, МДж/м3","Полтавська",null,null,null,null,null,"Загальний обсяг газу, м3"]
[null,null,"Обсяг газу переданого за добу,  м3 "]
[null,null,"ГРС Лука","ГРс Ісківці","ГРС Безсали","ГРС Яцини","ГРС Кейбалівка","ГРС Каплинці"]
[1,38.07,615.79999999999995,689.1,1086.0999999999999,737.6,1177.7,282.60000000000002,{"$f":"SUM(C7:H7)","v":4588.9000000000005}]
[2,{"$f":"[2]Лист1!$F$200","v":38.35},464.7,647.20000000000005,1139.8,657.6,1275.2,277.10000000000002,{"$f":"SUM(C8:H8)","v":4461.6000000000004}]
[3,{"$f":"[2]Лист1!$F$200","v":38.35},500.2,659.9,1081.7,698.2,1297.0999999999999,255.8,{"$f":"SUM(C9:H9)","v":4492.9000000000005}]
[4,{"$f":"[2]Лист1!$F$200","v":38.35},482.2,641.9,1043.4000000000001,719.1,1146.5999999999999,272.89999999999998,{"$f":"SUM(C10:H10)","v":4306.0999999999995}]
[5,{"$f":"[2]Лист1!$F$200","v":38.35},621.20000000000005,609.9,1067.0999999999999,764.1,1199.8,225.6,{"$f":"SUM(C11:H11)","v":4487.7}]
[6,{"$f":"[2]Лист1!$F$200","v":38.35},539.9,638.79999999999995,1020,756.1,1188.3,260.3,{"$f":"SUM(C12:H12)","v":4403.3999999999996}]
[7,{"$f":"[2]Лист1!$F$200","v":38.35},314.2,569.9,925.1,665.6,968.8,243.3,{"$f":"SUM(C13:H13)","v":3686.8999999999996}]
[8,{"$f":"[2]Лист1!$F$200","v":38.35},260.3,536.9,1065.4000000000001,672.5,1092.9000000000001,252.4,{"$f":"SUM(C14:H14)","v":3880.4000000000005}]
[9,{"$f":"[4]Лист1!$F$200","v":38.44},953.5,743,1301.0999999999999,814.2,1423.1,388.7,{"$f":"SUM(C15:H15)","v":5623.5999999999995}]
[10,{"$f":"[4]Лист1!$F$200","v":38.44},1757,1282,2063.1,1161.0999999999999,2190.4,595,{"$f":"SUM(C16:H16)","v":9048.6}]
[11,{"$f":"[4]Лист1!$F$200","v":38.44},1649.2,1287.0999999999999,1883.5,1256.5,2124,633.9,{"$f":"SUM(C17:H17)","v":8834.1999999999989}]
[12,{"$f":"[4]Лист1!$F$200","v":38.44},1801,1173.8,1782,1167.5,2033,637.9,{"$f":"SUM(C18:H18)","v":8595.2000000000007}]
[13,{"$f":"[4]Лист1!$F$200","v":38.44},2151.8000000000002,1594.4,2328.1,1530.8,2887.7,784.5,{"$f":"SUM(C19:H19)","v":11277.3}]
[14,{"$f":"[4]Лист1!$F$200","v":38.44},1844,1339.7,1886.9,1181,2380.1999999999998,596.4,{"$f":"SUM(C20:H20)","v":9228.1999999999989}]
[15,{"$f":"[6]Лист1!$F$200","v":38.29},1243.5999999999999,839.3,1224.8,799.7,1461.7,353.4,{"$f":"SUM(C21:H21)","v":5922.4999999999991}]
[16,{"$f":"[6]Лист1!$F$200","v":38.29},1122.3,691.9,1159.2,712.4,1263.5,332.9,{"$f":"SUM(C22:H22)","v":5282.1999999999989}]
[17,{"$f":"[6]Лист1!$F$200","v":38.29},1189.8,855.6,1383.8,773.8,1439.7,376.8,{"$f":"SUM(C23:H23)","v":6019.5}]
[18,{"$f":"[6]Лист1!$F$200","v":38.29},1566.8,937.7,1538.1,845.5,1626.2,469.7,{"$f":"SUM(C24:H24)","v":6984}]
[19,{"$f":"[6]Лист1!$F$200","v":38.29},1575.5,1004.3,1657.9,888.3,1597.4,387.9,{"$f":"SUM(C25:H25)","v":7111.3000000000011}]
[20,{"$f":"[6]Лист1!$F$200","v":38.29},1271.2,863.4,1373.8,875.9,1481.7,368.5,{"$f":"SUM(C26:H26)","v":6234.4999999999991}]
[21,{"$f":"[6]Лист1!$F$200","v":38.29},1254.5,728.6,1363.6,870.5,1268.5999999999999,326.8,{"$f":"SUM(C27:H27)","v":5812.5999999999995}]
[22,{"$f":"[8]Лист1!$F$200","v":38.270000000000003},968.5,599.70000000000005,1074.2,638.79999999999995,1090.5,252.7,{"$f":"SUM(C28:H28)","v":4624.3999999999996}]
[23,{"$f":"[8]Лист1!$F$200","v":38.270000000000003},786.9,576.29999999999995,925.2,616,963.9,244.3,{"$f":"SUM(C29:H29)","v":4112.5999999999995}]
[24,{"$f":"[8]Лист1!$F$200","v":38.270000000000003},729.1,0,857,556.79999999999995,948.4,210.5,{"$f":"SUM(C30:H30)","v":3301.7999999999997}]
[25,{"$f":"[8]Лист1!$F$200","v":38.270000000000003},703.9,546.9,808.4,519.9,894.4,204,{"$f":"SUM(C31:H31)","v":3677.5}]
[26,{"$f":"[8]Лист1!$F$200","v":38.270000000000003},699.4,508.7,772.7,544.1,943.4,203.6,{"$f":"SUM(C32:H32)","v":3671.9}]
[27,{"$f":"[8]Лист1!$F$200","v":38.270000000000003},743.7,510.5,862.7,630,1030.7,241,{"$f":"SUM(C33:H33)","v":4018.6000000000004}]
[28,{"$f":"[8]Лист1!$F$200","v":38.270000000000003},755.5,506.7,831.1,594.70000000000005,983.1,215.2,{"$f":"SUM(C34:H34)","v":3886.2999999999997}]
[29,{"$f":"[10]Лист1!$F$200","v":38.47},634.4,415.8,688.3,518.70000000000005,853.9,192.6,{"$f":"SUM(C35:H35)","v":3303.7}]
[30,{"$f":"[10]Лист1!$F$200","v":38.47},571.79999999999995,381.8,678,470.7,836.5,197.9,{"$f":"SUM(C36:H36)","v":3136.7}]
[31,{"$f":"[10]Лист1!$F$200","v":38.47},587.29999999999995,366.7,659.6,493.8,794,178.6,{"$f":"SUM(C37:H37)","v":3080}]
["Загальний обсяг газу, м3",null,{"$f":"SUM(C7:C37)","v":30359.200000000004},{"$f":"SUM(D7:D37)","v":22747.5},37531.699999999997,{"$f":"SUM(F7:F37)","v":24131.5},41862.400000000009,10462.799999999999,{"$f":"SUM(I7:I37)","v":167095.1}]
["Енергія, МДж",null,{"$f":"SUMPRODUCT(B7:B37,C7:C37)","v":1164247.8190000004},{"$f":"SUMPRODUCT(B7:B37,D7:D37)","v":872366.0410000002},{"$f":"SUMPRODUCT(B7:B37,E7:E37)","v":1439219.1420000002},{"$f":"SUMPRODUCT(B7:B37,F7:F37)","v":925380.49},{"$f":"SUMPRODUCT(B7:B37,G7:G37)","v":1605408.1880000001},{"$f":"SUMPRODUCT(B7:B37,H7:H37)","v":401282.15600000008},{"$f":"SUMPRODUCT(B7:B37,I7:I37)","v":6407903.8359999983}]
["Теплота згоряння (середньозважене значення за місяць), МДж/м³",null,38.349094146090813,38.349974326849114,38.346761324427092,38.347408573855745,38.349645218620999,38.353228198952486,38.348843478952993]
["Теплота згоряння (середньозважене значення за місяць), ккал/м³",null,9159.5239055077909,9159.7341330731706,9158.9667206179802,9159.1213134902919,9159.6555269222299,9160.5113070841853,9159.4640346896595]
["Теплота згоряння (середньозважене значення за місяць), кВт*год./м³",null,10.652526151691893,10.652770646346976,10.651878145674193,10.652057937182152,10.652679227394723,10.653674499709023,10.652456521931386]

{"sheet":"додаток","index":2,"n_rows":21,"n_cols":6,"rows_kept":21,"cut":false,"hidden":false,"merged":[[0,0,0,1],[11,0,11,1],[3,2,3,4],[3,1,4,1],[3,0,4,0],[5,0,10,0]]}
[]
["Додаток до Паспорту фізико-хімічних показників природного газу № 63"]
[]
["Область","ГРС, прямий споживач","Cередньозважене значення вищої теплоти згоряння"]
[null,null," МДж/м³","ккал/м³","кВт*год./м³"]
["Полтавська область","ГРС Лука",38.349094146090813,9159.5239055077909,10.652526151691893]
[null,"ГРC Ісківці",38.349974326849114,9159.7341330731706,10.652770646346976]
[null,"ГРС Безсали",38.346761324427092,9158.9667206179802,10.651878145674193]
[null,"ГРС Яцини",38.347408573855745,9159.1213134902919,10.652057937182152]
[null,"ГРС Кейбалівка",38.349645218620999,9159.6555269222299,10.652679227394723]
[null,"ГРС Каплинці",38.353228198952486,9160.5113070841853,10.653674499709023]
["Середньозважене значення вищої теплоти згоряння по маршруту № 63",null,38.348843478952993,9159.4640346896595,10.652456521931386]
[]
[]
[]
["Головний інженер Лубенського ЛВУМГ                                                     Сирота В.П.                                                                ",null,null,null,null,"01.06.2017 р."]
["Підрозділу підприємства, якому підпорядкована лабораторія",null,null,"прізвище","підпис","дата"]
["Завідувач лабораторією   Лубенського ЛВУМГ                                  Алєксєєнко Н.А.                                                                                 ",null,null,null,null,{"$f":"F16","v":"01.06.2017 р."}]
["Лабораторія, де здійснювалось вимірювання газу",null,null,"прізвище","підпис","дата"]
["Начальник служби ГВ та М                                                                               Шило О.Є",null,null,null,null,{"$f":"F16","v":"01.06.2017 р."}]
["Підрозділу, відповідального за облік газу за маршрутом",null,null,"прізвище","підпис","дата"]

{"sheet":"variablesList","index":3,"n_rows":3,"n_cols":4,"rows_kept":3,"cut":false,"hidden":true,"merged":[]}
[3,"x:\\gaysin","10, 11, 24, 25, 127, 128, 132, 180, 207, 215","x:\\"]
[null,"x:\\Illinci"]
[null,"x:\\Talne"]