{"text_format":"1","workbook":"xlsx","n_sheets":4,"sheets":["паспорт"," розрахунок","додаток","variablesList"],"not_rendered":{"charts":0,"images":0,"macros":1,"external_links":0,"defined_names":4,"comments":0,"pivot_tables":0},"unopened":[],"bounds":{"document_bytes":16777216,"sheet_cells":100000,"rows_first":2000,"rows_last":500,"rows_between":2000,"halvings":0,"cell_chars":16384,"cell_head_chars":4096},"cells_cut":0,"cells_raw":0,"read":"whole","date_system":"1900"}

{"sheet":"паспорт","index":0,"n_rows":51,"n_cols":31,"rows_kept":51,"cut":false,"hidden":false,"merged":[[6,0,9,0],[8,11,9,11],[41,18,42,18],[41,19,42,19],[41,14,42,14],[42,7,42,13],[41,15,42,15],[41,16,42,16],[41,17,42,17],[8,9,9,9],[8,10,9,10],[41,0,41,13],[8,3,9,3],[8,1,9,1],[8,2,9,2],[8,5,9,5],[43,20,43,27],[42,20,42,27],[41,20,41,27],[6,27,9,27],[8,8,9,8],[6,26,9,26],[6,24,9,24],[6,23,9,23],[6,25,9,25],[7,13,9,13],[6,13,6,22],[8,6,9,6],[8,4,9,4],[0,6,0,24],[1,6,1,24],[0,25,0,27],[4,23,4,24],[8,12,9,12],[4,21,4,22],[8,14,8,16],[8,17,8,19],[8,20,8,22],[7,14,7,22],[2,6,2,24],[4,26,4,27],[8,7,9,7],[6,1,7,12]]}
["ПАТ \"УКРТРАНСГАЗ\"",null,null,null,null,null,"ПАСПОРТ ФІЗИКО-ХІМІЧНИХ ПОКАЗНИКІВ ПРИРОДНОГО ГАЗУ  № 109"]
["Філія \"УМГ \"КИЇВТРАНСГАЗ\"",null,null,null,null,null,"переданого Диканським ЛВУМГ та прийнятого  ПАТ \"Полтавагаз\""]
["Решетилівський п/м Диканське ЛВУМГ",null,null,null,null,null,"Маршрут № 109"]
["Вимірювальна хіміко-аналітична лабораторія"]
["Свідоцтво № 123/15 чинно до 31.12.2018 р.",null,null,null,null,null,null,null,null,null,"по газопроводу  \"ЄЛЕЦЬ-КРЕМЕНЧУК-КРИВИЙ РІГ\"",null,null,null,null,null,null,null,null,null,null,"за період   з",null,"2017-05-01",null," по","2017-05-31"]
[]
["Число місяця","Компонентний склад, % мол. ",null,null,null,null,null,null,null,null,null,null,null,"Фізико-хімічні показники газу обчислені на основі компонентного складу, 101,325 кПа",null,null,null,null,null,null,null,null,null,"Температура точки роси за вологою (Р = 3.92 МПа), ºС","Температура точки роси за вуглеводнями, ºС","Вміст сірководню, г/м3","Вміст меркаптанової сірки, г/м3","Вміст механічних домішок, г/м3"]
[null,null,null,null,null,null,null,null,null,null,null,null,null,"Густина абсолютна, кг/м3,при 20 ºС, ","Температура вимірювання/згоряння при  20/25°С"]
[null,"метан, С1","етан, С2","пропан, С3","ізо-бутан, і-С4","н-бутан, н-С4","нео-пентан, нео-С5","ізо-пентан, і-С5","н-пентан, н-С5","гексани та вищі, С6+","кисень, О2","азот, N2","діоксид вуглецю, CО2",null,"Теплота згоряння нижча",null,null,"Теплота згоряння вища",null,null,"Число Воббе вище"]
[null,null,null,null,null,null,null,null,null,null,null,null,null,null," ккал/м3"," МДж/м3","кВт⋅год/м3"," ккал/м3"," МДж/м3","кВт⋅год/м3"," ккал/м3"," МДж/м3","кВт⋅год/м3",null,null,null,null,null,null,null,"  "]
[1,null,null,null,null,null,null,null,null,null,null,null,null,null,8245,34.520000000000003,9.5888888888888903,9140,38.270000000000003,10.630555555555556,null,null,null,null,null,null,null,null,{"$f":"SUM(B11:M11)+$K$42+$N$42","v":0}]
[2,null,null,null,null,null,null,null,null,null,null,null,null,null,8245,34.520000000000003,9.5888888888888903,9140,38.270000000000003,10.630555555555556,null,null,null,null,null,null,null,null,0]
[3,95.314400000000006,2.6665000000000001,0.85419999999999996,0.1348,0.1288,1.5E-3,2.4E-2,1.6199999999999999E-2,1.01E-2,5.3E-3,0.64170000000000005,0.2026,0.70540000000000003,8252,34.549999999999997,9.5972222222222214,9148,38.299999999999997,10.638888888888888,11954,50.05,13.902777777777777,-20.3,-17.600000000000001,null,null,null,100.0001,{"$f":"IF(AC13=100,\"ОК\",\" \")","v":" "}]
[4,null,null,null,null,null,null,null,null,null,null,null,null,null,8252,34.549999999999997,9.5972222222222214,9148,38.299999999999997,10.638888888888888,null,null,null,null,null,null,null,null,0,{"$f":"IF(AC14=100,\"ОК\",\" \")","v":" "}]
[5,null,null,null,null,null,null,null,null,null,null,null,null,null,8252,34.549999999999997,9.5972222222222214,9148,38.299999999999997,10.638888888888888,null,null,null,null,null,null,null,null,0," "]
[6,null,null,null,null,null,null,null,null,null,null,null,null,null,8252,34.549999999999997,9.5972222222222214,9148,38.299999999999997,10.638888888888888,null,null,null,null,null,null,null,null,0," "]
[7,null,null,null,null,null,null,null,null,null,null,null,null,null,8252,34.549999999999997,9.5972222222222214,9148,38.299999999999997,10.638888888888888,null,null,null,null,null,null,null,null,0," "]
[8,null,null,null,null,null,null,null,null,null,null,null,null,null,8252,34.549999999999997,9.5972222222222214,9148,38.299999999999997,10.638888888888888,null,null,null,null,null,null,null,null,0," "]
[9,null,null,null,null,null,null,null,null,null,null,null,null,null,8252,34.549999999999997,9.5972222222222214,9148,38.299999999999997,10.638888888888888,null,null,null,null,null,null,null,null,0," "]
[10,95.357600000000005,2.6473,0.8478,0.13339999999999999,0.1273,1.1000000000000001E-3,2.4199999999999999E-2,1.66E-2,1.03E-2,5.1000000000000004E-3,0.627,0.20219999999999999,0.70509999999999995,8250,34.54,9.5944444444444432,9148,38.299999999999997,10.638888888888888,11954,50.05,13.902777777777777,-21.6,-17.399999999999999,null,null,null,99.999899999999997," "]
[11,null,null,null,null,null,null,null,null,null,null,null,null,null,8250,34.54,9.5944444444444432,9148,38.299999999999997,10.638888888888888,null,null,null,null,null,null,null,null,0," "]
[12,null,null,null,null,null,null,null,null,null,null,null,null,null,8250,34.54,9.5944444444444432,9148,38.299999999999997,10.638888888888888,null,null,null,null,null,null,null,null,0," "]
[13,null,null,null,null,null,null,null,null,null,null,null,null,null,8250,34.54,9.5944444444444432,9148,38.299999999999997,10.638888888888888,null,null,null,null,null,null,null,null,0," "]
[14,null,null,null,null,null,null,null,null,null,null,null,null,null,8250,34.54,9.5944444444444432,9148,38.299999999999997,10.638888888888888,null,null,null,null,null,null,null,null,0," "]
[15,95.188400000000001,2.7624,0.87929999999999997,0.13819999999999999,0.13270000000000001,1.1999999999999999E-3,2.5499999999999998E-2,1.7299999999999999E-2,1.18E-2,4.7000000000000002E-3,0.621,0.21729999999999999,0.70650000000000002,8264,34.6,9.6111111111111107,9162,38.36,10.655555555555555,11961,50.08,13.91111111111111,-22.5,-19.899999999999999,null,null,null,99.999799999999979," "]
[16,null,null,null,null,null,null,null,null,null,null,null,null,null,8264,34.6,9.6111111111111107,9162,38.36,10.655555555555555,null,null,null,null,null,null,null,null,0," "]
[17,null,null,null,null,null,null,null,null,null,null,null,null,null,8264,34.6,9.6111111111111107,9162,38.36,10.655555555555555,null,null,null,null,null,null,null,null,0," "]
[18,null,null,null,null,null,null,null,null,null,null,null,null,null,8264,34.6,9.6111111111111107,9162,38.36,10.655555555555555,null,null,null,null,null,null,null,null,0," "]
[19,null,null,null,null,null,null,null,null,null,null,null,null,null,8264,34.6,9.6111111111111107,9162,38.36,10.655555555555555,null,null,null,null,null,null,null,null,0," "]
[20,null,null,null,null,null,null,null,null,null,null,null,null,null,8264,34.6,9.6111111111111107,9162,38.36,10.655555555555555,null,null,null,null,null,null,null,null,0,{"$f":"IF(AC30=100,\"ОК\",\" \")","v":" "}]
[21,null,null,null,null,null,null,null,null,null,null,null,null,null,8264,34.6,9.6111111111111107,9162,38.36,10.655555555555555,null,null,null,null,null,null,null,null,0," "]
[22,95.224100000000007,2.7498999999999998,0.871,0.1356,0.12770000000000001,1.4E-3,2.4E-2,1.6199999999999999E-2,9.4000000000000004E-3,4.5999999999999999E-3,0.62319999999999998,0.21290000000000001,0.70609999999999995,8259,34.58,9.6055555555555543,9157,38.340000000000003,10.65,11959,50.07,13.908333333333333,-22.6,-19.2,null,null,null,100,"ОК"]
[23,null,null,null,null,null,null,null,null,null,null,null,null,null,8259,34.58,9.6055555555555543,9157,38.340000000000003,10.65,null,null,null,null,null,null,null,null,0,{"$f":"IF(AC33=100,\"ОК\",\" \")","v":" "}]
[24,null,null,null,null,null,null,null,null,null,null,null,null,null,8259,34.58,9.6055555555555543,9157,38.340000000000003,10.65,null,null,null,null,null,null,null,null,0," "]
[25,null,null,null,null,null,null,null,null,null,null,null,null,null,8259,34.58,9.6055555555555543,9157,38.340000000000003,10.65,null,null,null,null,null,null,null,null,0," "]
[26,null,null,null,null,null,null,null,null,null,null,null,null,null,8259,34.58,9.6055555555555543,9157,38.340000000000003,10.65,null,null,null,null,null,null,null,null,0," "]
[27,null,null,null,null,null,null,null,null,null,null,null,null,null,8259,34.58,9.6055555555555543,9157,38.340000000000003,10.65,null,null,null,null,null,null,null,null,0," "]
[28,null,null,null,null,null,null,null,null,null,null,null,null,null,8259,34.58,9.6055555555555543,9157,38.340000000000003,10.65,null,null,null,null,null,null,null,null,0," "]
[29,95.436000000000007,2.5566,0.85929999999999995,0.1351,0.13189999999999999,1.4E-3,2.4500000000000001E-2,1.67E-2,9.5999999999999992E-3,5.1000000000000004E-3,0.63770000000000004,0.18609999999999999,0.7046,8247,34.53,9.5916666666666668,9143,38.28,10.633333333333333,11954,50.05,13.902777777777777,-21.9,-17,"<0,006","<0,02","відсут.",100.00000000000001,"ОК"]
[30,null,null,null,null,null,null,null,null,null,null,null,null,null,8247,34.53,9.5916666666666668,9143,38.28,10.633333333333333,null,null,null,null,null,null,null,null,0]
[31,null,null,null,null,null,null,null,null,null,null,null,null,null,8247,34.53,9.5916666666666668,9143,38.28,10.633333333333333,null,null,null,null,null,null,null,null,0," "]
["Рівень одоризації відповідає чинним нормативним документам",null,null,null,null,null,null,null,null,null,null,null,null,null,{"$f":"SUMPRODUCT(O11:O41,' розрахунок'!I7:I37)/' розрахунок'!I38","v":8255.8258031079476},{"$f":"SUMPRODUCT(P11:P41,' розрахунок'!I7:I37)/' розрахунок'!I38","v":34.565818828104192},{"$f":"SUMPRODUCT(Q11:Q41,' розрахунок'!I7:I37)/' розрахунок'!I38","v":9.6016163411400548},{"$f":"SUMPRODUCT(R11:R41,' розрахунок'!I7:I37)/' розрахунок'!I38","v":9153.2297672327022},{"$f":"SUMPRODUCT(S11:S41,' розрахунок'!I7:I37)/' розрахунок'!I38","v":38.323037174576704},{"$f":"SUMPRODUCT(T11:T41,' розрахунок'!I7:I37)/' розрахунок'!I38","v":10.645288104049085}]
[null,null,null,null,null,null,null,"Середньозважене значення теплоти згоряння:"]
[]
[]
[null,"Заступник начальника управління Диканського ЛВУМГ        ",null,null,null,null,null,null,null,null,null,null,null,null,"Герасименко І.М.",null,null,null,null,null,null,"01.06.17р."]
[null,null,"Підрозділу підприємства, якому підпорядкована лабораторія",null,null,null,null,null,null,null,null,null,null,null,"прізвище",null,null,"підпис",null,null,null,"дата"]
[null,"Завідувач лабораторією      ",null,null,null,null,null,null,null,null,null,null,null,null,"Славінська А.В.",null,null,null,null,null,null,{"$f":"V46","v":"01.06.17р."}]
[null,null,"Лабораторія, де здійснювалось вимірювання газу",null,null,null,null,null,null,null,null,null,null,null,"прізвище",null,null,"підпис",null,null,null,"дата"]
[null,"Начальник служби ГВ та М         ",null,null,null,null,null,null,null,null,null,null,null,null,"Левадний С.А.",null,null,null,null,null,null,{"$f":"V46","v":"01.06.17р."}]
[null,null,"Підрозділу, відповідального за облік газу за маршрутом",null,null,null,null,null,null,null,null,null,null,null,"прізвище",null,null,"підпис",null,null,null,"дата"]

{"sheet":" розрахунок","index":1,"n_rows":42,"n_cols":9,"rows_kept":42,"cut":false,"hidden":false,"merged":[[3,8,5,8],[1,0,1,7],[0,0,0,1],[3,0,5,0],[3,1,5,1],[3,2,3,7],[4,2,4,7]]}
[]
["Додаток до Паспорту фізико-хімічних показників природного газу по маршруту № 109"]
[]
["Число місяця","Теплота згоряння вища, МДж/м3","Полтавська область",null,null,null,null,null,"Загальний обсяг газу, м3"]
[null,null,"Обсяг газу переданого за добу,  м3 "]
[null,null,"ГРС Решетилівка","ГРС Остап'є","ГРС Покровське (Жовтневе)","ГРС Ставкове","ГРС Дейкалівка","ГРС Пірки (Комсомольське)"]
[1,{"$f":"паспорт!S11","v":38.270000000000003},7378.75,2436.29,1822.17,449.03,2159.48,439.1,{"$f":"SUM(C7:H7)","v":14684.820000000002}]
[2,{"$f":"паспорт!S12","v":38.270000000000003},7145.08,2438.6999999999998,2052.4499999999998,427.89,2327.64,427.96,14819.719999999998]
[3,{"$f":"паспорт!S13","v":38.299999999999997},7435.94,2119.25,3164.71,364.31,2418.7399999999998,426.6,15929.549999999997]
[4,{"$f":"паспорт!S14","v":38.299999999999997},7495.58,2282.1999999999998,3330.59,409.89,2373.65,457.71,16349.619999999997]
[5,{"$f":"паспорт!S15","v":38.299999999999997},7720.85,2332.62,3473.48,411.82,2459.92,466.49,16865.180000000004]
[6,{"$f":"паспорт!S16","v":38.299999999999997},7196.41,2284.87,3469.77,454.81,2480.33,446.77,16332.96]
[7,{"$f":"паспорт!S17","v":38.299999999999997},6660.17,2139.3000000000002,3438.35,425.92,2338.1799999999998,442.59,15444.510000000002]
[8,{"$f":"паспорт!S18","v":38.299999999999997},7282.51,2061.39,3567.67,422.97,2382.41,422.65,16139.599999999999]
[9,{"$f":"паспорт!S19","v":38.299999999999997},7901.59,2287.1,3802.14,491.75,2670.21,478.01,17630.8]
[10,{"$f":"паспорт!S20","v":38.299999999999997},11107.5,3147.38,5473.15,1053.45,4952.57,829.07,26563.119999999999]
[11,{"$f":"паспорт!S21","v":38.299999999999997},12383.39,3615.77,6111.25,1013.27,4777.16,917.73,28818.57]
[12,{"$f":"паспорт!S22","v":38.299999999999997},16033.06,4938.28,4382.63,1508.47,6147.6,983.57,33993.61]
[13,{"$f":"паспорт!S23","v":38.299999999999997},16832.98,5406.31,4062.58,1555.71,6214.44,1156.8499999999999,35228.870000000003]
[14,{"$f":"паспорт!S24","v":38.299999999999997},16078.36,4957.2700000000004,4600.37,1261.8399999999999,5198.99,953.72,33050.550000000003]
[15,{"$f":"паспорт!S25","v":38.36},10248.5,3109.27,3617.97,717.69,3253.09,687.69,21634.21]
[16,{"$f":"паспорт!S26","v":38.36},7830.33,5584.97,1684.15,537.13,2746.46,484.36,18867.399999999998]
[17,{"$f":"паспорт!S27","v":38.36},8749.91,8061.43,1938.94,592.54,2781.55,619.08000000000004,22743.45]
[18,{"$f":"паспорт!S28","v":38.36},10538.27,15779.59,2410.19,849.06,4177.84,753.95,34508.899999999994]
[19,{"$f":"паспорт!S29","v":38.36},12334.43,14853.19,2891.16,1108.08,4311.6000000000004,913.44,36411.9]
[20,{"$f":"паспорт!S30","v":38.36},13642.14,15496.12,3328.04,950.06,4440.6899999999996,771.36,38628.410000000003]
[21,{"$f":"паспорт!S31","v":38.36},11273.41,13649.75,2701.97,775.16,3463.84,571.46,32435.59]
[22,{"$f":"паспорт!S32","v":38.340000000000003},9254.19,12630.12,1952.5,539.54,3152.85,458.38,27987.58]
[23,{"$f":"паспорт!S33","v":38.340000000000003},11389.9,11776.09,1903.74,400.13,2253.11,471.68,28194.65]
[24,{"$f":"паспорт!S34","v":38.340000000000003},6867.8,12050.08,1235.3,454.52,2203.92,349.29,23160.910000000003]
[25,{"$f":"паспорт!S35","v":38.340000000000003},6953.67,12419.38,1159.06,348.06,2158.81,366.84,23405.820000000003]
[26,{"$f":"паспорт!S36","v":38.340000000000003},6209.83,11507.52,1854.14,343.13,2028.19,340.32,22283.129999999997]
[27,{"$f":"паспорт!S37","v":38.340000000000003},7763.38,12263.93,1563.53,383.89,2144,375.87,24494.6]
[28,{"$f":"паспорт!S38","v":38.340000000000003},6502.71,12862.49,1741.83,385.91,2105.9699999999998,378.39,23977.3]
[29,{"$f":"паспорт!S39","v":38.28},6299.85,11162.16,1199.73,372.98,1723.47,317.38,21075.570000000003]
[30,{"$f":"паспорт!S40","v":38.28},6358.42,8525.26,1513.61,320.58,1793.78,290.43,18802.080000000002]
[31,{"$f":"паспорт!S41","v":38.28},6691.65,11699.68,1278.71,335.48,2335.71,286.43,22627.66]
["Загальний обсяг газу, м3",null,{"$f":"SUM(C7:C37)","v":287560.55999999994},235877.75999999995,86725.88,19665.070000000003,95976.200000000026,{"$f":"SUM(H7:H37)","v":17285.170000000006},743090.64000000013]
["Енергія, МДж",null,{"$f":"SUMPRODUCT(B7:B37,C7:C37)","v":11019421.4133},{"$f":"SUMPRODUCT(B7:B37,D7:D37)","v":9041356.6599000003},{"$f":"SUMPRODUCT(B7:B37,E7:E37)","v":3322975.8736},{"$f":"SUMPRODUCT(B7:B37,F7:F37)","v":753571.28300000017},{"$f":"SUMPRODUCT(B7:B37,G7:G37)","v":3677789.1653999998},{"$f":"SUMPRODUCT(B7:B37,H7:H37)","v":662375.8256000001},{"$f":"SUMPRODUCT(B7:B37,I7:I37)","v":28477490.220800001}]
["Теплота згоряння (середньозважене значення за місяць), МДж/м³",null,{"$f":"C39/C38","v":38.320350375239229},{"$f":"D39/D38","v":38.33068730133779},{"$f":"E39/E38","v":38.315850742592637},{"$f":"F39/F38","v":38.320294969710254},38.319803924306221,38.320469257751,38.323037174576704]
["Теплота згоряння (середньозважене значення за місяць), ккал/м³",null,{"$f":"C40*238.8459","v":9152.6585736893521},{"$f":"D40*238.8459","v":9155.1275061065953},9151.5838548802076,9152.6453403059186,9152.5280561244508,9152.6869682898705,9153.3003046952308]
["Теплота згоряння (середньозважене значення за місяць), кВт*год./м³",null,{"$f":"C40/3.6","v":10.644541770899785},{"$f":"D40/3.6","v":10.647413139260497},10.643291872942399,10.644526380475071,10.644389978973949,10.644574793819721,10.645288104049085]

{"sheet":"додаток","index":2,"n_rows":21,"n_cols":6,"rows_kept":21,"cut":false,"hidden":false,"merged":[[0,0,0,1],[11,0,11,1],[3,2,3,4],[3,1,4,1],[3,0,4,0],[5,0,10,0]]}
[]
["Додаток до Паспорту фізико-хімічних показників природного газу №109"]
[]
["Область","ГРС, прямий споживач","Cередньозважене значення вищої теплоти згоряння"]
[null,null," МДж/м³","ккал/м³","кВт*год./м³"]
["Полтавська область","ГРС Решетилівка",{"$f":"' розрахунок'!C40","v":38.320350375239229},{"$f":"' розрахунок'!C41","v":9152.6585736893521},{"$f":"' розрахунок'!C42","v":10.644541770899785}]
[null,"ГРС Остап'є",{"$f":"' розрахунок'!D40","v":38.33068730133779},{"$f":"' розрахунок'!D41","v":9155.1275061065953},{"$f":"' розрахунок'!D42","v":10.647413139260497}]
[null,"ГРС Покровське (Жовтневе)",{"$f":"' розрахунок'!E40","v":38.315850742592637},{"$f":"' розрахунок'!E41","v":9151.5838548802076},{"$f":"' розрахунок'!E42","v":10.643291872942399}]
[null,"ГРС Ставкове",{"$f":"' розрахунок'!F40","v":38.320294969710254},{"$f":"' розрахунок'!F41","v":9152.6453403059186},{"$f":"' розрахунок'!F42","v":10.644526380475071}]
[null,"ГРС Дейкалівка",{"$f":"' розрахунок'!G40","v":38.319803924306221},{"$f":"' розрахунок'!G41","v":9152.5280561244508},{"$f":"' розрахунок'!G42","v":10.644389978973949}]
[null,"ГРС Пірки (Комсомольське)",{"$f":"' розрахунок'!H40","v":38.320469257751},{"$f":"' розрахунок'!H41","v":9152.6869682898705},{"$f":"' розрахунок'!H42","v":10.644574793819721}]
["Середньозважене значення вищої теплоти згоряння по маршруту № 109",null,{"$f":"' розрахунок'!I40","v":38.323037174576704},{"$f":"' розрахунок'!I41","v":9153.3003046952308},{"$f":"' розрахунок'!I42","v":10.645288104049085}]
[]
[]
[]
["Заступник начальника управління Диканського ЛВУМГ ",null,null,"Герасименко І.М.",null,{"$f":"паспорт!V46","v":"01.06.17р."}]
["Підрозділу підприємства, якому підпорядкована лабораторія",null,null,"прізвище","підпис","дата"]
["Завідувач лабораторією                    ",null,null,"Славінська А.В.",null,{"$f":"F16","v":"01.06.17р."}]
["Лабораторія, де здійснювалось вимірювання газу",null,null,"прізвище","підпис","дата"]
["Начальник служби ГВ та М ",null,null,"Левадний С.А. ",null,{"$f":"F16","v":"01.06.17р."}]
["Підрозділу, відповідального за облік газу за маршрутом",null,null,"прізвище","підпис","дата"]

{"sheet":"variablesList","index":3,"n_rows":3,"n_cols":4,"rows_kept":3,"cut":false,"hidden":true,"merged":[]}
[3,"x:\\gaysin","10, 11, 24, 25, 127, 128, 132, 180, 207, 215","x:\\"]
[null,"x:\\Illinci"]
[null,"x:\\Talne"]