{"text_format":"1","workbook":"xlsx","n_sheets":4,"sheets":["паспорт"," розрахунок","додаток","variablesList"],"not_rendered":{"charts":0,"images":0,"macros":1,"external_links":0,"defined_names":3,"comments":0,"pivot_tables":0},"unopened":[],"bounds":{"document_bytes":16777216,"sheet_cells":100000,"rows_first":2000,"rows_last":500,"rows_between":2000,"halvings":0,"cell_chars":16384,"cell_head_chars":4096},"cells_cut":0,"cells_raw":0,"read":"whole","date_system":"1900"}

{"sheet":"паспорт","index":0,"n_rows":50,"n_cols":31,"rows_kept":50,"cut":false,"hidden":false,"merged":[[49,1,49,6],[49,11,49,15],[49,23,49,24],[49,25,49,27],[0,6,0,24],[1,6,1,24],[0,25,0,27],[4,23,4,24],[8,12,9,12],[4,21,4,22],[8,14,8,16],[8,17,8,19],[8,20,8,22],[7,14,7,22],[2,6,2,24],[4,26,4,27],[8,7,9,7],[6,1,7,12],[7,13,9,13],[6,13,6,22],[8,6,9,6],[8,4,9,4],[6,27,9,27],[8,8,9,8],[6,26,9,26],[6,24,9,24],[6,23,9,23],[6,25,9,25],[45,1,45,6],[45,11,45,15],[45,23,45,24],[45,25,45,27],[47,1,47,6],[47,11,47,15],[47,23,47,24],[47,25,47,27],[6,0,9,0],[8,11,9,11],[41,18,42,18],[41,19,42,19],[41,14,42,14],[42,7,42,13],[41,15,42,15],[41,16,42,16],[41,17,42,17],[8,9,9,9],[8,10,9,10],[41,0,41,13],[8,3,9,3],[8,1,9,1],[8,2,9,2],[8,5,9,5]]}
["ПАТ \"УКРТРАНСГАЗ\"",null,null,null,null,null,"ПАСПОРТ ФІЗИКО-ХІМІЧНИХ ПОКАЗНИКІВ ПРИРОДНОГО ГАЗУ  №106"]
["Філія \"УМГ \"Київтрансгаз\"",null,null,null,null,null,"переданогоДиканським ЛВУМГ та прийнятого  ПАТ \"Полтавагаз\""]
["Диканський п/м Диканське ЛВУМГ",null,null,null,null,null,"Маршрут №106"]
["Вимірювальна хіміко-аналітична лабораторія"]
["Свідоцтво № 186-13 чинне до 05.12.2018 р.",null,null,null,null,null,null,null,null,null,"по газопроводу  \"ЄЛЕЦЬК - КУРСЬК - ДИКАНЬКА\"",null,null,null,null,null,null,null,null,null,null,"за період з",null,"2017-05-01",null," по","31.05.2017р."]
[]
["Число місяця","Компонентний склад, % мол. ",null,null,null,null,null,null,null,null,null,null,null,"Фізико-хімічні показники газу обчислені на основі компонентного складу, 101,325 кПа",null,null,null,null,null,null,null,null,null,"Температура точки роси за вологою (Р = 3.92 МПа), °С","Температура точки роси за вуглеводнями, °С","Вміст сірководню, г/м3","Вміст меркаптанової сірки, г/м3","Вміст механічних домішок, г/м3"]
[null,null,null,null,null,null,null,null,null,null,null,null,null,"Густина абсолютна, кг/м3,при 20 ºС, ","Температура вимірювання/згоряння при  20/25°С"]
[null,"метан, С1","етан, С2","пропан, С3","ізо-бутан, і-С4","н-бутан, н-С4","нео-пентан, нео-С5","ізо-пентан, і-С5","н-пентан, н-С5","гексани та вищі, С6+","кисень, О2","азот, N2","діоксид вуглецю, CО2",null,"Теплота згоряння нижча",null,null,"Теплота згоряння вища",null,null,"Число Воббе вище"]
[null,null,null,null,null,null,null,null,null,null,null,null,null,null," ккал/м3"," МДж/м3","кВт⋅год/м3"," ккал/м3"," МДж/м3","кВт⋅год/м3"," ккал/м3"," МДж/м3","кВт⋅год/м3",null,null,null,null,null,null,null,"  "]
[1,null,null,null,null,null,null,null,null,null,null,null,null,null,8249.605923095296,34.5411,{"$f":"P11/3.6","v":9.5947499999999994},9139.0016718414154,38.265000000000001,{"$f":"S11/3.6","v":10.629166666666666},null,null,null,null,null,null,null,null,{"$f":"SUM(B11:M11)+$K$42+$N$42","v":0}]
[2,null,null,null,null,null,null,null,null,null,null,null,null,null,8249.605923095296,34.5411,{"$f":"P12/3.6","v":9.5947499999999994},9139.0016718414154,38.265000000000001,{"$f":"S12/3.6","v":10.629166666666666},null,null,null,null,null,null,null,null,0]
[3,null,null,null,null,null,null,null,null,null,null,null,null,null,8249.605923095296,34.5411,9.5947499999999994,9139.0016718414154,38.265000000000001,10.629166666666666,null,null,null,null,null,null,null,null,0,{"$f":"IF(AC13=100,\"ОК\",\" \")","v":" "}]
[4,90.964399999999998,4.4119000000000002,1.0929,0.12520000000000001,0.19,3.8999999999999998E-3,5.8000000000000003E-2,4.7600000000000003E-2,6.2799999999999995E-2,9.1999999999999998E-3,2.0951,0.93899999999999995,0.73829999999999996,8258.1208770899993,34.575099999999999,9.6041944444444436,9147.9173929499993,38.3005,10.639027777777777,11683.424886553619,48.918500000000002,13.587822003043593,-3.5,1.7,null,null,null,100.00000000000001,{"$f":"IF(AC14=100,\"ОК\",\" \")","v":"ОК"}]
[5,null,null,null,null,null,null,null,null,null,null,null,null,null,8258.1208770899993,34.575099999999999,9.6041944444444436,9147.9173929499993,38.3005,10.639027777777777,null,null,null,null,null,null,null,null,0," "]
[6,null,null,null,null,null,null,null,null,null,null,null,null,null,8258.1208770899993,34.575099999999999,9.6041944444444436,9147.9173929499993,38.3005,10.639027777777777,null,null,null,null,null,null,null,null,0," "]
[7,null,null,null,null,null,null,null,null,null,null,null,null,null,8258.1208770899993,34.575099999999999,9.6041944444444436,9147.9173929499993,38.3005,10.639027777777777,null,null,null,null,null,null,null,null,0," "]
[8,null,null,null,null,null,null,null,null,null,null,null,null,null,8258.1208770899993,34.575099999999999,9.6041944444444436,9147.9173929499993,38.3005,10.639027777777777,null,null,null,null,null,null,null,null,0," "]
[9,null,null,null,null,null,null,null,null,null,null,null,null,null,8258.1208770899993,34.575099999999999,9.6041944444444436,9147.9173929499993,38.3005,10.639027777777777,null,null,null,null,null,null,null,null,0," "]
[10,null,null,null,null,null,null,null,null,null,null,null,null,null,8258.1208770899993,34.575099999999999,9.6041944444444436,9147.9173929499993,38.3005,10.639027777777777,null,null,null,null,null,null,null,null,0," "]
[11,90.861900000000006,4.4393000000000002,1.0919000000000001,0.12889999999999999,0.20180000000000001,4.0000000000000001E-3,5.9700000000000003E-2,4.82E-2,7.2800000000000004E-2,1.0200000000000001E-2,2.1248999999999998,0.95650000000000002,0.73950000000000005,8262.4439878800003,34.593200000000003,9.6092222222222237,9152.4076958699989,38.319299999999998,10.64425,11680.200620969668,48.905000000000001,13.58407218248407,-11.1,-8.6999999999999993,null,null,null,100.00010000000002," "]
[12,null,null,null,null,null,null,null,null,null,null,null,null,null,8262.4439878800003,34.593200000000003,9.6092222222222237,9152.4076958699989,38.319299999999998,10.64425,null,null,null,null,null,null,null,null,0," "]
[13,null,null,null,null,null,null,null,null,null,null,null,null,null,8262.4439878800003,34.593200000000003,9.6092222222222237,9152.4076958699989,38.319299999999998,10.64425,null,null,null,null,null,null,null,null,0," "]
[14,null,null,null,null,null,null,null,null,null,null,null,null,null,8262.4439878800003,34.593200000000003,9.6092222222222237,9152.4076958699989,38.319299999999998,10.64425,null,null,null,null,null,null,null,null,0," "]
[15,null,null,null,null,null,null,null,null,null,null,null,null,null,8262.4439878800003,34.593200000000003,9.6092222222222237,9152.4076958699989,38.319299999999998,10.64425,null,null,null,null,null,"<0,006","<0,02","від.",0," "]
[16,90.920299999999997,4.4644000000000004,1.075,0.12330000000000001,0.18859999999999999,3.8999999999999998E-3,5.5100000000000003E-2,4.4600000000000001E-2,7.3800000000000004E-2,9.1000000000000004E-3,2.0983000000000001,0.94359999999999999,0.73860000000000003,8259.9122213400005,34.582599999999999,9.6062777777777768,9149.80427556,38.308399999999999,10.641222222222222,11683.520420348699,48.918900000000001,13.58793310883795,-9.5,-8.6,null,null,null,100,"ОК"]
[17,null,null,null,null,null,null,null,null,null,null,null,null,null,8259.9122213400005,34.582599999999999,9.6062777777777768,9149.80427556,38.308399999999999,10.641222222222222,null,null,null,null,null,null,null,null,0," "]
[18,null,null,null,null,null,null,null,null,null,null,null,null,null,8259.9122213400005,34.582599999999999,9.6062777777777768,9149.80427556,38.308399999999999,10.641222222222222,null,null,null,null,null,null,null,null,0," "]
[19,null,null,null,null,null,null,null,null,null,null,null,null,null,8259.9122213400005,34.582599999999999,9.6062777777777768,9149.80427556,38.308399999999999,10.641222222222222,null,null,null,null,null,null,null,null,0," "]
[20,null,null,null,null,null,null,null,null,null,null,null,null,null,8259.9122213400005,34.582599999999999,9.6062777777777768,9149.80427556,38.308399999999999,10.641222222222222,null,null,null,null,null,null,null,null,0,{"$f":"IF(AC30=100,\"ОК\",\" \")","v":" "}]
[21,null,null,null,null,null,null,null,null,null,null,null,null,null,8259.9122213400005,34.582599999999999,9.6062777777777768,9149.80427556,38.308399999999999,10.641222222222222,null,null,null,null,null,null,null,null,0," "]
[22,null,null,null,null,null,null,null,null,null,null,null,null,null,8259.9122213400005,34.582599999999999,9.6062777777777768,9149.80427556,38.308399999999999,10.641222222222222,null,null,null,null,null,null,null,null,0," "]
[23,null,null,null,null,null,null,null,null,null,null,null,null,null,8259.9122213400005,34.582599999999999,9.6062777777777768,9149.80427556,38.308399999999999,10.641222222222222,null,null,null,null,null,null,null,null,0,{"$f":"IF(AC33=100,\"ОК\",\" \")","v":" "}]
[24,null,null,null,null,null,null,null,null,null,null,null,null,null,8259.9122213400005,34.582599999999999,9.6062777777777768,9149.80427556,38.308399999999999,10.641222222222222,null,null,null,null,null,null,null,null,0," "]
[25,null,null,null,null,null,null,null,null,null,null,null,null,null,8259.9122213400005,34.582599999999999,9.6062777777777768,9149.80427556,38.308399999999999,10.641222222222222,null,null,null,null,null,null,null,null,0," "]
[26,null,null,null,null,null,null,null,null,null,null,null,null,null,8259.9122213400005,34.582599999999999,9.6062777777777768,9149.80427556,38.308399999999999,10.641222222222222]
[27,null,null,null,null,null,null,null,null,null,null,null,null,null,8259.9122213400005,34.582599999999999,9.6062777777777768,9149.80427556,38.308399999999999,10.641222222222222]
[28,null,null,null,null,null,null,null,null,null,null,null,null,null,8259.9122213400005,34.582599999999999,9.6062777777777768,9149.80427556,38.308399999999999,10.641222222222222]
[29,null,null,null,null,null,null,null,null,null,null,null,null,null,8259.9122213400005,34.582599999999999,9.6062777777777768,9149.80427556,38.308399999999999,10.641222222222222]
[30,null,null,null,null,null,null,null,null,null,null,null,null,null,8259.9122213400005,34.582599999999999,9.6062777777777768,9149.80427556,38.308399999999999,10.641222222222222,null,null,null,null,null,null,null,null,{"$f":"SUM(B40:M40)+$K$42+$N$42","v":0}," "]
[31,null,null,null,null,null,null,null,null,null,null,null,null,null,8259.9122213400005,34.582599999999999,9.6062777777777768,9149.80427556,38.308399999999999,10.641222222222222,null,null,null,null,null,null,null,null,{"$f":"SUM(B41:M41)+$K$42+$N$42","v":0}," "]
["Рівень одоризації відповідає чинним нормативним документам",null,null,null,null,null,null,null,null,null,null,null,null,null,{"$f":"SUMPRODUCT(O11:O41,' розрахунок'!D7:D37)/' розрахунок'!D38","v":8259.5060764929895},{"$f":"SUMPRODUCT(P11:P41,' розрахунок'!D7:D37)/' розрахунок'!D38","v":34.581016855412621},{"$f":"SUMPRODUCT(Q11:Q41,' розрахунок'!D7:D37)/' розрахунок'!D38","v":9.6058380153923952},{"$f":"SUMPRODUCT(R11:R41,' розрахунок'!D7:D37)/' розрахунок'!D38","v":9149.3631037118666},{"$f":"SUMPRODUCT(S11:S41,' розрахунок'!D7:D37)/' розрахунок'!D38","v":38.306682850844915},{"$f":"SUMPRODUCT(T11:T41,' розрахунок'!D7:D37)/' розрахунок'!D38","v":10.640745236345806}]
[null,null,null,null,null,null,null,"Середньозважене значення теплоти згоряння:"]
[]
[]
[null,"Заступник начальника Диканського ЛВУМГ                                                                                                                                                                          31.05.2017р.         ",null,null,null,null,null,null,null,null,null,"Герасименко І.М.",null,null,null,null,null,null,null,null,null,null,null,null,null,{"$f":"TODAY()","v":"2017-06-01"}]
[]
[null,"Завідувач лабораторії  Диканського ЛВУМГ                                                                                                                                                                                                                                           ",null,null,null,null,null,null,null,null,null,"Горшковоз О.В.",null,null,null,null,null,null,null,null,null,null,null,null,null,{"$f":"TODAY()","v":"2017-06-01"}]
[]
[null,"Начальник служби ГВМ та М Диканського ЛВУМГ                                                                                                                                                                                                                     ",null,null,null,null,null,null,null,null,null,"Левадний С.А.",null,null,null,null,null,null,null,null,null,null,null,null,null,{"$f":"TODAY()","v":"2017-06-01"}]

{"sheet":" розрахунок","index":1,"n_rows":42,"n_cols":4,"rows_kept":42,"cut":false,"hidden":false,"merged":[[3,3,5,3],[0,0,0,1],[3,0,5,0],[3,1,5,1]]}
[]
["Додаток до Паспорту фізико-хімічних показників природного газу по маршруту №106"]
[]
["Число місяця","Теплота згоряння вища, МДж/м3","Полтавська область","Загальний обсяг газу, м3"]
[null,null,"Обсяг газу переданого за добу,  м3 "]
[null,null,"ГРС Зіньків"]
[1,{"$f":"паспорт!S11","v":38.265000000000001},8562.08,{"$f":"SUM(C7:C7)","v":8562.08}]
[2,{"$f":"паспорт!S12","v":38.265000000000001},8680.07,8680.07]
[3,{"$f":"паспорт!S13","v":38.265000000000001},7767.9,7767.9]
[4,{"$f":"паспорт!S14","v":38.3005},7715.42,7715.42]
[5,{"$f":"паспорт!S15","v":38.3005},8903.65,8903.65]
[6,{"$f":"паспорт!S16","v":38.3005},9088.5400000000009,9088.5400000000009]
[7,{"$f":"паспорт!S17","v":38.3005},8236.4599999999991,8236.4599999999991]
[8,{"$f":"паспорт!S18","v":38.3005},8718.4699999999993,8718.4699999999993]
[9,{"$f":"паспорт!S19","v":38.3005},10842.06,10842.06]
[10,{"$f":"паспорт!S20","v":38.3005},17038.07,17038.07]
[11,{"$f":"паспорт!S21","v":38.319299999999998},17377.05,17377.05]
[12,{"$f":"паспорт!S22","v":38.319299999999998},21159.02,21159.02]
[13,{"$f":"паспорт!S23","v":38.319299999999998},24329.46,24329.46]
[14,{"$f":"паспорт!S24","v":38.319299999999998},19975.919999999998,19975.919999999998]
[15,{"$f":"паспорт!S25","v":38.319299999999998},12432.64,12432.64]
[16,{"$f":"паспорт!S26","v":38.308399999999999},10010.32,10010.32]
[17,{"$f":"паспорт!S27","v":38.308399999999999},12384.17,12384.17]
[18,{"$f":"паспорт!S28","v":38.308399999999999},15231.76,15231.76]
[19,{"$f":"паспорт!S29","v":38.308399999999999},18476.64,18476.64]
[20,{"$f":"паспорт!S30","v":38.308399999999999},15501.17,15501.17]
[21,{"$f":"паспорт!S31","v":38.308399999999999},12120.45,12120.45]
[22,{"$f":"паспорт!S32","v":38.308399999999999},10058.85,10058.85]
[23,{"$f":"паспорт!S33","v":38.308399999999999},8504.02,8504.02]
[24,{"$f":"паспорт!S34","v":38.308399999999999},7791.68,7791.68]
[25,{"$f":"паспорт!S35","v":38.308399999999999},7565.02,7565.02]
[26,{"$f":"паспорт!S36","v":38.308399999999999},7100.53,7100.53]
[27,{"$f":"паспорт!S37","v":38.308399999999999},7870.47,7870.47]
[28,{"$f":"паспорт!S38","v":38.308399999999999},7854.43,7854.43]
[29,{"$f":"паспорт!S39","v":38.308399999999999},6799.42,6799.42]
[30,{"$f":"паспорт!S40","v":38.308399999999999},7013.07,7013.07]
[31,{"$f":"паспорт!S41","v":38.308399999999999},6774.24,6774.24]
["Загальний обсяг газу, м3",null,{"$f":"SUM(C7:C37)","v":351883.05},{"$f":"SUM(D7:D37)","v":351883.05}]
["Енергія, МДж",null,{"$f":"SUMPRODUCT(B7:B37,C7:C37)","v":13479472.396938004},{"$f":"SUMPRODUCT(B7:B37,D7:D37)","v":13479472.396938004}]
["Теплота згоряння (середньозважене значення за місяць), МДж/м³",null,{"$f":"C39/C38","v":38.306682850844915},38.306682850844915]
["Теплота згоряння (середньозважене значення за місяць), ккал/м³",null,{"$f":"C40*238.8459","v":9149.394141524619},9149.394141524619]
["Теплота згоряння (середньозважене значення за місяць), кВт*год./м³",null,{"$f":"C40/3.6","v":10.640745236345809},10.640745236345809]

{"sheet":"додаток","index":2,"n_rows":15,"n_cols":5,"rows_kept":15,"cut":false,"hidden":false,"merged":[[12,0,12,1],[10,0,10,1],[1,0,1,3],[0,0,0,1],[6,0,6,1],[3,2,3,4],[3,1,4,1],[3,0,4,0]]}
[]
["Додаток до Паспорту фізико-хімічних показників природного газу №",null,null,null,106]
[]
["Область","ГРС, прямий споживач","Cередньозважене значення вищої теплоти згоряння"]
[null,null," МДж/м³","ккал/м³","кВт*год./м³"]
["Полтавська область","ГРС Зіньків",{"$f":"' розрахунок'!C40","v":38.306682850844915},{"$f":"' розрахунок'!C41","v":9149.394141524619},{"$f":"' розрахунок'!C42","v":10.640745236345809}]
["Середньозважене значення вищої теплоти згоряння по маршруту №106",null,{"$f":"C6","v":38.306682850844915},{"$f":"D6","v":9149.394141524619},10.640745236345809]
[]
[]
[]
["Заступник начальника Диканського ЛВУМГ                                                                                       ",null,"Герасименко І.М.",null,{"$f":"TODAY()","v":"2017-06-01"}]
[]
["Завідувач вимірювальної хіміко-аналітичної лабораторії лабораторії                                                                                                                                                                ",null,"Горшковоз О.В.",null,{"$f":"TODAY()","v":"2017-06-01"}]
[]
["Начальник службиГВ та М",null,"Левадний С.А.",null,{"$f":"TODAY()","v":"2017-06-01"}]

{"sheet":"variablesList","index":3,"n_rows":3,"n_cols":4,"rows_kept":3,"cut":false,"hidden":true,"merged":[]}
[3,"x:\\gaysin","10, 11, 24, 25, 127, 128, 132, 180, 207, 215","x:\\"]
[null,"x:\\Illinci"]
[null,"x:\\Talne"]