{"text_format":"1","workbook":"xlsx","n_sheets":4,"sheets":["паспорт"," розрахунок","додаток","variablesList"],"not_rendered":{"charts":0,"images":0,"macros":1,"external_links":0,"defined_names":3,"comments":0,"pivot_tables":0},"unopened":[],"bounds":{"document_bytes":16777216,"sheet_cells":100000,"rows_first":2000,"rows_last":500,"rows_between":2000,"halvings":0,"cell_chars":16384,"cell_head_chars":4096},"cells_cut":0,"cells_raw":0,"read":"whole","date_system":"1900"}

{"sheet":"паспорт","index":0,"n_rows":50,"n_cols":31,"rows_kept":50,"cut":false,"hidden":false,"merged":[[6,0,9,0],[8,11,9,11],[41,18,42,18],[41,19,42,19],[41,14,42,14],[42,7,42,13],[41,15,42,15],[41,16,42,16],[41,17,42,17],[8,9,9,9],[8,10,9,10],[41,0,41,13],[8,3,9,3],[8,1,9,1],[8,2,9,2],[8,5,9,5],[45,1,45,6],[45,11,45,15],[45,23,45,24],[45,25,45,27],[47,1,47,6],[47,11,47,15],[47,23,47,24],[47,25,47,27],[6,27,9,27],[8,8,9,8],[6,26,9,26],[6,24,9,24],[6,23,9,23],[6,25,9,25],[8,7,9,7],[6,1,7,12],[7,13,9,13],[6,13,6,22],[8,6,9,6],[8,4,9,4],[49,1,49,6],[49,11,49,15],[49,23,49,24],[49,25,49,27],[0,6,0,24],[1,6,1,24],[0,25,0,27],[4,23,4,24],[8,12,9,12],[4,21,4,22],[8,14,8,16],[8,17,8,19],[8,20,8,22],[7,14,7,22],[2,6,2,24],[4,26,4,27]]}
["ПАТ \"УКРТРАНСГАЗ\"",null,null,null,null,null,"ПАСПОРТ ФІЗИКО-ХІМІЧНИХ ПОКАЗНИКІВ ПРИРОДНОГО ГАЗУ  №104"]
["Філія \"УМГ \"Київтрансгаз\"",null,null,null,null,null,"переданогоДиканським ЛВУМГ та прийнятого  ПАТ \"Полтавагаз\""]
["Диканський п/м Диканське ЛВУМГ",null,null,null,null,null,"Маршрут №104"]
["Вимірювальна хіміко-аналітична лабораторія"]
["Свідоцтво № 186-13 чинне до 05.12.2018 р.",null,null,null,null,null,null,null,null,null,"по газопроводу  \"ШЕБЕЛІНКА - ПОЛТАВА - КИЇВ\"",null,null,null,null,null,null,null,null,null,null,"за період з",null,"2017-05-01",null," по","31.05.2017р."]
[]
["Число місяця","Компонентний склад, % мол. ",null,null,null,null,null,null,null,null,null,null,null,"Фізико-хімічні показники газу обчислені на основі компонентного складу, 101,325 кПа",null,null,null,null,null,null,null,null,null,"Температура точки роси за вологою (Р = 3.92 МПа), °С","Температура точки роси за вуглеводнями, °С","Вміст сірководню, г/м3","Вміст меркаптанової сірки, г/м3","Вміст механічних домішок, г/м3"]
[null,null,null,null,null,null,null,null,null,null,null,null,null,"Густина абсолютна, кг/м3,при 20 ºС, ","Температура вимірювання/згоряння при  20/25°С"]
[null,"метан, С1","етан, С2","пропан, С3","ізо-бутан, і-С4","н-бутан, н-С4","нео-пентан, нео-С5","ізо-пентан, і-С5","н-пентан, н-С5","гексани та вищі, С6+","кисень, О2","азот, N2","діоксид вуглецю, CО2",null,"Теплота згоряння нижча",null,null,"Теплота згоряння вища",null,null,"Число Воббе вище"]
[null,null,null,null,null,null,null,null,null,null,null,null,null,null," ккал/м3"," МДж/м3","кВт⋅год/м3"," ккал/м3"," МДж/м3","кВт⋅год/м3"," ккал/м3"," МДж/м3","кВт⋅год/м3",null,null,null,null,null,null,null,"  "]
[1,null,null,null,null,null,null,null,null,null,null,null,null,null,8175.0417960353489,34.228900000000003,{"$f":"P11/3.6","v":9.5080277777777784},9055,37.909700000000001,{"$f":"S11/3.6","v":10.530472222222222},null,null,null,null,null,null,null,null,{"$f":"SUM(B11:M11)+$K$42+$N$42","v":0}]
[2,null,null,null,null,null,null,null,null,null,null,null,null,null,8175.0417960353489,34.228900000000003,{"$f":"P12/3.6","v":9.5080277777777784},9055,37.909700000000001,{"$f":"S12/3.6","v":10.530472222222222},null,null,null,null,null,null,null,null,0]
[3,null,null,null,null,null,null,null,null,null,null,null,null,null,8175.0417960353489,34.228900000000003,9.5080277777777784,9055,37.909700000000001,10.530472222222222,null,null,null,null,null,null,null,null,0,{"$f":"IF(AC13=100,\"ОК\",\" \")","v":" "}]
[4,88.743499999999997,5.2714999999999996,1.212,7.9000000000000001E-2,0.14649999999999999,1.1999999999999999E-3,4.2799999999999998E-2,4.1500000000000002E-2,8.8099999999999998E-2,2.2100000000000002E-2,2.2747999999999999,2.0769000000000002,0.75760000000000005,8206.0524708900011,34.357100000000003,9.5436388888888892,9087.9670720499998,38.049500000000002,10.569305555555555,11457.965130164795,47.974499999999999,13.325612328362784,-8.8000000000000007,-10.199999999999999,null,null,null,99.999899999999982,{"$f":"IF(AC14=100,\"ОК\",\" \")","v":" "}]
[5,null,null,null,null,null,null,null,null,null,null,null,null,null,8206.0524708900011,34.357100000000003,9.5436388888888892,9087.9670720499998,38.049500000000002,10.569305555555555,null,null,null,null,null,null,null,null,0," "]
[6,null,null,null,null,null,null,null,null,null,null,null,null,null,8206.0524708900011,34.357100000000003,9.5436388888888892,9087.9670720499998,38.049500000000002,10.569305555555555,null,null,null,null,null,null,null,null,0," "]
[7,null,null,null,null,null,null,null,null,null,null,null,null,null,8206.0524708900011,34.357100000000003,9.5436388888888892,9087.9670720499998,38.049500000000002,10.569305555555555,null,null,null,null,null,null,null,null,0," "]
[8,null,null,null,null,null,null,null,null,null,null,null,null,null,8206.0524708900011,34.357100000000003,9.5436388888888892,9087.9670720499998,38.049500000000002,10.569305555555555,null,null,null,null,null,null,null,null,0," "]
[9,null,null,null,null,null,null,null,null,null,null,null,null,null,8206.0524708900011,34.357100000000003,9.5436388888888892,9087.9670720499998,38.049500000000002,10.569305555555555,null,null,null,null,null,null,null,null,0," "]
[10,null,null,null,null,null,null,null,null,null,null,null,null,null,8206.0524708900011,34.357100000000003,9.5436388888888892,9087.9670720499998,38.049500000000002,10.569305555555555,null,null,null,null,null,null,null,null,0," "]
[11,null,null,null,null,null,null,null,null,null,null,null,null,null,8206.0524708900011,34.357100000000003,9.5436388888888892,9087.9670720499998,38.049500000000002,10.569305555555555,null,null,null,null,null,null,null,null,0," "]
[12,88.800299999999993,5.2503000000000002,1.1653,7.7399999999999997E-2,0.1348,1.1000000000000001E-3,3.8800000000000001E-2,3.4799999999999998E-2,6.2700000000000006E-2,2.5000000000000001E-2,2.3675000000000002,2.0419,0.75580000000000003,8181.0691897499992,34.252499999999998,9.5145833333333325,9061.0252545300009,37.936700000000002,10.537972222222223,11437.879149749224,47.8904,13.302252335099377,-7.6,-11,null,null,null,99.999899999999997," "]
[13,null,null,null,null,null,null,null,null,null,null,null,null,null,8181.0691897499992,34.252499999999998,9.5145833333333325,9061.0252545300009,37.936700000000002,10.537972222222223,null,null,null,null,null,null,null,null,0," "]
[14,null,null,null,null,null,null,null,null,null,null,null,null,null,8181.0691897499992,34.252499999999998,9.5145833333333325,9061.0252545300009,37.936700000000002,10.537972222222223,null,null,null,null,null,null,null,null,0," "]
[15,null,null,null,null,null,null,null,null,null,null,null,null,null,8181.0691897499992,34.252499999999998,9.5145833333333325,9061.0252545300009,37.936700000000002,10.537972222222223,null,null,null,null,null,"<0,006","<0,02","від.",0," "]
[16,null,null,null,null,null,null,null,null,null,null,null,null,null,8181.0691897499992,34.252499999999998,9.5145833333333325,9061.0252545300009,37.936700000000002,10.537972222222223,null,null,null,null,null,null,null,null,0," "]
[17,null,null,null,null,null,null,null,null,null,null,null,null,null,8181.0691897499992,34.252499999999998,9.5145833333333325,9061.0252545300009,37.936700000000002,10.537972222222223,null,null,null,null,null,null,null,null,0," "]
[18,88.727099999999993,5.37,1.1255999999999999,8.6400000000000005E-2,0.16370000000000001,1.4E-3,4.7E-2,4.2599999999999999E-2,6.3399999999999998E-2,2.5399999999999999E-2,2.2342,2.1132,0.75729999999999997,8199.8663620799998,34.331200000000003,9.5364444444444452,9081.3510406200003,38.021799999999999,10.561611111111111,11452.328636255075,47.950899999999997,13.319057086495764,-8,-9.4,null,null,null,100.00000000000001,"ОК"]
[19,null,null,null,null,null,null,null,null,null,null,null,null,null,8199.8663620799998,34.331200000000003,9.5364444444444452,9081.3510406200003,38.021799999999999,10.561611111111111,null,null,null,null,null,null,null,null,0," "]
[20,null,null,null,null,null,null,null,null,null,null,null,null,null,8199.8663620799998,34.331200000000003,9.5364444444444452,9081.3510406200003,38.021799999999999,10.561611111111111,null,null,null,null,null,null,null,null,0,{"$f":"IF(AC30=100,\"ОК\",\" \")","v":" "}]
[21,null,null,null,null,null,null,null,null,null,null,null,null,null,8199.8663620799998,34.331200000000003,9.5364444444444452,9081.3510406200003,38.021799999999999,10.561611111111111,null,null,null,null,null,null,null,null,0," "]
[22,null,null,null,null,null,null,null,null,null,null,null,null,null,8199.8663620799998,34.331200000000003,9.5364444444444452,9081.3510406200003,38.021799999999999,10.561611111111111,null,null,null,null,null,null,null,null,0," "]
[23,null,null,null,null,null,null,null,null,null,null,null,null,null,8199.8663620799998,34.331200000000003,9.5364444444444452,9081.3510406200003,38.021799999999999,10.561611111111111,null,null,null,null,null,null,null,null,0,{"$f":"IF(AC33=100,\"ОК\",\" \")","v":" "}]
[24,null,null,null,null,null,null,null,null,null,null,null,null,null,8199.8663620799998,34.331200000000003,9.5364444444444452,9081.3510406200003,38.021799999999999,10.561611111111111,null,null,null,null,null,null,null,null,0," "]
[25,null,null,null,null,null,null,null,null,null,null,null,null,null,8199.8663620799998,34.331200000000003,9.5364444444444452,9081.3510406200003,38.021799999999999,10.561611111111111,null,null,null,null,null,null,null,null,0," "]
[26,null,null,null,null,null,null,null,null,null,null,null,null,null,8199.8663620799998,34.331200000000003,9.5364444444444452,9081.3510406200003,38.021799999999999,10.561611111111111,null,null,null,null,null,null,null,null,0," "]
[27,null,null,null,null,null,null,null,null,null,null,null,null,null,8199.8663620799998,34.331200000000003,9.5364444444444452,9081.3510406200003,38.021799999999999,10.561611111111111,null,null,null,null,null,null,null,null,0," "]
[28,null,null,null,null,null,null,null,null,null,null,null,null,null,8199.8663620799998,34.331200000000003,9.5364444444444452,9081.3510406200003,38.021799999999999,10.561611111111111]
[29,null,null,null,null,null,null,null,null,null,null,null,null,null,8199.8663620799998,34.331200000000003,9.5364444444444452,9081.3510406200003,38.021799999999999,10.561611111111111]
[30,null,null,null,null,null,null,null,null,null,null,null,null,null,8199.8663620799998,34.331200000000003,9.5364444444444452,9081.3510406200003,38.021799999999999,10.561611111111111]
[31,null,null,null,null,null,null,null,null,null,null,null,null,null,8199.8663620799998,34.331200000000003,9.5364444444444452,9081.3510406200003,38.021799999999999,10.561611111111111]
["Рівень одоризації відповідає чинним нормативним документам",null,null,null,null,null,null,null,null,null,null,null,null,null,{"$f":"SUMPRODUCT(O11:O41,' розрахунок'!D7:D37)/' розрахунок'!D38","v":8194.5886618452751},{"$f":"SUMPRODUCT(P11:P41,' розрахунок'!D7:D37)/' розрахунок'!D38","v":34.309208275951107},{"$f":"SUMPRODUCT(Q11:Q41,' розрахунок'!D7:D37)/' розрахунок'!D38","v":9.5303356322086366},{"$f":"SUMPRODUCT(R11:R41,' розрахунок'!D7:D37)/' розрахунок'!D38","v":9075.6585041232629},{"$f":"SUMPRODUCT(S11:S41,' розрахунок'!D7:D37)/' розрахунок'!D38","v":37.997852683694965},{"$f":"SUMPRODUCT(T11:T41,' розрахунок'!D7:D37)/' розрахунок'!D38","v":10.554959078804158}]
[null,null,null,null,null,null,null,"Середньозважене значення теплоти згоряння:"]
[]
[]
[null,"Заступник начальника Диканського ЛВУМГ                                                                                                                                                                          31.05.2017р.         ",null,null,null,null,null,null,null,null,null,"Герасименко І.М.",null,null,null,null,null,null,null,null,null,null,null,null,null,{"$f":"TODAY()","v":"2017-06-01"}]
[]
[null,"Завідувач лабораторії  Диканського ЛВУМГ                                                                                                                                                                                                                                           ",null,null,null,null,null,null,null,null,null,"Горшковоз О.В.",null,null,null,null,null,null,null,null,null,null,null,null,null,{"$f":"TODAY()","v":"2017-06-01"}]
[]
[null,"Начальник служби ГВМ та М Диканського ЛВУМГ                                                                                                                                                                                                                     ",null,null,null,null,null,null,null,null,null,"Левадний С.А.",null,null,null,null,null,null,null,null,null,null,null,null,null,{"$f":"TODAY()","v":"2017-06-01"}]

{"sheet":" розрахунок","index":1,"n_rows":42,"n_cols":4,"rows_kept":42,"cut":false,"hidden":false,"merged":[[3,3,5,3],[0,0,0,1],[3,0,5,0],[3,1,5,1]]}
[]
["Додаток до Паспорту фізико-хімічних показників природного газу по маршруту №104"]
[]
["Число місяця","Теплота згоряння вища, МДж/м3","Полтавська область","Загальний обсяг газу, м3"]
[null,null,"Обсяг газу переданого за добу,  м3 "]
[null,null,"ГРС Диканька"]
[1,{"$f":"паспорт!S11","v":37.909700000000001},3840.31,{"$f":"SUM(C7:C7)","v":3840.31}]
[2,{"$f":"паспорт!S12","v":37.909700000000001},4396.43,4396.43]
[3,{"$f":"паспорт!S13","v":37.909700000000001},4927.12,4927.12]
[4,{"$f":"паспорт!S14","v":38.049500000000002},5628.36,5628.36]
[5,{"$f":"паспорт!S15","v":38.049500000000002},5184,5184]
[6,{"$f":"паспорт!S16","v":38.049500000000002},5324.02,5324.02]
[7,{"$f":"паспорт!S17","v":38.049500000000002},4297.91,4297.91]
[8,{"$f":"паспорт!S18","v":38.049500000000002},5285.2,5285.2]
[9,{"$f":"паспорт!S19","v":38.049500000000002},4816.03,4816.03]
[10,{"$f":"паспорт!S20","v":38.049500000000002},8548.2800000000007,8548.2800000000007]
[11,{"$f":"паспорт!S21","v":38.049500000000002},9260.5499999999993,9260.5499999999993]
[12,{"$f":"паспорт!S22","v":37.936700000000002},11865.4,11865.4]
[13,{"$f":"паспорт!S23","v":37.936700000000002},12983.81,12983.81]
[14,{"$f":"паспорт!S24","v":37.936700000000002},10593.9,10593.9]
[15,{"$f":"паспорт!S25","v":37.936700000000002},7761.62,7761.62]
[16,{"$f":"паспорт!S26","v":37.936700000000002},6003.32,6003.32]
[17,{"$f":"паспорт!S27","v":37.936700000000002},6913.72,6913.72]
[18,{"$f":"паспорт!S28","v":38.021799999999999},8698.52,8698.52]
[19,{"$f":"паспорт!S29","v":38.021799999999999},10725.4,10725.4]
[20,{"$f":"паспорт!S30","v":38.021799999999999},9383.2800000000007,9383.2800000000007]
[21,{"$f":"паспорт!S31","v":38.021799999999999},7331.33,7331.33]
[22,{"$f":"паспорт!S32","v":38.021799999999999},6641.77,6641.77]
[23,{"$f":"паспорт!S33","v":38.021799999999999},5905.41,5905.41]
[24,{"$f":"паспорт!S34","v":38.021799999999999},5224.7,5224.7]
[25,{"$f":"паспорт!S35","v":38.021799999999999},4423.58,4423.58]
[26,{"$f":"паспорт!S36","v":38.021799999999999},5092.68,5092.68]
[27,{"$f":"паспорт!S37","v":38.021799999999999},4983.68,4983.68]
[28,{"$f":"паспорт!S38","v":38.021799999999999},4489.62,4489.62]
[29,{"$f":"паспорт!S39","v":38.021799999999999},4983.6099999999997,4983.6099999999997]
[30,{"$f":"паспорт!S40","v":38.021799999999999},4703.88,4703.88]
[31,{"$f":"паспорт!S41","v":38.021799999999999},4920.07,4920.07]
["Загальний обсяг газу, м3",null,{"$f":"SUM(C7:C37)","v":205137.50999999995},{"$f":"SUM(D7:D37)","v":205137.50999999995}]
["Енергія, МДж",null,{"$f":"SUMPRODUCT(B7:B37,C7:C37)","v":7794784.8848800017},{"$f":"SUMPRODUCT(B7:B37,D7:D37)","v":7794784.8848800017}]
["Теплота згоряння (середньозважене значення за місяць), МДж/м³",null,{"$f":"C39/C38","v":37.997852683694965},37.997852683694965]
["Теплота згоряння (середньозважене значення за місяць), ккал/м³",null,{"$f":"C40*238.8459","v":9075.6313223045399},9075.6313223045399]
["Теплота згоряння (середньозважене значення за місяць), кВт*год./м³",null,{"$f":"C40/3.6","v":10.554959078804156},10.554959078804156]

{"sheet":"додаток","index":2,"n_rows":15,"n_cols":5,"rows_kept":15,"cut":false,"hidden":false,"merged":[[12,0,12,1],[10,0,10,1],[1,0,1,3],[0,0,0,1],[6,0,6,1],[3,2,3,4],[3,1,4,1],[3,0,4,0]]}
[]
["Додаток до Паспорту фізико-хімічних показників природного газу №",null,null,null,104]
[]
["Область","ГРС, прямий споживач","Cередньозважене значення вищої теплоти згоряння"]
[null,null," МДж/м³","ккал/м³","кВт*год./м³"]
["Полтавська область","ГРС Диканька",{"$f":"' розрахунок'!C40","v":37.997852683694965},{"$f":"' розрахунок'!C41","v":9075.6313223045399},{"$f":"' розрахунок'!C42","v":10.554959078804156}]
["Середньозважене значення вищої теплоти згоряння по маршруту №104",null,{"$f":"' розрахунок'!D40","v":37.997852683694965},{"$f":"' розрахунок'!D41","v":9075.6313223045399},{"$f":"' розрахунок'!D42","v":10.554959078804156}]
[]
[]
[]
["Заступник начальника Диканського ЛВУМГ                                                                                       ",null,"Герасименко І.М.",null,{"$f":"TODAY()","v":"2017-06-01"}]
[]
["Завідувач вимірювальної хіміко-аналітичної лабораторії лабораторії                                                                                                                                                                ",null,"Горшковоз О.В.",null,{"$f":"TODAY()","v":"2017-06-01"}]
[]
["Начальник службиГВ та М",null,"Левадний С.А.",null,{"$f":"TODAY()","v":"2017-06-01"}]

{"sheet":"variablesList","index":3,"n_rows":3,"n_cols":4,"rows_kept":3,"cut":false,"hidden":true,"merged":[]}
[3,"x:\\gaysin","10, 11, 24, 25, 127, 128, 132, 180, 207, 215","x:\\"]
[null,"x:\\Illinci"]
[null,"x:\\Talne"]